BEGIN:VCALENDAR
VERSION:2.0
PRODID:-//Crocoule - ECPv6.15.15//NONSGML v1.0//EN
CALSCALE:GREGORIAN
METHOD:PUBLISH
X-ORIGINAL-URL:https://crocoule.org
X-WR-CALDESC:Évènements pour Crocoule
REFRESH-INTERVAL;VALUE=DURATION:PT1H
X-Robots-Tag:noindex
X-PUBLISHED-TTL:PT1H
BEGIN:VTIMEZONE
TZID:Europe/Paris
BEGIN:DAYLIGHT
TZOFFSETFROM:+0100
TZOFFSETTO:+0200
TZNAME:CEST
DTSTART:20220327T010000
END:DAYLIGHT
BEGIN:STANDARD
TZOFFSETFROM:+0200
TZOFFSETTO:+0100
TZNAME:CET
DTSTART:20221030T010000
END:STANDARD
BEGIN:DAYLIGHT
TZOFFSETFROM:+0100
TZOFFSETTO:+0200
TZNAME:CEST
DTSTART:20230326T010000
END:DAYLIGHT
BEGIN:STANDARD
TZOFFSETFROM:+0200
TZOFFSETTO:+0100
TZNAME:CET
DTSTART:20231029T010000
END:STANDARD
BEGIN:DAYLIGHT
TZOFFSETFROM:+0100
TZOFFSETTO:+0200
TZNAME:CEST
DTSTART:20240331T010000
END:DAYLIGHT
BEGIN:STANDARD
TZOFFSETFROM:+0200
TZOFFSETTO:+0100
TZNAME:CET
DTSTART:20241027T010000
END:STANDARD
END:VTIMEZONE
BEGIN:VEVENT
DTSTART;VALUE=DATE:20230802
DTEND;VALUE=DATE:20230803
DTSTAMP:20260420T155714
CREATED:20230724T124130Z
LAST-MODIFIED:20230724T124130Z
UID:10001866-1690934400-1691020799@crocoule.org
SUMMARY:Musée Mobile
DESCRIPTION:Le Musée Mobile (MuMo) – Exposition temporaire\nEn tournée dans la Loire avec l’exposition Le Premier soleil\, le Musée Mobile (MuMo) fait étape à Saint Héand. \nÀ l’image d’un cirque qui arrive sur la place du village\, le camion-musée s’ouvre comme par magie et nous invite à une expérience inédite d’art contemporain. Viens découvrir les oeuvres d’une dizaine d’artistes internationaux et participer à un atelier de pratique artistique. \nEn effet\, le Musée Mobile prend la forme d’un container. Il se transforme en un musée\, ouvrant sur quatre espaces distincts. Chacun plongeant les enfants dans un univers différent : peinture\, sculpture\, installation\, vidéo\, design. A travers la découverte d’œuvres créées spécialement par une vingtaine d’artistes de la scène internationale les enfants de 6 à 12 ans pourront explorer la thématique sociale du « Vivre ensemble ». \nLES ORIGINES DU MUMO \nTout d’abord\, il est né de la conviction que l’art est un outil d’ouverture\, de partage et d’éveil au monde. En effet\, MuMo est un musée mobile destiné à aller à la rencontre des enfants. En particulier ceux qui se trouvent éloignés de l’accès à la culture\, en se rendant directement sur leur lieu de vie : cour d’école\, centre de loisirs\, parking d’un quartier… \nEnfin\, lancé sur les routes entre 2011 et 2016\, ce musée itinérant a parcouru 7 pays d’Europe et d’Afrique pour proposer aux enfants de 6 à 12 ans une expérience inédite de l’art contemporain\, à travers la découverte d’oeuvres créées spécialement par une vingtaine d’artistes de la scène internationale\, qui explorent la thématique sociale du «Vivre ensemble». \n\n\n	Similaire
URL:https://crocoule.org/notre-evenement/musee-mobile-6/
LOCATION:Saint Héand
CATEGORIES:06 ans +
END:VEVENT
END:VCALENDAR