BEGIN:VCALENDAR
VERSION:2.0
PRODID:-//Crocoule - ECPv6.15.15//NONSGML v1.0//EN
CALSCALE:GREGORIAN
METHOD:PUBLISH
X-ORIGINAL-URL:https://crocoule.org
X-WR-CALDESC:Évènements pour Crocoule
REFRESH-INTERVAL;VALUE=DURATION:PT1H
X-Robots-Tag:noindex
X-PUBLISHED-TTL:PT1H
BEGIN:VTIMEZONE
TZID:Europe/Paris
BEGIN:DAYLIGHT
TZOFFSETFROM:+0100
TZOFFSETTO:+0200
TZNAME:CEST
DTSTART:20220327T010000
END:DAYLIGHT
BEGIN:STANDARD
TZOFFSETFROM:+0200
TZOFFSETTO:+0100
TZNAME:CET
DTSTART:20221030T010000
END:STANDARD
BEGIN:DAYLIGHT
TZOFFSETFROM:+0100
TZOFFSETTO:+0200
TZNAME:CEST
DTSTART:20230326T010000
END:DAYLIGHT
BEGIN:STANDARD
TZOFFSETFROM:+0200
TZOFFSETTO:+0100
TZNAME:CET
DTSTART:20231029T010000
END:STANDARD
BEGIN:DAYLIGHT
TZOFFSETFROM:+0100
TZOFFSETTO:+0200
TZNAME:CEST
DTSTART:20240331T010000
END:DAYLIGHT
BEGIN:STANDARD
TZOFFSETFROM:+0200
TZOFFSETTO:+0100
TZNAME:CET
DTSTART:20241027T010000
END:STANDARD
END:VTIMEZONE
BEGIN:VEVENT
DTSTART;TZID=Europe/Paris:20230619T093000
DTEND;TZID=Europe/Paris:20230619T093000
DTSTAMP:20260422T163418
CREATED:20230621T121228Z
LAST-MODIFIED:20230621T121228Z
UID:10001589-1687167000-1687167000@crocoule.org
SUMMARY:BALADE NATURE AVEC DES ÂNES
DESCRIPTION:BOUGEZ DANS LE PILAT – BALADE NATURE AVEC DES ÂNES (À PARTIR DE 4 ANS) – SAINT-GENEST-MALIFAUX\nProfitez d’une balade nature avec des ânes pendant les vacances ! \nAprès avoir brossé et préparé les ânes de bât ! Partez en balade découverte sur les chemins du Pilat accompagné de Yves. Accompagnateur « Mont’ânes » \, a partir de 4 ans.\nRéservation obligatoire.\n\nMerci de compléter le formulaire de réservation une fois le paiement effectué et ceci avant de fermer votre page internet. Ces données sont indispensables au bon déroulement de l’activité. Présence d’une personne majeure indispensable pour accompagner les mineurs. Une tenue adaptée aux activités de pleine nature est exigée.\n\n\nEnsuite\, Yves\, forestier et accompagnateur montagne vous emmène à la découverte de sites remarquables du Haut-Pilat : Vallée du Furan\, Mont Chaussitre et sa réserve naturelle\, Gimel et sa tourbière…\n\nAccompagnateur Mont’ânes\, Yves vous propose de découvrir le Haut-Pilat en compagnie de ses 3 ânes. Pour les personnes à mobilité réduite ou pour les petits enfants\, possibilité de partir avec l’Escargoline\, petite voiture à 3 roues\, tractée en toute sécurité et permettant des balades sur les chemins.\n\nMont’ânes – Saint Genest Malifaux \nPour votre randonnée avec un âne\, Yves vous propose plusieurs formules : à la journée\, à la demi-journée. Les ânes peuvent être bâtés pour porter les sacs et/ou sellés pour que les enfants puissent les monter . Dans tous les cas\, Yves partira avec vous\, c’est notre spécificité ! Vous pourrez ainsi profiter de ses connaissances. Le choix de la randonnées sera fait en fonction de vos envies. \n\n\n	Similaire
URL:https://crocoule.org/notre-evenement/balade-nature-avec-des-anes/
LOCATION:Saint-Gnest-Malifaux
CATEGORIES:04 ans +
END:VEVENT
END:VCALENDAR