BEGIN:VCALENDAR
VERSION:2.0
PRODID:-//Crocoule - ECPv6.15.15//NONSGML v1.0//EN
CALSCALE:GREGORIAN
METHOD:PUBLISH
X-ORIGINAL-URL:https://crocoule.org
X-WR-CALDESC:Évènements pour Crocoule
REFRESH-INTERVAL;VALUE=DURATION:PT1H
X-Robots-Tag:noindex
X-PUBLISHED-TTL:PT1H
BEGIN:VTIMEZONE
TZID:Europe/Paris
BEGIN:DAYLIGHT
TZOFFSETFROM:+0100
TZOFFSETTO:+0200
TZNAME:CEST
DTSTART:20230326T010000
END:DAYLIGHT
BEGIN:STANDARD
TZOFFSETFROM:+0200
TZOFFSETTO:+0100
TZNAME:CET
DTSTART:20231029T010000
END:STANDARD
BEGIN:DAYLIGHT
TZOFFSETFROM:+0100
TZOFFSETTO:+0200
TZNAME:CEST
DTSTART:20240331T010000
END:DAYLIGHT
BEGIN:STANDARD
TZOFFSETFROM:+0200
TZOFFSETTO:+0100
TZNAME:CET
DTSTART:20241027T010000
END:STANDARD
BEGIN:DAYLIGHT
TZOFFSETFROM:+0100
TZOFFSETTO:+0200
TZNAME:CEST
DTSTART:20250330T010000
END:DAYLIGHT
BEGIN:STANDARD
TZOFFSETFROM:+0200
TZOFFSETTO:+0100
TZNAME:CET
DTSTART:20251026T010000
END:STANDARD
END:VTIMEZONE
BEGIN:VEVENT
DTSTART;TZID=Europe/Paris:20241019T140000
DTEND;TZID=Europe/Paris:20241019T170000
DTSTAMP:20260421T170136
CREATED:20240910T090008Z
LAST-MODIFIED:20240923T203342Z
UID:10008978-1729346400-1729357200@crocoule.org
SUMMARY:ARCHI' CONTE
DESCRIPTION:ARCHI’ CONTE\nDans le cadre des Journées Nationales de l’Architecture\, la Maison Ligérienne de l’Architecture et des Territoires te propose de découvrir l’Architecture à partir de la lecture d’un livre. Un atelier de découpage et collage ludique est ensuite proposé pour imaginer ta cabane rêvée. \nDès 3 ans à 10 h puis Dès 7 ans à 14h – Gratuit\nSi ton regard se pose sur ces mots c’est que toi aussi tu fais partie de la Haute Congrégation des Super Parents (HCSP : rien que ça !  ????) investis en quête d’idées de sorties familiales dans la Loire et la Haute-Loire pour son/ses bambin(s) ! \nTu ne me crois pas ? Si si\, promis Bienvenue et toutes mes Félicitations ! Tu es sur la bonne page … Et je vais te le prouver ! Tu es prêt ? Allez\, viens je t’emmène au fil des pages du Crocoule ! \nTout d’abord\, Le Crocoule Magazine c’est quoi ? Le Crocoule\, papier ou web\, c’est LE magazine qui porte en lui la douceur et la bienveillance dont tu as besoin en tant que parent et qui facilite tes recherches d’activités loisirs\, culturelles\, nature pour tous les budgets et tous les goûts ! Et ça c’est une promesse ? Tu veux en savoir +\, suis moi par ici ! \nEt ce n’est pas tout … Si tu as soif d’aventure Le Crocoule Express est fait pour toi !\n  \n\n\n	Similaire
URL:https://crocoule.org/notre-evenement/archi-conte/2024-10-19/2/
LOCATION:Saint-Genest-Malifaux\, 42224
CATEGORIES:03 ans +,Activité pendant les vacances,En famille,Gratuit,Intérieur,Tous les événements
END:VEVENT
BEGIN:VEVENT
DTSTART;TZID=Europe/Paris:20241019T100000
DTEND;TZID=Europe/Paris:20241019T170000
DTSTAMP:20260421T170136
CREATED:20240910T085215Z
LAST-MODIFIED:20240923T203927Z
UID:10008976-1729332000-1729357200@crocoule.org
SUMMARY:ATELIER CONSTRUCTIONS GÉANTES KAPLA
DESCRIPTION:ATELIER CONSTRUCTIONS GÉANTES KAPLA\nDans le cadre des Journées Nationales de l’Architecture\, la Maison Ligérienne de l’Architecture et des Territoires propose aux enfants et adultes de tous âges un chantier géant avec ces célèbres planchettes de bois Kapla. Viens relever des défis fous et laisse place à ton imagination ! \nDès 3 ans – Gratuit\nSi ton regard se pose sur ces mots c’est que toi aussi tu fais partie de la Haute Congrégation des Super Parents (HCSP : rien que ça !  ????) investis en quête d’idées de sorties familiales dans la Loire et la Haute-Loire pour son/ses bambin(s) ! \nTu ne me crois pas ? Si si\, promis Bienvenue et toutes mes Félicitations ! Tu es sur la bonne page … Et je vais te le prouver ! Tu es prêt ? Allez\, viens je t’emmène au fil des pages du Crocoule ! \nTout d’abord\, Le Crocoule Magazine c’est quoi ? Le Crocoule\, papier ou web\, c’est LE magazine qui porte en lui la douceur et la bienveillance dont tu as besoin en tant que parent et qui facilite tes recherches d’activités loisirs\, culturelles\, nature pour tous les budgets et tous les goûts ! Et ça c’est une promesse ? Tu veux en savoir +\, suis moi par ici ! \nEt ce n’est pas tout … Si tu as soif d’aventure Le Crocoule Express est fait pour toi !\n  \n\n\n	Similaire
URL:https://crocoule.org/notre-evenement/atelier-constructions-geantes-kapla/
LOCATION:Saint-Genest-Malifaux\, 42224
CATEGORIES:03 ans +,Activité pendant les vacances,En famille,Gratuit,Intérieur,Tous les événements
END:VEVENT
BEGIN:VEVENT
DTSTART;TZID=Europe/Paris:20241019T100000
DTEND;TZID=Europe/Paris:20241019T120000
DTSTAMP:20260421T170136
CREATED:20240910T090008Z
LAST-MODIFIED:20240923T203342Z
UID:10008977-1729332000-1729339200@crocoule.org
SUMMARY:ARCHI' CONTE
DESCRIPTION:ARCHI’ CONTE\nDans le cadre des Journées Nationales de l’Architecture\, la Maison Ligérienne de l’Architecture et des Territoires te propose de découvrir l’Architecture à partir de la lecture d’un livre. Un atelier de découpage et collage ludique est ensuite proposé pour imaginer ta cabane rêvée. \nDès 3 ans à 10 h puis Dès 7 ans à 14h – Gratuit\nSi ton regard se pose sur ces mots c’est que toi aussi tu fais partie de la Haute Congrégation des Super Parents (HCSP : rien que ça !  ????) investis en quête d’idées de sorties familiales dans la Loire et la Haute-Loire pour son/ses bambin(s) ! \nTu ne me crois pas ? Si si\, promis Bienvenue et toutes mes Félicitations ! Tu es sur la bonne page … Et je vais te le prouver ! Tu es prêt ? Allez\, viens je t’emmène au fil des pages du Crocoule ! \nTout d’abord\, Le Crocoule Magazine c’est quoi ? Le Crocoule\, papier ou web\, c’est LE magazine qui porte en lui la douceur et la bienveillance dont tu as besoin en tant que parent et qui facilite tes recherches d’activités loisirs\, culturelles\, nature pour tous les budgets et tous les goûts ! Et ça c’est une promesse ? Tu veux en savoir +\, suis moi par ici ! \nEt ce n’est pas tout … Si tu as soif d’aventure Le Crocoule Express est fait pour toi !\n  \n\n\n	Similaire
URL:https://crocoule.org/notre-evenement/archi-conte/2024-10-19/1/
LOCATION:Saint-Genest-Malifaux\, 42224
CATEGORIES:03 ans +,Activité pendant les vacances,En famille,Gratuit,Intérieur,Tous les événements
END:VEVENT
END:VCALENDAR