BEGIN:VCALENDAR
VERSION:2.0
PRODID:-//Crocoule - ECPv6.15.20//NONSGML v1.0//EN
CALSCALE:GREGORIAN
METHOD:PUBLISH
X-ORIGINAL-URL:https://crocoule.org
X-WR-CALDESC:Évènements pour Crocoule
REFRESH-INTERVAL;VALUE=DURATION:PT1H
X-Robots-Tag:noindex
X-PUBLISHED-TTL:PT1H
BEGIN:VTIMEZONE
TZID:Europe/Paris
BEGIN:DAYLIGHT
TZOFFSETFROM:+0100
TZOFFSETTO:+0200
TZNAME:CEST
DTSTART:20230326T010000
END:DAYLIGHT
BEGIN:STANDARD
TZOFFSETFROM:+0200
TZOFFSETTO:+0100
TZNAME:CET
DTSTART:20231029T010000
END:STANDARD
BEGIN:DAYLIGHT
TZOFFSETFROM:+0100
TZOFFSETTO:+0200
TZNAME:CEST
DTSTART:20240331T010000
END:DAYLIGHT
BEGIN:STANDARD
TZOFFSETFROM:+0200
TZOFFSETTO:+0100
TZNAME:CET
DTSTART:20241027T010000
END:STANDARD
BEGIN:DAYLIGHT
TZOFFSETFROM:+0100
TZOFFSETTO:+0200
TZNAME:CEST
DTSTART:20250330T010000
END:DAYLIGHT
BEGIN:STANDARD
TZOFFSETFROM:+0200
TZOFFSETTO:+0100
TZNAME:CET
DTSTART:20251026T010000
END:STANDARD
END:VTIMEZONE
BEGIN:VEVENT
DTSTART;VALUE=DATE:20241206
DTEND;VALUE=DATE:20241208
DTSTAMP:20260423T161937
CREATED:20241128T093353Z
LAST-MODIFIED:20241128T093353Z
UID:10010273-1733443200-1733615999@crocoule.org
SUMMARY:Marché de Noël de Saint-Genest-Lerpt
DESCRIPTION:Marché de Noël de Saint-Genest-Lerpt\nÀ l’occasion des fêtes de fin d’année\, la ville de Saint-Genest-Lerpt organise le traditionnel marché de Noël qui se tiendra place Carnot. \nLe marché sera nocturne et diurne. Il aura lieu vendredi 6 décembre de 17h à 21h et samedi 7 décembre de 9h à 17h30. \nDe nombreux exposants : artisans\, producteurs\, créateurs… Mais aussi buvette\, vin chaud\, food-truck… \nL’ouverture du marché de Noël se fera vendredi 6 à 17h lors du goûter offert aux enfants. \nPlus d’infos juste ici !\n  \n\n\n	Similaire
URL:https://crocoule.org/notre-evenement/marche-de-noel-de-saint-genest-lerpt/
LOCATION:Saint-Genest-Lerpt\, 42530
CATEGORIES:En famille,Exterieur,Gratuit,Tous les événements,Tout public
END:VEVENT
END:VCALENDAR