BEGIN:VCALENDAR
VERSION:2.0
PRODID:-//Crocoule - ECPv6.15.15//NONSGML v1.0//EN
CALSCALE:GREGORIAN
METHOD:PUBLISH
X-ORIGINAL-URL:https://crocoule.org
X-WR-CALDESC:Évènements pour Crocoule
REFRESH-INTERVAL;VALUE=DURATION:PT1H
X-Robots-Tag:noindex
X-PUBLISHED-TTL:PT1H
BEGIN:VTIMEZONE
TZID:Europe/Paris
BEGIN:DAYLIGHT
TZOFFSETFROM:+0100
TZOFFSETTO:+0200
TZNAME:CEST
DTSTART:20230326T010000
END:DAYLIGHT
BEGIN:STANDARD
TZOFFSETFROM:+0200
TZOFFSETTO:+0100
TZNAME:CET
DTSTART:20231029T010000
END:STANDARD
BEGIN:DAYLIGHT
TZOFFSETFROM:+0100
TZOFFSETTO:+0200
TZNAME:CEST
DTSTART:20240331T010000
END:DAYLIGHT
BEGIN:STANDARD
TZOFFSETFROM:+0200
TZOFFSETTO:+0100
TZNAME:CET
DTSTART:20241027T010000
END:STANDARD
BEGIN:DAYLIGHT
TZOFFSETFROM:+0100
TZOFFSETTO:+0200
TZNAME:CEST
DTSTART:20250330T010000
END:DAYLIGHT
BEGIN:STANDARD
TZOFFSETFROM:+0200
TZOFFSETTO:+0100
TZNAME:CET
DTSTART:20251026T010000
END:STANDARD
END:VTIMEZONE
BEGIN:VEVENT
DTSTART;VALUE=DATE:20241130
DTEND;VALUE=DATE:20241202
DTSTAMP:20260420T185741
CREATED:20241127T203051Z
LAST-MODIFIED:20241127T203051Z
UID:10010261-1732924800-1733097599@crocoule.org
SUMMARY:Marché de Noël de Roche-la-Molière
DESCRIPTION:Marché de Noël de Roche-la-Molière\nLes 30 novembre et 1er décembre\, les Vitrines de Roche vous présentent le Marché de Noel de Roche-la-Molière. \nRendez-vous à la Maison des Associations\, Rue de la République\, où 40 exposants seront présents de 10H à 18H30 : créateurs\, artisanat\, producteurs\, Père Noel\, photographe\, défilé “pulls moches de noël” ! \nPlus d’infos ici !\n  \n\n\n	Similaire
URL:https://crocoule.org/notre-evenement/marche-de-noel-de-roche-la-moliere/
LOCATION:Roche-la-Molière\, 42230
CATEGORIES:En famille,Exterieur,Gratuit,Tous les événements,Tout public
END:VEVENT
END:VCALENDAR