BEGIN:VCALENDAR
VERSION:2.0
PRODID:-//Crocoule - ECPv6.15.15//NONSGML v1.0//EN
CALSCALE:GREGORIAN
METHOD:PUBLISH
X-WR-CALNAME:Crocoule
X-ORIGINAL-URL:https://crocoule.org
X-WR-CALDESC:Évènements pour Crocoule
REFRESH-INTERVAL;VALUE=DURATION:PT1H
X-Robots-Tag:noindex
X-PUBLISHED-TTL:PT1H
BEGIN:VTIMEZONE
TZID:Europe/Paris
BEGIN:DAYLIGHT
TZOFFSETFROM:+0100
TZOFFSETTO:+0200
TZNAME:CEST
DTSTART:20220327T010000
END:DAYLIGHT
BEGIN:STANDARD
TZOFFSETFROM:+0200
TZOFFSETTO:+0100
TZNAME:CET
DTSTART:20221030T010000
END:STANDARD
BEGIN:DAYLIGHT
TZOFFSETFROM:+0100
TZOFFSETTO:+0200
TZNAME:CEST
DTSTART:20230326T010000
END:DAYLIGHT
BEGIN:STANDARD
TZOFFSETFROM:+0200
TZOFFSETTO:+0100
TZNAME:CET
DTSTART:20231029T010000
END:STANDARD
BEGIN:DAYLIGHT
TZOFFSETFROM:+0100
TZOFFSETTO:+0200
TZNAME:CEST
DTSTART:20240331T010000
END:DAYLIGHT
BEGIN:STANDARD
TZOFFSETFROM:+0200
TZOFFSETTO:+0100
TZNAME:CET
DTSTART:20241027T010000
END:STANDARD
END:VTIMEZONE
BEGIN:VEVENT
DTSTART;TZID=Europe/Paris:20230725T213000
DTEND;TZID=Europe/Paris:20230725T224000
DTSTAMP:20260422T214635
CREATED:20230515T095310Z
LAST-MODIFIED:20230515T095310Z
UID:10001332-1690320600-1690324800@crocoule.org
SUMMARY:AUX PUCES SUPERPHONIQUES
DESCRIPTION:“AUX PUCES SUPERPHONIQUES” – NOCTURNE DU PRIEURÉ DE CHAMPDIEU\n« Aux puces superphoniques » de Bric à Brac Orchestra (détournement d’objets).Dans un cabaret de bric\, ou un concert de broc\, Octave et Domi partagent leur vision sensible sur le monde\, avec humour des objets et amour des mots. \nTout d’abord\, c’est un spectacle qui hume le café frais et qui sent la mécanique méta-empirique.\nUn véritable opus superphonique !\nAux Puces Superphoniques est un spectacle musical en duo\, conçu et écrit pour un public familial\, à partir de 6 ans\, d’une durée de 1h10.\n“Mesdames et Messieurs\, aujourd’hui\, c’est déballage ! Devant vos yeux ébahis\, qui nous dévisagent\, nous dévoilons nos découvertes instrumentales\, nos inventions vous sont offertes sur un étal !”. \n\n\nContact\n\n\nPrieuré Place de l’église 42600 Champdieu \nTéléphone : 04 77 97 02 68 \nPRIEURÉ DE CHAMPDIEU – CHAMPDIEU\nLe Prieuré de Champdieu\, situé dans la Loire\, est un site historique d’une grande beauté et d’une grande importance culturelle. Tout d’abord\, le prieuré se distingue par son architecture remarquable. Mêlant des éléments romans et gothiques. De plus\, il possède une façade imposante ornée de sculptures détaillées. En outre\, à l’intérieur\, on peut admirer des fresques médiévales et des chapiteaux finement sculptés. Témoignant du savoir-faire artistique de l’époque. \nEnsuite\, le prieuré abrite une superbe église. Elle offre un espace de recueillement et de contemplation. De plus\, il est entouré d’un paisible jardin médiéval. Où les visiteurs peuvent se promener et apprécier la tranquillité du lieu. Enfin\, le Prieuré de Champdieu est ouvert au public\, offrant des visites guidées qui permettent de découvrir son histoire fascinante et son patrimoine exceptionnel. En résumé\, le Prieuré de Champdieu est un joyau architectural chargé d’histoire\, où l’art et la spiritualité se mêlent harmonieusement\, offrant une expérience enrichissante aux visiteurs. \n\n\n\n\n	Similaire
URL:https://crocoule.org/notre-evenement/aux-puces-superphoniques/
LOCATION:Prieuré – Champdieu\, Prieuré Place de l'église\, Champdieu\, 42600
CATEGORIES:06 ans +,Activité en semaine
END:VEVENT
END:VCALENDAR