BEGIN:VCALENDAR
VERSION:2.0
PRODID:-//Crocoule - ECPv6.15.15//NONSGML v1.0//EN
CALSCALE:GREGORIAN
METHOD:PUBLISH
X-WR-CALNAME:Crocoule
X-ORIGINAL-URL:https://crocoule.org
X-WR-CALDESC:Évènements pour Crocoule
REFRESH-INTERVAL;VALUE=DURATION:PT1H
X-Robots-Tag:noindex
X-PUBLISHED-TTL:PT1H
BEGIN:VTIMEZONE
TZID:Europe/Paris
BEGIN:DAYLIGHT
TZOFFSETFROM:+0100
TZOFFSETTO:+0200
TZNAME:CEST
DTSTART:20250330T010000
END:DAYLIGHT
BEGIN:STANDARD
TZOFFSETFROM:+0200
TZOFFSETTO:+0100
TZNAME:CET
DTSTART:20251026T010000
END:STANDARD
BEGIN:DAYLIGHT
TZOFFSETFROM:+0100
TZOFFSETTO:+0200
TZNAME:CEST
DTSTART:20260329T010000
END:DAYLIGHT
BEGIN:STANDARD
TZOFFSETFROM:+0200
TZOFFSETTO:+0100
TZNAME:CET
DTSTART:20261025T010000
END:STANDARD
BEGIN:DAYLIGHT
TZOFFSETFROM:+0100
TZOFFSETTO:+0200
TZNAME:CEST
DTSTART:20270328T010000
END:DAYLIGHT
BEGIN:STANDARD
TZOFFSETFROM:+0200
TZOFFSETTO:+0100
TZNAME:CET
DTSTART:20271031T010000
END:STANDARD
END:VTIMEZONE
BEGIN:VEVENT
DTSTART;TZID=Europe/Paris:20260516T210000
DTEND;TZID=Europe/Paris:20260516T210000
DTSTAMP:20260420T042511
CREATED:20260228T170412Z
LAST-MODIFIED:20260228T170412Z
UID:10012849-1778965200-1778965200@crocoule.org
SUMMARY:MARS | Les étoiles au télescope RC600
DESCRIPTION:Le temps d’une soirée en compagnie d’un médiateur en astronomie\, visitez l’observatoire afin de comprendre son fonctionnement\, puis embarquez sous la coupole pour un voyage interplanétaire exceptionnel. Découvrez les mystères de nos voisines cosmiques – planètes géantes\, anneaux de Saturne\, à l’œil nu et à l’aide du grand télescope RC600. \nA savoir :\nA partir de 8 ans\nDurée 3h\nLes mineurs doivent être accompagnés d’un adulte \n\n\n	Similaire
URL:https://crocoule.org/notre-evenement/mars-les-etoiles-au-telescope-rc600-3/
LOCATION:Planète Mars\, Mars\, 07320
CATEGORIES:Tous les événements,Tout public
END:VEVENT
END:VCALENDAR