BEGIN:VCALENDAR
VERSION:2.0
PRODID:-//Crocoule - ECPv6.15.20//NONSGML v1.0//EN
CALSCALE:GREGORIAN
METHOD:PUBLISH
X-ORIGINAL-URL:https://crocoule.org
X-WR-CALDESC:Évènements pour Crocoule
REFRESH-INTERVAL;VALUE=DURATION:PT1H
X-Robots-Tag:noindex
X-PUBLISHED-TTL:PT1H
BEGIN:VTIMEZONE
TZID:Europe/Paris
BEGIN:DAYLIGHT
TZOFFSETFROM:+0100
TZOFFSETTO:+0200
TZNAME:CEST
DTSTART:20220327T010000
END:DAYLIGHT
BEGIN:STANDARD
TZOFFSETFROM:+0200
TZOFFSETTO:+0100
TZNAME:CET
DTSTART:20221030T010000
END:STANDARD
BEGIN:DAYLIGHT
TZOFFSETFROM:+0100
TZOFFSETTO:+0200
TZNAME:CEST
DTSTART:20230326T010000
END:DAYLIGHT
BEGIN:STANDARD
TZOFFSETFROM:+0200
TZOFFSETTO:+0100
TZNAME:CET
DTSTART:20231029T010000
END:STANDARD
BEGIN:DAYLIGHT
TZOFFSETFROM:+0100
TZOFFSETTO:+0200
TZNAME:CEST
DTSTART:20240331T010000
END:DAYLIGHT
BEGIN:STANDARD
TZOFFSETFROM:+0200
TZOFFSETTO:+0100
TZNAME:CET
DTSTART:20241027T010000
END:STANDARD
END:VTIMEZONE
BEGIN:VEVENT
DTSTART;TZID=Europe/Paris:20230726T100000
DTEND;TZID=Europe/Paris:20230726T120000
DTSTAMP:20260423T204633
CREATED:20230724T080032Z
LAST-MODIFIED:20230724T080032Z
UID:10001835-1690365600-1690372800@crocoule.org
SUMMARY:Sur la trace des plantes sauvages
DESCRIPTION:Sur la trace des plantes sauvages et du castor au bord du Lignon\nAllez à la rencontre des traces laissées par les castors . Ce sera aussi l’occasion de découvrir des plantes sauvages comestibles . Réservation obligatoire dans les bureaux de l’Office de Tourisme ou sur le site internet www.legoutdusauvage.com \nUne sortie pour toute la famille à la découverte d’un milieu riche de vie et de fraîcheur : les bords de rivières. Avec Charlie Braesch « Le gout du sauvage » animateur nature\, spécialiste des plantes sauvages. Pour adulte et enfant obligatoirement accompagné d’un adulte. \nMonistrol-sur-Loire – Haute-Loire \nonistrol-sur-Loire est une commune française située dans le département de la Haute-Loire\, en région Auvergne-Rhône-Alpes. Nichée au bord de la Loire\, cette charmante ville offre un cadre naturel exceptionnel\, entre montagnes et cours d’eau\, qui en fait un lieu prisé par les amoureux de la nature et les adeptes d’activités de plein air. \nLa rivière Loire\, qui traverse la commune\, apporte une touche de sérénité et offre de belles balades le long de ses rives. Les paysages environnants sont également marqués par les montagnes environnantes\, ce qui en fait un véritable paradis pour les randonneurs et les passionnés d’escalade. Les activités comme la pêche\, le canoë-kayak et le VTT trouvent également leur place dans ce décor naturel d’exception. \nMonistrol-sur-Loire est une ville qui porte fièrement son patrimoine historique. En flânant dans ses rues\, on découvre de belles maisons anciennes et des édifices historiques qui témoignent de son passé riche en histoire. Parmi les sites remarquables\, on peut citer l’église Saint-André qui arbore une architecture typique de la région et qui vaut le détour pour les amateurs d’art et d’histoire. \nOutre ses attraits naturels et patrimoniaux\, Monistrol-sur-Loire est également un centre économique dynamique de la région. La commune accueille divers commerces\, industries et entreprises\, contribuant ainsi au dynamisme de son tissu économique local. \n\n\n	Similaire
URL:https://crocoule.org/notre-evenement/sur-la-trace-des-plantes-sauvages/
LOCATION:Parking du pont de lignon –  Monistrol-sur-Loire\, Parking du pont de lignon\, Monistrol-sur-Loire\, 43120
END:VEVENT
END:VCALENDAR