BEGIN:VCALENDAR
VERSION:2.0
PRODID:-//Crocoule - ECPv6.15.15//NONSGML v1.0//EN
CALSCALE:GREGORIAN
METHOD:PUBLISH
X-ORIGINAL-URL:https://crocoule.org
X-WR-CALDESC:Évènements pour Crocoule
REFRESH-INTERVAL;VALUE=DURATION:PT1H
X-Robots-Tag:noindex
X-PUBLISHED-TTL:PT1H
BEGIN:VTIMEZONE
TZID:Europe/Paris
BEGIN:DAYLIGHT
TZOFFSETFROM:+0100
TZOFFSETTO:+0200
TZNAME:CEST
DTSTART:20220327T010000
END:DAYLIGHT
BEGIN:STANDARD
TZOFFSETFROM:+0200
TZOFFSETTO:+0100
TZNAME:CET
DTSTART:20221030T010000
END:STANDARD
BEGIN:DAYLIGHT
TZOFFSETFROM:+0100
TZOFFSETTO:+0200
TZNAME:CEST
DTSTART:20230326T010000
END:DAYLIGHT
BEGIN:STANDARD
TZOFFSETFROM:+0200
TZOFFSETTO:+0100
TZNAME:CET
DTSTART:20231029T010000
END:STANDARD
BEGIN:DAYLIGHT
TZOFFSETFROM:+0100
TZOFFSETTO:+0200
TZNAME:CEST
DTSTART:20240331T010000
END:DAYLIGHT
BEGIN:STANDARD
TZOFFSETFROM:+0200
TZOFFSETTO:+0100
TZNAME:CET
DTSTART:20241027T010000
END:STANDARD
END:VTIMEZONE
BEGIN:VEVENT
DTSTART;TZID=Europe/Paris:20230728T170000
DTEND;TZID=Europe/Paris:20230728T190000
DTSTAMP:20260421T131205
CREATED:20230724T094312Z
LAST-MODIFIED:20230724T094312Z
UID:10001848-1690563600-1690570800@crocoule.org
SUMMARY:// BALADE POÉTICO-SCIENTIFIQUE //
DESCRIPTION:// BALADE POÉTICO-SCIENTIFIQUE // CONVERSATION AVEC MA FORÊT* doublée en LSF\n\n\nUne interprète de la vie sauvage vous traduit la voix des arbres et des bêtes\, et vous aide à leur poser toutes sortes de questions ! Un moment poétique\, drôle et scientifique à la fois. La balade-spectacle est aussi accessible aux sourds (LSF). \n\n\n\n\n\nThème : « en famille » ou « balade autrement »\nAnimation : Madame Grenouille\, guide naturaliste\, avec une interprète en Langue des Signes\nSur réservation\, prévoir chaussures de randonnée.\nDurée 2h15\, sentier facile 3\,5km\, à partir de 8ans. \nTARIFS\n\nAdulte : 5 € \nTarif réduit : 3 € (gratuit – de 18 ans). \nContacts\nLac de Malaguet\n43270 Monlet\nINSCRITPION \n\n\nLAC DE MALAGUET – HAUTE LOIRE \nL’itinéraire est accessible aux piétons uniquement et une règlementation spécifique doit être respectée pour que ce lieu conserve tout son charme. \nTout d’abord\, le lac de Malaguet est un lac artificiel situé en Haute-Loire à 1025 m d’altitude\, à la limite de l’Auvergne et du Velay\, au cœur de Parc Naturel Régional du Livradois Forez\, sur le plateau qui s’étend de La Chaise-Dieu à d’Allègre. Une digue aménagée en aval est à l’origine de ce plan d’eau de 22 hectares. En effet\, a l’origine\, le lac devait être une étendue marécageuse séparée en deux par un gué\, d’où son nom : « mauvais gué » qui a donné « Maleguet » en 1548 puis Malaguet par la suite. Le lac se présente sous la forme d’une cuvette allongée. \nConstruit par les Barons d’Allègre\, on trouve les premières traces de son existence au XIVème siècle. A cette époque\, le lac est destiné à la pisciculture. Cette activité se poursuivra jusqu’au milieu du XXème siècle. C’est ensuite la pêche de loisir qui prendra le relais. \n\n\n\n\n\n\n	Similaire
URL:https://crocoule.org/notre-evenement/balade-poetico-scientifique/
LOCATION:Parking du Lac de Malaguet
CATEGORIES:08 ans +
END:VEVENT
BEGIN:VEVENT
DTSTART;TZID=Europe/Paris:20230727T100000
DTEND;TZID=Europe/Paris:20230727T100000
DTSTAMP:20260421T131205
CREATED:20230724T084230Z
LAST-MODIFIED:20230724T084230Z
UID:10001838-1690452000-1690452000@crocoule.org
SUMMARY:ATELIER MOULAGE
DESCRIPTION:// ATELIER MOULAGE // SUR LA TRACE DES ANIMAUX\nDécouvrez l’atelier moulage pendant les vacances. Les animaux sont discrets mais laissent de nombreuses traces de leur passage. Révélez les indices de leur présence et réalisez le moulage de leurs empreintes. Par Rémy Désécures\, animateur nature. \nDescription\nInfos : Service patrimoine au 04 71 06 62 40\nRéservation obligatoire sur patrimoine.public@lepuyenvelay.fr\nDurée : 1h15 \nRDV Parking du Lac de Malaguet Monlet \nInscription  \nC’est quoi le moulage ? \nLe moulage\, également connu sous le nom de « moulage par injection »\, est un processus de fabrication très répandu. Tout d’abord\, il commence par la création d’un moule\, qui est généralement fabriqué en acier ou en aluminium. \nEnsuite\, la matière première\, souvent sous forme de granulés ou de liquide\, est chauffée jusqu’à atteindre un état liquide ou semi-liquide. Après cela\, le matériau est injecté dans le moule à haute pression\, permettant ainsi de remplir précisément toutes les cavités et formes du moule. Une fois refroidi et solidifié\, le moule est ouvert\, et la pièce moulée est retirée. \nCe processus offre une grande précision et une excellente reproductibilité pour la fabrication de pièces en grande quantité. Le moulage est utilisé dans de nombreux secteurs industriels\, tels que l’automobile\, l’électronique\, et les produits de consommation\, car il permet de produire des pièces complexes avec des détails fins à un coût relativement bas. \nEn conclusion\, le moulage est une technique de fabrication essentielle qui joue un rôle clé dans la production de nombreux produits que nous utilisons au quotidien. \n\n\n	Similaire
URL:https://crocoule.org/notre-evenement/atelier-moulage/
LOCATION:Parking du Lac de Malaguet
CATEGORIES:06 ans +
END:VEVENT
END:VCALENDAR