BEGIN:VCALENDAR
VERSION:2.0
PRODID:-//Crocoule - ECPv6.15.20//NONSGML v1.0//EN
CALSCALE:GREGORIAN
METHOD:PUBLISH
X-ORIGINAL-URL:https://crocoule.org
X-WR-CALDESC:Évènements pour Crocoule
REFRESH-INTERVAL;VALUE=DURATION:PT1H
X-Robots-Tag:noindex
X-PUBLISHED-TTL:PT1H
BEGIN:VTIMEZONE
TZID:Europe/Paris
BEGIN:DAYLIGHT
TZOFFSETFROM:+0100
TZOFFSETTO:+0200
TZNAME:CEST
DTSTART:20220327T010000
END:DAYLIGHT
BEGIN:STANDARD
TZOFFSETFROM:+0200
TZOFFSETTO:+0100
TZNAME:CET
DTSTART:20221030T010000
END:STANDARD
BEGIN:DAYLIGHT
TZOFFSETFROM:+0100
TZOFFSETTO:+0200
TZNAME:CEST
DTSTART:20230326T010000
END:DAYLIGHT
BEGIN:STANDARD
TZOFFSETFROM:+0200
TZOFFSETTO:+0100
TZNAME:CET
DTSTART:20231029T010000
END:STANDARD
BEGIN:DAYLIGHT
TZOFFSETFROM:+0100
TZOFFSETTO:+0200
TZNAME:CEST
DTSTART:20240331T010000
END:DAYLIGHT
BEGIN:STANDARD
TZOFFSETFROM:+0200
TZOFFSETTO:+0100
TZNAME:CET
DTSTART:20241027T010000
END:STANDARD
END:VTIMEZONE
BEGIN:VEVENT
DTSTART;TZID=Europe/Paris:20230811T170000
DTEND;TZID=Europe/Paris:20230811T190000
DTSTAMP:20260424T144641
CREATED:20230801T092700Z
LAST-MODIFIED:20230801T092700Z
UID:10002162-1691773200-1691780400@crocoule.org
SUMMARY:BALADE POÉTICO-SCIENTIFIQUE
DESCRIPTION:// BALADE POÉTICO-SCIENTIFIQUE // CONVERSATION AVEC UN TRITON\nProfitez d’une balade poético-scienfique pendant les vacances. \nUne interprète de la vie sauvage vous traduit la voix des arbres et des bêtes\, et vous aide à leur poser toutes sortes de questions ! Un moment poétique\, drôle et scientifique à la fois.\nPar Solenne Muller\, animatrice nature. \nPrévoir des chaussures de marche et des vêtements adaptés.\nInscription obligatoire. Durée : 2h. \nRosières – Haute Loire \nRosières en Haute-Loire\, une charmante commune qui mérite d’être découverte. Nichée au cœur du département\, elle dévoile ses attraits avec élégance. \nTout d’abord\, Rosières en Haute-Loire se distingue par son cadre naturel exceptionnel. Entourée de montagnes majestueuses et de forêts verdoyantes\, la commune offre des panoramas à couper le souffle. \nDe plus\, la vie à Rosières est imprégnée d’une tranquillité rassurante. Loin de l’agitation urbaine\, on y trouve un havre de paix où il fait bon vivre. \nEn outre\, Rosières en Haute-Loire regorge de patrimoine historique. Au détour de ses ruelles pittoresques\, on peut admirer des édifices anciens qui témoignent de son passé riche et fascinant. \nPar ailleurs\, la convivialité des habitants est un aspect marquant de la vie locale. Accueillants et chaleureux\, ils contribuent à créer une ambiance bienveillante et amicale dans la commune. \nDe surcroît\, Rosières en Haute-Loire offre également de nombreuses activités de plein air. Randonnées\, balades à vélo\, pêche\, et bien d’autres possibilités s’offrent aux amateurs de nature et de loisirs en plein air. \nEnfin\, les festivités locales apportent une touche festive à la vie de Rosières. Entre animations culturelles et événements traditionnels\, chacun y trouve son bonheur \n\n\n	Similaire
URL:https://crocoule.org/notre-evenement/balade-poetico-scientifique-2/
LOCATION:Parking de l’étang de la Plaine – Rosières
CATEGORIES:08 ans +
END:VEVENT
BEGIN:VEVENT
DTSTART;TZID=Europe/Paris:20230804T170000
DTEND;TZID=Europe/Paris:20230804T190000
DTSTAMP:20260424T144641
CREATED:20230726T143752Z
LAST-MODIFIED:20230726T143752Z
UID:10002010-1691168400-1691175600@crocoule.org
SUMMARY:BALADE POUR LES OREILLES
DESCRIPTION:BALADE POUR LES OREILLES – CONCERTO POUR GRENOUILLES*\nProfitez d’une balade pour les oreilles pendant les vacances ! \nOuvrez l’œil\, oui bien sûr\, mais surtout tendez l’oreille ! L’été\, l’étang se fait théâtre d’un vaste concert. Une approche acoustique et ludique de l’univers des amphibiens\, dans un écrin confortable et accessible.\nPar Solenne Muller\, animatrice nature. \nPrévoir des chaussures de marche et des vêtements adaptés.\nInscription obligatoire. Durée : 2h. \nAdresse\nParking de l’étang de la Plaine\n43800 Rosières \nRosières – Haute Loire \nRosières en Haute-Loire\, une charmante commune qui mérite d’être découverte. Nichée au cœur du département\, elle dévoile ses attraits avec élégance. \nTout d’abord\, Rosières en Haute-Loire se distingue par son cadre naturel exceptionnel. Entourée de montagnes majestueuses et de forêts verdoyantes\, la commune offre des panoramas à couper le souffle. \nDe plus\, la vie à Rosières est imprégnée d’une tranquillité rassurante. Loin de l’agitation urbaine\, on y trouve un havre de paix où il fait bon vivre. \nEn outre\, Rosières en Haute-Loire regorge de patrimoine historique. Au détour de ses ruelles pittoresques\, on peut admirer des édifices anciens qui témoignent de son passé riche et fascinant. \nPar ailleurs\, la convivialité des habitants est un aspect marquant de la vie locale. Accueillants et chaleureux\, ils contribuent à créer une ambiance bienveillante et amicale dans la commune. \nDe surcroît\, Rosières en Haute-Loire offre également de nombreuses activités de plein air. Randonnées\, balades à vélo\, pêche\, et bien d’autres possibilités s’offrent aux amateurs de nature et de loisirs en plein air. \nEnfin\, les festivités locales apportent une touche festive à la vie de Rosières. Entre animations culturelles et événements traditionnels\, chacun y trouve son bonheur \n\n\n	Similaire
URL:https://crocoule.org/notre-evenement/balade-pour-les-oreilles/
LOCATION:Parking de l’étang de la Plaine – Rosières
CATEGORIES:08 ans +
END:VEVENT
END:VCALENDAR