BEGIN:VCALENDAR
VERSION:2.0
PRODID:-//Crocoule - ECPv6.15.15//NONSGML v1.0//EN
CALSCALE:GREGORIAN
METHOD:PUBLISH
X-ORIGINAL-URL:https://crocoule.org
X-WR-CALDESC:Évènements pour Crocoule
REFRESH-INTERVAL;VALUE=DURATION:PT1H
X-Robots-Tag:noindex
X-PUBLISHED-TTL:PT1H
BEGIN:VTIMEZONE
TZID:Europe/Paris
BEGIN:DAYLIGHT
TZOFFSETFROM:+0100
TZOFFSETTO:+0200
TZNAME:CEST
DTSTART:20220327T010000
END:DAYLIGHT
BEGIN:STANDARD
TZOFFSETFROM:+0200
TZOFFSETTO:+0100
TZNAME:CET
DTSTART:20221030T010000
END:STANDARD
BEGIN:DAYLIGHT
TZOFFSETFROM:+0100
TZOFFSETTO:+0200
TZNAME:CEST
DTSTART:20230326T010000
END:DAYLIGHT
BEGIN:STANDARD
TZOFFSETFROM:+0200
TZOFFSETTO:+0100
TZNAME:CET
DTSTART:20231029T010000
END:STANDARD
BEGIN:DAYLIGHT
TZOFFSETFROM:+0100
TZOFFSETTO:+0200
TZNAME:CEST
DTSTART:20240331T010000
END:DAYLIGHT
BEGIN:STANDARD
TZOFFSETFROM:+0200
TZOFFSETTO:+0100
TZNAME:CET
DTSTART:20241027T010000
END:STANDARD
END:VTIMEZONE
BEGIN:VEVENT
DTSTART;TZID=Europe/Paris:20230824T200000
DTEND;TZID=Europe/Paris:20230824T200000
DTSTAMP:20260421T111342
CREATED:20230726T130123Z
LAST-MODIFIED:20230726T130123Z
UID:10001992-1692907200-1692907200@crocoule.org
SUMMARY:Nocturne à l'accrobranche
DESCRIPTION:Nocturne à l’accrobranche\nPendant les vacances\, participez à la nocturne de l’accrobranche du Velay ! \nA la lueur des lampes frontales et de la ville\, découvrez le parc de nuit et profitez d’une balade aérienne au clair de lune ! En effet\, nous régulièrement des balades nocturnes dans le parc\, venez découvrir les parcours dans une autre ambiance… \nAccrobranche en Haute-Loire\nToit d’abord\, offrez-vous un moment inoubliable en famille ou entre amis dans nos parcs d’accrobranche en Haute-Loire. En effet\, nos circuits ludiques et sécurisés sont adaptés pour tous les aventuriers\, petits et grands. Cette expérience unique vous apportera un nouveau regard sur notre région. Contactez-nous pour en savoir plus sur nos parcours dans les arbres. \nVivez une expérience unique dans notre parc aventure basé au Chambon-sur-Lignon\, au cœur des forêts de la Haute-Loire\, non loin de Saint-Étienne et Yssingeaux\, proche de l’Ardèche. En effet\, créé en 2003\, le Parcours Aventure de l’Écureuil est ouvert de début avril jusqu’aux vacances de Toussaint. En juillet et en août\, nous vous accueillons de 10h à 20h tous les jours. \nEnsuite\, notre parc de loisirs en plein air comprend des parcours adaptés aux aventuriers de tous les niveaux et de tous les âges. De plus\, de nouveaux ateliers sont créés chaque année. \n\n10 parcours ludiques\n130 ateliers avec tyroliennes\, totems et slacklines\n1\,6 km de parcours aériens\n\nEnfin\, pour vos moments de détente\, vous apprécierez nos tables de pique-nique\, nos jeux extérieurs pour enfants\, notre terrasse ombragée\, notre espace snacking avec boissons fraîches et glaces… Réservez votre place dans notre parc d’accrobranche \n\n\n	Similaire
URL:https://crocoule.org/notre-evenement/nocturne-a-laccrobranche-8/
LOCATION:Parcours de l’écureuil – Le Chambon-sur-Lignon\, Carrefour Les Barandons\, Le Chambon-sur-Lignon\, 43400
END:VEVENT
BEGIN:VEVENT
DTSTART;TZID=Europe/Paris:20230817T140000
DTEND;TZID=Europe/Paris:20230817T170000
DTSTAMP:20260421T111342
CREATED:20230726T125817Z
LAST-MODIFIED:20230726T125817Z
UID:10001991-1692280800-1692291600@crocoule.org
SUMMARY:Nocturne à l'accrobranche
DESCRIPTION:Nocturne à l’accrobranche\nPendant les vacances\, participez à la nocturne de l’accrobranche du Velay ! \nA la lueur des lampes frontales et de la ville\, découvrez le parc de nuit et profitez d’une balade aérienne au clair de lune ! En effet\, nous régulièrement des balades nocturnes dans le parc\, venez découvrir les parcours dans une autre ambiance… \nAccrobranche en Haute-Loire\nToit d’abord\, offrez-vous un moment inoubliable en famille ou entre amis dans nos parcs d’accrobranche en Haute-Loire. En effet\, nos circuits ludiques et sécurisés sont adaptés pour tous les aventuriers\, petits et grands. Cette expérience unique vous apportera un nouveau regard sur notre région. Contactez-nous pour en savoir plus sur nos parcours dans les arbres. \nVivez une expérience unique dans notre parc aventure basé au Chambon-sur-Lignon\, au cœur des forêts de la Haute-Loire\, non loin de Saint-Étienne et Yssingeaux\, proche de l’Ardèche. En effet\, créé en 2003\, le Parcours Aventure de l’Écureuil est ouvert de début avril jusqu’aux vacances de Toussaint. En juillet et en août\, nous vous accueillons de 10h à 20h tous les jours. \nEnsuite\, notre parc de loisirs en plein air comprend des parcours adaptés aux aventuriers de tous les niveaux et de tous les âges. De plus\, de nouveaux ateliers sont créés chaque année. \n\n10 parcours ludiques\n130 ateliers avec tyroliennes\, totems et slacklines\n1\,6 km de parcours aériens\n\nEnfin\, pour vos moments de détente\, vous apprécierez nos tables de pique-nique\, nos jeux extérieurs pour enfants\, notre terrasse ombragée\, notre espace snacking avec boissons fraîches et glaces… Réservez votre place dans notre parc d’accrobranche \n\n\n	Similaire
URL:https://crocoule.org/notre-evenement/nocturne-a-laccrobranche-7/
LOCATION:Parcours de l’écureuil – Le Chambon-sur-Lignon\, Carrefour Les Barandons\, Le Chambon-sur-Lignon\, 43400
END:VEVENT
BEGIN:VEVENT
DTSTART;TZID=Europe/Paris:20230810T200000
DTEND;TZID=Europe/Paris:20230810T200000
DTSTAMP:20260421T111342
CREATED:20230726T125433Z
LAST-MODIFIED:20230726T125433Z
UID:10001990-1691697600-1691697600@crocoule.org
SUMMARY:Nocturne à l'accrobranche
DESCRIPTION:Nocturne à l’accrobranche\nPendant les vacances\, participez à la nocturne de l’accrobranche du Velay ! \nA la lueur des lampes frontales et de la ville\, découvrez le parc de nuit et profitez d’une balade aérienne au clair de lune ! En effet\, nous régulièrement des balades nocturnes dans le parc\, venez découvrir les parcours dans une autre ambiance… \nAccrobranche en Haute-Loire\nToit d’abord\, offrez-vous un moment inoubliable en famille ou entre amis dans nos parcs d’accrobranche en Haute-Loire. En effet\, nos circuits ludiques et sécurisés sont adaptés pour tous les aventuriers\, petits et grands. Cette expérience unique vous apportera un nouveau regard sur notre région. Contactez-nous pour en savoir plus sur nos parcours dans les arbres. \nVivez une expérience unique dans notre parc aventure basé au Chambon-sur-Lignon\, au cœur des forêts de la Haute-Loire\, non loin de Saint-Étienne et Yssingeaux\, proche de l’Ardèche. En effet\, créé en 2003\, le Parcours Aventure de l’Écureuil est ouvert de début avril jusqu’aux vacances de Toussaint. En juillet et en août\, nous vous accueillons de 10h à 20h tous les jours. \nEnsuite\, notre parc de loisirs en plein air comprend des parcours adaptés aux aventuriers de tous les niveaux et de tous les âges. De plus\, de nouveaux ateliers sont créés chaque année. \n\n10 parcours ludiques\n130 ateliers avec tyroliennes\, totems et slacklines\n1\,6 km de parcours aériens\n\nEnfin\, pour vos moments de détente\, vous apprécierez nos tables de pique-nique\, nos jeux extérieurs pour enfants\, notre terrasse ombragée\, notre espace snacking avec boissons fraîches et glaces… Réservez votre place dans notre parc d’accrobranche \n\n\n	Similaire
URL:https://crocoule.org/notre-evenement/nocturne-a-laccrobranche-6/
LOCATION:Parcours de l’écureuil – Le Chambon-sur-Lignon\, Carrefour Les Barandons\, Le Chambon-sur-Lignon\, 43400
END:VEVENT
BEGIN:VEVENT
DTSTART;TZID=Europe/Paris:20230803T200000
DTEND;TZID=Europe/Paris:20230803T200000
DTSTAMP:20260421T111342
CREATED:20230726T125208Z
LAST-MODIFIED:20230726T125208Z
UID:10001989-1691092800-1691092800@crocoule.org
SUMMARY:Nocturne à l'accrobranche
DESCRIPTION:Nocturne à l’accrobranche\nPendant les vacances\, participez à la nocturne de l’accrobranche du Velay ! \nA la lueur des lampes frontales et de la ville\, découvrez le parc de nuit et profitez d’une balade aérienne au clair de lune ! En effet\, nous régulièrement des balades nocturnes dans le parc\, venez découvrir les parcours dans une autre ambiance… \nAccrobranche en Haute-Loire\nToit d’abord\, offrez-vous un moment inoubliable en famille ou entre amis dans nos parcs d’accrobranche en Haute-Loire. En effet\, nos circuits ludiques et sécurisés sont adaptés pour tous les aventuriers\, petits et grands. Cette expérience unique vous apportera un nouveau regard sur notre région. Contactez-nous pour en savoir plus sur nos parcours dans les arbres. \nVivez une expérience unique dans notre parc aventure basé au Chambon-sur-Lignon\, au cœur des forêts de la Haute-Loire\, non loin de Saint-Étienne et Yssingeaux\, proche de l’Ardèche. En effet\, créé en 2003\, le Parcours Aventure de l’Écureuil est ouvert de début avril jusqu’aux vacances de Toussaint. En juillet et en août\, nous vous accueillons de 10h à 20h tous les jours. \nEnsuite\, notre parc de loisirs en plein air comprend des parcours adaptés aux aventuriers de tous les niveaux et de tous les âges. De plus\, de nouveaux ateliers sont créés chaque année. \n\n10 parcours ludiques\n130 ateliers avec tyroliennes\, totems et slacklines\n1\,6 km de parcours aériens\n\nEnfin\, pour vos moments de détente\, vous apprécierez nos tables de pique-nique\, nos jeux extérieurs pour enfants\, notre terrasse ombragée\, notre espace snacking avec boissons fraîches et glaces… Réservez votre place dans notre parc d’accrobranche \n\n\n	Similaire
URL:https://crocoule.org/notre-evenement/nocturne-a-laccrobranche-5/
LOCATION:Parcours de l’écureuil – Le Chambon-sur-Lignon\, Carrefour Les Barandons\, Le Chambon-sur-Lignon\, 43400
END:VEVENT
BEGIN:VEVENT
DTSTART;TZID=Europe/Paris:20230720T200000
DTEND;TZID=Europe/Paris:20230720T200000
DTSTAMP:20260421T111342
CREATED:20230622T131857Z
LAST-MODIFIED:20230622T131857Z
UID:10001676-1689883200-1689883200@crocoule.org
SUMMARY:Nocturne à l'accrobranche
DESCRIPTION:Nocturne à l’accrobranche\nPendant les vacances\, participez à la nocturne de l’accrobranche du Velay ! \nA la lueur des lampes frontales et de la ville\, découvrez le parc de nuit et profitez d’une balade aérienne au clair de lune ! En effet\, nous régulièrement des balades nocturnes dans le parc\, venez découvrir les parcours dans une autre ambiance… \nAccrobranche en Haute-Loire\nToit d’abord\, offrez-vous un moment inoubliable en famille ou entre amis dans nos parcs d’accrobranche en Haute-Loire. En effet\, nos circuits ludiques et sécurisés sont adaptés pour tous les aventuriers\, petits et grands. Cette expérience unique vous apportera un nouveau regard sur notre région. Contactez-nous pour en savoir plus sur nos parcours dans les arbres. \nVivez une expérience unique dans notre parc aventure basé au Chambon-sur-Lignon\, au cœur des forêts de la Haute-Loire\, non loin de Saint-Étienne et Yssingeaux\, proche de l’Ardèche. En effet\, créé en 2003\, le Parcours Aventure de l’Écureuil est ouvert de début avril jusqu’aux vacances de Toussaint. En juillet et en août\, nous vous accueillons de 10h à 20h tous les jours. \nEnsuite\, notre parc de loisirs en plein air comprend des parcours adaptés aux aventuriers de tous les niveaux et de tous les âges. De plus\, de nouveaux ateliers sont créés chaque année. \n\n10 parcours ludiques\n130 ateliers avec tyroliennes\, totems et slacklines\n1\,6 km de parcours aériens\n\nEnfin\, pour vos moments de détente\, vous apprécierez nos tables de pique-nique\, nos jeux extérieurs pour enfants\, notre terrasse ombragée\, notre espace snacking avec boissons fraîches et glaces… Réservez votre place dans notre parc d’accrobranche \n\n\n	Similaire
URL:https://crocoule.org/notre-evenement/nocturne-a-laccrobranche-3/
LOCATION:Parcours de l’écureuil – Le Chambon-sur-Lignon\, Carrefour Les Barandons\, Le Chambon-sur-Lignon\, 43400
END:VEVENT
BEGIN:VEVENT
DTSTART;TZID=Europe/Paris:20230713T200000
DTEND;TZID=Europe/Paris:20230713T200000
DTSTAMP:20260421T111342
CREATED:20230622T131711Z
LAST-MODIFIED:20230622T131711Z
UID:10001675-1689278400-1689278400@crocoule.org
SUMMARY:Nocturne à l'accrobranche
DESCRIPTION:Nocturne à l’accrobranche\nPendant les vacances\, participez à la nocturne de l’accrobranche du Velay ! \nA la lueur des lampes frontales et de la ville\, découvrez le parc de nuit et profitez d’une balade aérienne au clair de lune ! En effet\, nous régulièrement des balades nocturnes dans le parc\, venez découvrir les parcours dans une autre ambiance… \nAccrobranche en Haute-Loire\nToit d’abord\, offrez-vous un moment inoubliable en famille ou entre amis dans nos parcs d’accrobranche en Haute-Loire. En effet\, nos circuits ludiques et sécurisés sont adaptés pour tous les aventuriers\, petits et grands. Cette expérience unique vous apportera un nouveau regard sur notre région. Contactez-nous pour en savoir plus sur nos parcours dans les arbres. \nVivez une expérience unique dans notre parc aventure basé au Chambon-sur-Lignon\, au cœur des forêts de la Haute-Loire\, non loin de Saint-Étienne et Yssingeaux\, proche de l’Ardèche. En effet\, créé en 2003\, le Parcours Aventure de l’Écureuil est ouvert de début avril jusqu’aux vacances de Toussaint. En juillet et en août\, nous vous accueillons de 10h à 20h tous les jours. \nEnsuite\, notre parc de loisirs en plein air comprend des parcours adaptés aux aventuriers de tous les niveaux et de tous les âges. De plus\, de nouveaux ateliers sont créés chaque année. \n\n10 parcours ludiques\n130 ateliers avec tyroliennes\, totems et slacklines\n1\,6 km de parcours aériens\n\nEnfin\, pour vos moments de détente\, vous apprécierez nos tables de pique-nique\, nos jeux extérieurs pour enfants\, notre terrasse ombragée\, notre espace snacking avec boissons fraîches et glaces… Réservez votre place dans notre parc d’accrobranche \n\n\n	Similaire
URL:https://crocoule.org/notre-evenement/nocturne-a-laccrobranche-2/
LOCATION:Parcours de l’écureuil – Le Chambon-sur-Lignon\, Carrefour Les Barandons\, Le Chambon-sur-Lignon\, 43400
END:VEVENT
BEGIN:VEVENT
DTSTART;TZID=Europe/Paris:20230706T200000
DTEND;TZID=Europe/Paris:20230706T200000
DTSTAMP:20260421T111342
CREATED:20230622T131316Z
LAST-MODIFIED:20230622T131557Z
UID:10001674-1688673600-1688673600@crocoule.org
SUMMARY:Nocturne à l'accrobranche
DESCRIPTION:Nocturne à l’accrobranche\nPendant les vacances\, participez à la nocturne de l’accrobranche du Velay ! \nA la lueur des lampes frontales et de la ville\, découvrez le parc de nuit et profitez d’une balade aérienne au clair de lune ! En effet\, nous régulièrement des balades nocturnes dans le parc\, venez découvrir les parcours dans une autre ambiance… \nAccrobranche en Haute-Loire\nToit d’abord\, offrez-vous un moment inoubliable en famille ou entre amis dans nos parcs d’accrobranche en Haute-Loire. En effet\, nos circuits ludiques et sécurisés sont adaptés pour tous les aventuriers\, petits et grands. Cette expérience unique vous apportera un nouveau regard sur notre région. Contactez-nous pour en savoir plus sur nos parcours dans les arbres. \nVivez une expérience unique dans notre parc aventure basé au Chambon-sur-Lignon\, au cœur des forêts de la Haute-Loire\, non loin de Saint-Étienne et Yssingeaux\, proche de l’Ardèche. En effet\, créé en 2003\, le Parcours Aventure de l’Écureuil est ouvert de début avril jusqu’aux vacances de Toussaint. En juillet et en août\, nous vous accueillons de 10h à 20h tous les jours. \nEnsuite\, notre parc de loisirs en plein air comprend des parcours adaptés aux aventuriers de tous les niveaux et de tous les âges. De plus\, de nouveaux ateliers sont créés chaque année. \n\n10 parcours ludiques\n130 ateliers avec tyroliennes\, totems et slacklines\n1\,6 km de parcours aériens\n\nEnfin\, pour vos moments de détente\, vous apprécierez nos tables de pique-nique\, nos jeux extérieurs pour enfants\, notre terrasse ombragée\, notre espace snacking avec boissons fraîches et glaces… Réservez votre place dans notre parc d’accrobranche \n\n\n	Similaire
URL:https://crocoule.org/notre-evenement/nocturne-a-laccrobranche/
LOCATION:Parcours de l’écureuil – Le Chambon-sur-Lignon\, Carrefour Les Barandons\, Le Chambon-sur-Lignon\, 43400
END:VEVENT
END:VCALENDAR