BEGIN:VCALENDAR
VERSION:2.0
PRODID:-//Crocoule - ECPv6.15.15//NONSGML v1.0//EN
CALSCALE:GREGORIAN
METHOD:PUBLISH
X-WR-CALNAME:Crocoule
X-ORIGINAL-URL:https://crocoule.org
X-WR-CALDESC:Évènements pour Crocoule
REFRESH-INTERVAL;VALUE=DURATION:PT1H
X-Robots-Tag:noindex
X-PUBLISHED-TTL:PT1H
BEGIN:VTIMEZONE
TZID:Europe/Paris
BEGIN:DAYLIGHT
TZOFFSETFROM:+0100
TZOFFSETTO:+0200
TZNAME:CEST
DTSTART:20240331T010000
END:DAYLIGHT
BEGIN:STANDARD
TZOFFSETFROM:+0200
TZOFFSETTO:+0100
TZNAME:CET
DTSTART:20241027T010000
END:STANDARD
BEGIN:DAYLIGHT
TZOFFSETFROM:+0100
TZOFFSETTO:+0200
TZNAME:CEST
DTSTART:20250330T010000
END:DAYLIGHT
BEGIN:STANDARD
TZOFFSETFROM:+0200
TZOFFSETTO:+0100
TZNAME:CET
DTSTART:20251026T010000
END:STANDARD
BEGIN:DAYLIGHT
TZOFFSETFROM:+0100
TZOFFSETTO:+0200
TZNAME:CEST
DTSTART:20260329T010000
END:DAYLIGHT
BEGIN:STANDARD
TZOFFSETFROM:+0200
TZOFFSETTO:+0100
TZNAME:CET
DTSTART:20261025T010000
END:STANDARD
END:VTIMEZONE
BEGIN:VEVENT
DTSTART;TZID=Europe/Paris:20250820T160000
DTEND;TZID=Europe/Paris:20250820T230000
DTSTAMP:20260419T235639
CREATED:20250603T095607Z
LAST-MODIFIED:20250721T091622Z
UID:10011564-1755705600-1755730800@crocoule.org
SUMMARY:Saint-Chamond | Parc en fête : zen et bollywood
DESCRIPTION:Parc en fête\, c’est 4 mercredis de jeux\, d’activités sportives et de musique pour tous en juillet et août. Le 20 août\, l’Inde s’invite à Saint-Chamond avec un programme zen l’après-midi (yoga\, ateliers corporels parents/enfants\, lectures\, activités sportives…) et le soir vous pourrez apprendre les rudiments de la danse indienne avant de vous lancer sur le dancefloor au rythme de la musique Bollywood. Buvette et restauration sur place. Infos au 04 77 31 04 41 \n\n\n	Similaire
URL:https://crocoule.org/notre-evenement/saint-chamond-parc-en-fete-zen-et-bollywood/
LOCATION:Parc Nelson Mandela\, Saint Chamond\, 42400\, France
CATEGORIES:06 ans +,Tous les événements
END:VEVENT
BEGIN:VEVENT
DTSTART;TZID=Europe/Paris:20250806T160000
DTEND;TZID=Europe/Paris:20250806T160000
DTSTAMP:20260419T235639
CREATED:20250603T095558Z
LAST-MODIFIED:20250721T091622Z
UID:10011563-1754496000-1754496000@crocoule.org
SUMMARY:Saint-Chamond | Parc en fête : danse folk
DESCRIPTION:Parc en fête\, c’est 4 mercredis de jeux\, d’activités sportives et de musique pour tous en juillet et août. Le 6 août\, vous pourrez profiter d’une après-midi jeux et activité de plein air  (grands jeux\, pétanque\, tir à la corde…). En fin d’après-midi\, une initiation à la danse folk accessible à tous sera proposée. Et le soir\, bal folk pour tous\, amateurs ou avertis. Il s’agit de danses collectives\, conviviales\, vous serez guidés ! L’idée est de passer un bon moment tous ensemble. Buvette et restauration sur place. Infos au 04 77 31 04 41 \n\n\n	Similaire
URL:https://crocoule.org/notre-evenement/saint-chamond-parc-en-fete-danse-folk/
LOCATION:Parc Nelson Mandela\, Saint Chamond\, 42400\, France
CATEGORIES:06 ans +,Tous les événements
END:VEVENT
BEGIN:VEVENT
DTSTART;TZID=Europe/Paris:20250723T160000
DTEND;TZID=Europe/Paris:20250723T160000
DTSTAMP:20260419T235639
CREATED:20250721T091616Z
LAST-MODIFIED:20250721T091621Z
UID:10011589-1753286400-1753286400@crocoule.org
SUMMARY:Saint-Chamond | Parc en fête : karaoké
DESCRIPTION:Parc en fête\, c’est 4 mercredis de jeux\, d’activités sportives et de musique pour tous en juillet et août. Le 20 juillet sera dédié à la musique\, avec des ateliers percussions l’après-midi avec la batucada « Tamadjam ». Vous pourrez aussi lire\, jouer\, faire du sport… Et le soir\, venez pousser la chansonnette\, accompagnés de vrais musiciens\, à l’occasion d’un karaoké live. Buvette et restauration sur place. Infos au 04 77 31 04 41 \n\n\n	Similaire
URL:https://crocoule.org/notre-evenement/saint-chamond-parc-en-fete-karaoke-2/
LOCATION:Parc Nelson Mandela\, Saint Chamond\, 42400\, France
CATEGORIES:03 ans +,Tous les événements
END:VEVENT
END:VCALENDAR