BEGIN:VCALENDAR
VERSION:2.0
PRODID:-//Crocoule - ECPv6.15.20//NONSGML v1.0//EN
CALSCALE:GREGORIAN
METHOD:PUBLISH
X-ORIGINAL-URL:https://crocoule.org
X-WR-CALDESC:Évènements pour Crocoule
REFRESH-INTERVAL;VALUE=DURATION:PT1H
X-Robots-Tag:noindex
X-PUBLISHED-TTL:PT1H
BEGIN:VTIMEZONE
TZID:Europe/Paris
BEGIN:DAYLIGHT
TZOFFSETFROM:+0100
TZOFFSETTO:+0200
TZNAME:CEST
DTSTART:20220327T010000
END:DAYLIGHT
BEGIN:STANDARD
TZOFFSETFROM:+0200
TZOFFSETTO:+0100
TZNAME:CET
DTSTART:20221030T010000
END:STANDARD
BEGIN:DAYLIGHT
TZOFFSETFROM:+0100
TZOFFSETTO:+0200
TZNAME:CEST
DTSTART:20230326T010000
END:DAYLIGHT
BEGIN:STANDARD
TZOFFSETFROM:+0200
TZOFFSETTO:+0100
TZNAME:CET
DTSTART:20231029T010000
END:STANDARD
BEGIN:DAYLIGHT
TZOFFSETFROM:+0100
TZOFFSETTO:+0200
TZNAME:CEST
DTSTART:20240331T010000
END:DAYLIGHT
BEGIN:STANDARD
TZOFFSETFROM:+0200
TZOFFSETTO:+0100
TZNAME:CET
DTSTART:20241027T010000
END:STANDARD
END:VTIMEZONE
BEGIN:VEVENT
DTSTART;TZID=Europe/Paris:20230719T150000
DTEND;TZID=Europe/Paris:20230719T170000
DTSTAMP:20260424T033134
CREATED:20230629T142154Z
LAST-MODIFIED:20230629T142154Z
UID:10001810-1689778800-1689786000@crocoule.org
SUMMARY:La peinture en couleur
DESCRIPTION:Atelier « Parents/enfants » » La peinture en couleur »\nDécouvrez l’atelier « Parents/enfants’\, la peinture en couleur ! \nAtelier parents/enfants autour de la peinture. Expression libre en pleine nature. Renseignements et inscription avant le 13 juillet – 04 – 71 02 45 69 \nLieu : Parc de Corsac vers le gymnase de Brives-Charensac \nLes bienfaits de la peinture \nTout d’abord\, la pratique de la peinture avec des enfants présente de nombreux bienfaits sur leur développement de votre enfant. \nEn effet\, elle stimule leur créativité et leur imagination en leur offrant un moyen d’exprimer leurs idées et leurs émotions de manière visuelle. La peinture favorise également leur développement cognitif en encourageant la prise de décisions\, la résolution de problèmes et la planification des actions. De plus\, elle renforce leur motricité fine en leur permettant de manipuler les pinceaux\, de coordonner leurs mouvements et d’affiner leur précision gestuelle. La peinture est également une activité sociale\, favorisant la communication\, le partage et la collaboration entre les enfants\, tout en développant leur estime de soi et leur confiance en eux. Enfin\, elle offre aux enfants un moment de détente et de plaisir\, leur permettant de se concentrer\, de se relaxer et de se divertir. Pratiquer la peinture avec des enfants est donc une activité enrichissante à la fois sur le plan artistique\, cognitif\, moteur\, social et émotionnel. \n  \n\n\n	Similaire
URL:https://crocoule.org/notre-evenement/la-peinture-en-couleur/
LOCATION:Parc de Corsac – Brives-Charensac
CATEGORIES:02 ans +
END:VEVENT
END:VCALENDAR