BEGIN:VCALENDAR
VERSION:2.0
PRODID:-//Crocoule - ECPv6.15.15//NONSGML v1.0//EN
CALSCALE:GREGORIAN
METHOD:PUBLISH
X-ORIGINAL-URL:https://crocoule.org
X-WR-CALDESC:Évènements pour Crocoule
REFRESH-INTERVAL;VALUE=DURATION:PT1H
X-Robots-Tag:noindex
X-PUBLISHED-TTL:PT1H
BEGIN:VTIMEZONE
TZID:Europe/Paris
BEGIN:DAYLIGHT
TZOFFSETFROM:+0100
TZOFFSETTO:+0200
TZNAME:CEST
DTSTART:20220327T010000
END:DAYLIGHT
BEGIN:STANDARD
TZOFFSETFROM:+0200
TZOFFSETTO:+0100
TZNAME:CET
DTSTART:20221030T010000
END:STANDARD
BEGIN:DAYLIGHT
TZOFFSETFROM:+0100
TZOFFSETTO:+0200
TZNAME:CEST
DTSTART:20230326T010000
END:DAYLIGHT
BEGIN:STANDARD
TZOFFSETFROM:+0200
TZOFFSETTO:+0100
TZNAME:CET
DTSTART:20231029T010000
END:STANDARD
BEGIN:DAYLIGHT
TZOFFSETFROM:+0100
TZOFFSETTO:+0200
TZNAME:CEST
DTSTART:20240331T010000
END:DAYLIGHT
BEGIN:STANDARD
TZOFFSETFROM:+0200
TZOFFSETTO:+0100
TZNAME:CET
DTSTART:20241027T010000
END:STANDARD
END:VTIMEZONE
BEGIN:VEVENT
DTSTART;TZID=Europe/Paris:20230308T200000
DTEND;TZID=Europe/Paris:20230308T200000
DTSTAMP:20260422T144919
CREATED:20230222T151116Z
LAST-MODIFIED:20230222T151116Z
UID:10000950-1678305600-1678305600@crocoule.org
SUMMARY:LÉGENDE
DESCRIPTION:LÉGENDE\nDANSE\, DÈS 5 ANS\nKelemenis&cie\n\nPrésentation\nLégende se raconte par le plaisir et l’exploration d’un corps ludique et onirique\, plutôt que par la plongée sérieuse dans une problématique devenue majeure. Le chorégraphe propose sa pièce aux adultes qui guident les enfants comme un support pour les accompagner dans un acte de réflexion responsable indispensable. Les tortillements des interprètes flirtent avec l’incongru\, l’insolite\, le burlesque ou l’inachevé\, comme pour traduire l’impasse dans laquelle l’humanité est engagée. Pour s’adresser à l’enfance\, peut-être vaut-il mieux célébrer la vie comme un miracle\, un inouï\, une riche multitude à préserver. \n\nSur fond de dégradation environnementale\, Michel Kelemenis situe sa nouvelle fable dans un avenir sans animaux. Ces derniers pourraient-ils\, demain\, ne plus être qu’un écho vaporeux pour une humanité frappée d’amnésie ? Si la réponse est évidemment non\, le spectacle aborde par la fantaisie cette question afin qu’elle soit posée\, comme point d’entrée et simplement\, aux plus jeunes : la vie sur terre peut-elle se passer de la diversité de la faune ? \nRencontre « bord de scène »\nAvec la compagnie à l’issue des représentations du mercredi 8 et du samedi 11 mars. \nVisite guidée (dès 7 ans)\n« Côté scène – Côté coulisses »\nL’Opéra ouvre grand les portes de ses ateliers deconstruction de décors\, de confection de costumes et de ses coulisses : découvrez l’envers du décor !\nSamedi 11 mars à 15h\nTarif • 5€ / pers.\nRéservation obligatoire (nombre de places limité) : 04 77 47 83 40 \nBILLETERIE  \nCo-accueil avec : \n \n\n\n  \n\n\n	Similaire
URL:https://crocoule.org/notre-evenement/legende-2/
LOCATION:Opéra – Saint Étienne\, Jardin des Plantes\, Saint-Étienne\, 42000
CATEGORIES:05 ans +,Activité en semaine
END:VEVENT
BEGIN:VEVENT
DTSTART;TZID=Europe/Paris:20230307T200000
DTEND;TZID=Europe/Paris:20230307T200000
DTSTAMP:20260422T144919
CREATED:20230222T150822Z
LAST-MODIFIED:20230222T151218Z
UID:10000949-1678219200-1678219200@crocoule.org
SUMMARY:LÉGENDE
DESCRIPTION:LÉGENDE\nDANSE\, DÈS 5 ANS\nKelemenis&cie\n\nPrésentation\nLégende se raconte par le plaisir et l’exploration d’un corps ludique et onirique\, plutôt que par la plongée sérieuse dans une problématique devenue majeure. Le chorégraphe propose sa pièce aux adultes qui guident les enfants comme un support pour les accompagner dans un acte de réflexion responsable indispensable. Les tortillements des interprètes flirtent avec l’incongru\, l’insolite\, le burlesque ou l’inachevé\, comme pour traduire l’impasse dans laquelle l’humanité est engagée. Pour s’adresser à l’enfance\, peut-être vaut-il mieux célébrer la vie comme un miracle\, un inouï\, une riche multitude à préserver. \n\nSur fond de dégradation environnementale\, Michel Kelemenis situe sa nouvelle fable dans un avenir sans animaux. Ces derniers pourraient-ils\, demain\, ne plus être qu’un écho vaporeux pour une humanité frappée d’amnésie ? Si la réponse est évidemment non\, le spectacle aborde par la fantaisie cette question afin qu’elle soit posée\, comme point d’entrée et simplement\, aux plus jeunes : la vie sur terre peut-elle se passer de la diversité de la faune ? \nRencontre « bord de scène »\nAvec la compagnie à l’issue des représentations du mercredi 8 et du samedi 11 mars. \nVisite guidée (dès 7 ans)\n« Côté scène – Côté coulisses »\nL’Opéra ouvre grand les portes de ses ateliers deconstruction de décors\, de confection de costumes et de ses coulisses : découvrez l’envers du décor !\nSamedi 11 mars à 15h\nTarif • 5€ / pers.\nRéservation obligatoire (nombre de places limité) : 04 77 47 83 40 \nBILLETERIE  \nCo-accueil avec : \n \n\n\n  \n\n\n	Similaire
URL:https://crocoule.org/notre-evenement/legende/
LOCATION:Opéra – Saint Étienne\, Jardin des Plantes\, Saint-Étienne\, 42000
CATEGORIES:05 ans +,Activité en semaine
END:VEVENT
END:VCALENDAR