BEGIN:VCALENDAR
VERSION:2.0
PRODID:-//Crocoule - ECPv6.15.15//NONSGML v1.0//EN
CALSCALE:GREGORIAN
METHOD:PUBLISH
X-ORIGINAL-URL:https://crocoule.org
X-WR-CALDESC:Évènements pour Crocoule
REFRESH-INTERVAL;VALUE=DURATION:PT1H
X-Robots-Tag:noindex
X-PUBLISHED-TTL:PT1H
BEGIN:VTIMEZONE
TZID:Europe/Paris
BEGIN:DAYLIGHT
TZOFFSETFROM:+0100
TZOFFSETTO:+0200
TZNAME:CEST
DTSTART:20220327T010000
END:DAYLIGHT
BEGIN:STANDARD
TZOFFSETFROM:+0200
TZOFFSETTO:+0100
TZNAME:CET
DTSTART:20221030T010000
END:STANDARD
BEGIN:DAYLIGHT
TZOFFSETFROM:+0100
TZOFFSETTO:+0200
TZNAME:CEST
DTSTART:20230326T010000
END:DAYLIGHT
BEGIN:STANDARD
TZOFFSETFROM:+0200
TZOFFSETTO:+0100
TZNAME:CET
DTSTART:20231029T010000
END:STANDARD
BEGIN:DAYLIGHT
TZOFFSETFROM:+0100
TZOFFSETTO:+0200
TZNAME:CEST
DTSTART:20240331T010000
END:DAYLIGHT
BEGIN:STANDARD
TZOFFSETFROM:+0200
TZOFFSETTO:+0100
TZNAME:CET
DTSTART:20241027T010000
END:STANDARD
END:VTIMEZONE
BEGIN:VEVENT
DTSTART;TZID=Europe/Paris:20230922T100000
DTEND;TZID=Europe/Paris:20230922T100000
DTSTAMP:20260421T113643
CREATED:20230817T133307Z
LAST-MODIFIED:20230817T133307Z
UID:10002330-1695376800-1695376800@crocoule.org
SUMMARY:BALADE GUIDÉE
DESCRIPTION:BALADE GUIDÉE « CONTES ET LÉGENDES À L’HERMITAGE »\nProfitez d’une balade guidée en famille ! \nVenez découvrir les histoires légendaires liées à Notre-Dame de l’Hermitage. Le rocher de Peyrotine\, la source miraculeuse\, la cache de Robert l’Assassin vous seront révélés au cœur de la somptueuse forêt de l’Hermitage. \nPrévoir de bonnes chaussures. \n\n\nContact\n\n\nAdresse : Notre-Dame de l’Hermitage \n42440 Noirétable \n\nTéléphone : 04 77 96 08 69\n\nNotre-Dame de l’Hermitage – Noirétable\nNotre-Dame de l’Hermitage est un lieu sacré qui captive par sa beauté architecturale et son ambiance spirituelle. Tout d’abord\, en approchant du site\, les visiteurs sont accueillis par une imposante façade gothique. Témoignant de l’histoire riche de cette église. \nEnsuite\, en franchissant ses portes majestueuses. On découvre un intérieur somptueux\, orné de vitraux colorés et de sculptures détaillées\, créant ainsi une atmosphère empreinte de sérénité. \nDe plus\, l’autel central\, magnifiquement décoré\, constitue le cœur de ce lieu de culte. Invitant les fidèles à la prière et à la contemplation. En outre\, les jardins environnants offrent un cadre paisible pour se recueillir et se connecter à la nature. \nEnfin\, les cérémonies religieuses qui se déroulent régulièrement dans cette église rassemblent la communauté locale dans un esprit de foi et de communion. Notre-Dame de l’Hermitage incarne ainsi la grandeur de l’architecture religieuse et l’importance de la spiritualité. Offrant un refuge spirituel et un lieu de recueillement pour tous ceux qui le visitent. \n  \n\n\n\n	Similaire
URL:https://crocoule.org/notre-evenement/balade-guidee-2/
LOCATION:Notre-Dame de l’Hermitage\, Noirétable\, 42440
CATEGORIES:Activité en semaine
END:VEVENT
BEGIN:VEVENT
DTSTART;TZID=Europe/Paris:20230512T080000
DTEND;TZID=Europe/Paris:20230512T170000
DTSTAMP:20260421T113643
CREATED:20230512T131028Z
LAST-MODIFIED:20230512T131028Z
UID:10001289-1683878400-1683910800@crocoule.org
SUMMARY:BALADE GUIDÉE
DESCRIPTION:BALADE GUIDÉE « CONTES ET LÉGENDES À L’HERMITAGE »\nProfitez d’une balade guidée en famille ! \nVenez découvrir les histoires légendaires liées à Notre-Dame de l’Hermitage. Le rocher de Peyrotine\, la source miraculeuse\, la cache de Robert l’Assassin vous seront révélés au cœur de la somptueuse forêt de l’Hermitage. \nPrévoir de bonnes chaussures. \n\n\nContact\n\n\nAdresse : Notre-Dame de l’Hermitage \n42440 Noirétable \n\nTéléphone : 04 77 96 08 69\n\nNotre-Dame de l’Hermitage – Noirétable\nNotre-Dame de l’Hermitage est un lieu sacré qui captive par sa beauté architecturale et son ambiance spirituelle. Tout d’abord\, en approchant du site\, les visiteurs sont accueillis par une imposante façade gothique. Témoignant de l’histoire riche de cette église. \nEnsuite\, en franchissant ses portes majestueuses. On découvre un intérieur somptueux\, orné de vitraux colorés et de sculptures détaillées\, créant ainsi une atmosphère empreinte de sérénité. \nDe plus\, l’autel central\, magnifiquement décoré\, constitue le cœur de ce lieu de culte. Invitant les fidèles à la prière et à la contemplation. En outre\, les jardins environnants offrent un cadre paisible pour se recueillir et se connecter à la nature. \nEnfin\, les cérémonies religieuses qui se déroulent régulièrement dans cette église rassemblent la communauté locale dans un esprit de foi et de communion. Notre-Dame de l’Hermitage incarne ainsi la grandeur de l’architecture religieuse et l’importance de la spiritualité. Offrant un refuge spirituel et un lieu de recueillement pour tous ceux qui le visitent. \n  \n\n\n\n	Similaire
URL:https://crocoule.org/notre-evenement/balade-guidee/
LOCATION:Notre-Dame de l’Hermitage\, Noirétable\, 42440
CATEGORIES:07 ans +,Activité en semaine
END:VEVENT
END:VCALENDAR