BEGIN:VCALENDAR
VERSION:2.0
PRODID:-//Crocoule - ECPv6.15.15//NONSGML v1.0//EN
CALSCALE:GREGORIAN
METHOD:PUBLISH
X-WR-CALNAME:Crocoule
X-ORIGINAL-URL:https://crocoule.org
X-WR-CALDESC:Évènements pour Crocoule
REFRESH-INTERVAL;VALUE=DURATION:PT1H
X-Robots-Tag:noindex
X-PUBLISHED-TTL:PT1H
BEGIN:VTIMEZONE
TZID:Europe/Paris
BEGIN:DAYLIGHT
TZOFFSETFROM:+0100
TZOFFSETTO:+0200
TZNAME:CEST
DTSTART:20240331T010000
END:DAYLIGHT
BEGIN:STANDARD
TZOFFSETFROM:+0200
TZOFFSETTO:+0100
TZNAME:CET
DTSTART:20241027T010000
END:STANDARD
BEGIN:DAYLIGHT
TZOFFSETFROM:+0100
TZOFFSETTO:+0200
TZNAME:CEST
DTSTART:20250330T010000
END:DAYLIGHT
BEGIN:STANDARD
TZOFFSETFROM:+0200
TZOFFSETTO:+0100
TZNAME:CET
DTSTART:20251026T010000
END:STANDARD
BEGIN:DAYLIGHT
TZOFFSETFROM:+0100
TZOFFSETTO:+0200
TZNAME:CEST
DTSTART:20260329T010000
END:DAYLIGHT
BEGIN:STANDARD
TZOFFSETFROM:+0200
TZOFFSETTO:+0100
TZNAME:CET
DTSTART:20261025T010000
END:STANDARD
BEGIN:DAYLIGHT
TZOFFSETFROM:+0100
TZOFFSETTO:+0200
TZNAME:CEST
DTSTART:20270328T010000
END:DAYLIGHT
BEGIN:STANDARD
TZOFFSETFROM:+0200
TZOFFSETTO:+0100
TZNAME:CET
DTSTART:20271031T010000
END:STANDARD
END:VTIMEZONE
BEGIN:VEVENT
DTSTART;TZID=Europe/Paris:20251015T140000
DTEND;TZID=Europe/Paris:20251015T153000
DTSTAMP:20260421T212407
CREATED:20250826T150352Z
LAST-MODIFIED:20250828T160151Z
UID:10011869-1760536800-1760542200@crocoule.org
SUMMARY:Saint-Etienne | Jeu "1944 Mission libération"
DESCRIPTION:Dans un contexte de Seconde\nGuerre mondiale\, mets-toi dans la\npeau d’un mineur et organise un\ngroupe de résistance pour saboter\nun convoi d’armement ennemi.\nTa détermination sera mise à\nl’épreuve à travers plusieurs défis ! \n\n\n	Similaire
URL:https://crocoule.org/notre-evenement/saint-etienne-jeu-1944-mission-liberation-4/
LOCATION:Musée de la Mine\, 3 Rue du Maréchal Franchet d'Esperey\, Saint Etienne\, 42000
END:VEVENT
BEGIN:VEVENT
DTSTART;TZID=Europe/Paris:20251012T101500
DTEND;TZID=Europe/Paris:20251012T121500
DTSTAMP:20260421T212407
CREATED:20250826T150409Z
LAST-MODIFIED:20250828T160207Z
UID:10011882-1760264100-1760271300@crocoule.org
SUMMARY:Saint-Etienne | Atelier en famille "Minogravure"
DESCRIPTION:Les animaux et les plantes d’il y a 300 millions d’années ont laissé des traces dans la roche : des fossiles ! Et si vous fabriquiez vos propres empreintes grâce à la linogravure ! Après une rapide visite autour du jardin et des fossiles\, venez expérimenter cette technique et repartez avec vos créations. \n\n\n	Similaire
URL:https://crocoule.org/notre-evenement/saint-etienne-atelier-en-famille-minogravure/
LOCATION:Musée de la Mine\, 3 Rue du Maréchal Franchet d'Esperey\, Saint Etienne\, 42000
END:VEVENT
BEGIN:VEVENT
DTSTART;TZID=Europe/Paris:20251008T140000
DTEND;TZID=Europe/Paris:20251008T153000
DTSTAMP:20260421T212407
CREATED:20250826T150343Z
LAST-MODIFIED:20250828T160144Z
UID:10011860-1759932000-1759937400@crocoule.org
SUMMARY:Saint-Etienne | Atelier enfant "Mine et une histoire d'automne"
DESCRIPTION:Ouvrez grands vos yeux\, tendez\nl’oreille et saisissez votre crayon\npour illustrer un conte au rythme\ndes quatre saisons : le jardin\nau printemps\, les souvenirs de\nvacances l’été\, les frissons en\nautomne et l’esprit de Noël en\nHiver ! \n\n\n	Similaire
URL:https://crocoule.org/notre-evenement/saint-etienne-atelier-enfant-mine-et-une-histoire-dautomne/
LOCATION:Musée de la Mine\, 3 Rue du Maréchal Franchet d'Esperey\, Saint Etienne\, 42000
END:VEVENT
BEGIN:VEVENT
DTSTART;TZID=Europe/Paris:20251005T140000
DTEND;TZID=Europe/Paris:20251005T160000
DTSTAMP:20260421T212407
CREATED:20250826T150404Z
LAST-MODIFIED:20250828T160202Z
UID:10011877-1759672800-1759680000@crocoule.org
SUMMARY:Saint-Etienne | Atelier en famille "A vos pinceaux"
DESCRIPTION:Recouvertes de décors et de\ncouleurs\, les céramiques de\nl’exposition vous inspireront\nsûrement pour une création\nfamiliale de peinture sur\nporcelaine. De quoi ramener un\njoli souvenir de votre passage\nau musée ! \n\n\n	Similaire
URL:https://crocoule.org/notre-evenement/saint-etienne-atelier-en-famille-a-vos-pinceaux-10/
LOCATION:Musée de la Mine\, 3 Rue du Maréchal Franchet d'Esperey\, Saint Etienne\, 42000
END:VEVENT
BEGIN:VEVENT
DTSTART;TZID=Europe/Paris:20251004T140000
DTEND;TZID=Europe/Paris:20251004T150000
DTSTAMP:20260421T212407
CREATED:20250826T150338Z
LAST-MODIFIED:20250828T160137Z
UID:10011852-1759586400-1759590000@crocoule.org
SUMMARY:Saint-Etienne | Atelier enfant "Drôle de bestiaire"
DESCRIPTION:Découvre l’exposition temporaire du musée et retrouve les animaux représentés sur les différentes céramiques exposées\, puis crée ton propre bestiaire coloré en pâte à modeler pour décorer une céramique. Repars avec la photo de ta création en souvenir ! \n\n\n	Similaire
URL:https://crocoule.org/notre-evenement/saint-etienne-atelier-enfant-drole-de-bestiaire-8/
LOCATION:Musée de la Mine\, 3 Rue du Maréchal Franchet d'Esperey\, Saint Etienne\, 42000
END:VEVENT
BEGIN:VEVENT
DTSTART;TZID=Europe/Paris:20251001T140000
DTEND;TZID=Europe/Paris:20251001T160000
DTSTAMP:20260421T212407
CREATED:20250826T150349Z
LAST-MODIFIED:20250828T160149Z
UID:10011865-1759327200-1759334400@crocoule.org
SUMMARY:Saint-Etienne | Atelier enfant "Apprenti potier au musée"
DESCRIPTION:Au musée\, on met les mains dans\nla terre ! Découvre les céramiques\nde l’exposition puis\, avec de\nl’argile\, expérimente les formes\net les motifs et repars avec ta\ncréation ! \n\n\n	Similaire
URL:https://crocoule.org/notre-evenement/saint-etienne-atelier-enfant-apprenti-potier-au-musee-9/
LOCATION:Musée de la Mine\, 3 Rue du Maréchal Franchet d'Esperey\, Saint Etienne\, 42000
END:VEVENT
BEGIN:VEVENT
DTSTART;TZID=Europe/Paris:20251001T104500
DTEND;TZID=Europe/Paris:20251001T113000
DTSTAMP:20260421T212407
CREATED:20250826T150333Z
LAST-MODIFIED:20250828T160132Z
UID:10011847-1759315500-1759318200@crocoule.org
SUMMARY:Saint-Etienne | Atelier enfant "Le voyage coloré"
DESCRIPTION:Rouge\, orange\, noir\, viens sentir le souffle du volcan ; poissons\,\ncoquillages et crustacés\, viens\nplonger dans l’océan… Enfants et\nparents découvrent l’exposition\ntemporaire à travers plusieurs\noeuvres emblématiques. \n\n\n	Similaire
URL:https://crocoule.org/notre-evenement/saint-etienne-atelier-enfant-le-voyage-colore-10/
LOCATION:Musée de la Mine\, 3 Rue du Maréchal Franchet d'Esperey\, Saint Etienne\, 42000
CATEGORIES:01 an +,Tous les événements
END:VEVENT
BEGIN:VEVENT
DTSTART;TZID=Europe/Paris:20251001T100000
DTEND;TZID=Europe/Paris:20260131T180000
DTSTAMP:20260421T212407
CREATED:20250828T160212Z
LAST-MODIFIED:20250828T160212Z
UID:10012056-1759312800-1769882400@crocoule.org
SUMMARY:Saint-Etienne | Exposition temporaire\nSouvenirs\, souvenirs
DESCRIPTION:Souvenirs\, souvenirs est une exposition sur un sujet peu abordé\, celui de cette production de céramiques sérielles\, fabriquées en petite séries en France et de manière industrielle en Allemagne. Sujet relégué au second plan par les institutions muséales françaises\, derrière la porcelaine\, la céramique contemporaine\, la poterie vernaculaire et les arts de la table. Car cette production nous ramène à une affaire de goût. Les qualificatifs accolés au mot céramique et qui devraient permettre de qualifier cette production sont trop souvent péjoratifs : de kitch à clinquante. Le foisonnement des formes\, l’éclat des couleurs mais aussi la modicité des objets\, participent d’une vision dégradée que les collectionneurs sont en train de faire évoluer. \n\n\n	Similaire
URL:https://crocoule.org/notre-evenement/saint-etienne-exposition-temporairesouvenirs-souvenirs/
LOCATION:Musée de la Mine\, 3 Rue du Maréchal Franchet d'Esperey\, Saint Etienne\, 42000
END:VEVENT
BEGIN:VEVENT
DTSTART;TZID=Europe/Paris:20251001T100000
DTEND;TZID=Europe/Paris:20251130T180000
DTSTAMP:20260421T212407
CREATED:20250828T160207Z
LAST-MODIFIED:20250828T160207Z
UID:10012055-1759312800-1764525600@crocoule.org
SUMMARY:Saint-Etienne | Exposition permanente\nL'épopée du charbon
DESCRIPTION:Le charbon\, c’est quoi et à quoi ça sert ?\nDécouvrez trois temps\, trois espaces\, trois ambiances pour comprendre l’ère du Carbonifère\, la formation du charbon\,\nson impact\, son exploitation\, ses usages :\nUne immersion dans le Carbonifère et l’histoire géologique du territoire > Le paysage et la faune il y a 300 millions d’années : quand les végétaux se transforment en roche.\nLe paysage urbain et l’exploitation minière sur le territoire stéphanois > L’exploitation du charbon et ses impacts géographique et économique à l’échelle mondiale en seulement 200 ans.\nUne plongée dans une galerie du Puits Couriot en 1960 > Les effets du charbon à échelle de la vie du mineur : les conditions de travail\, la fraternité et l’aide sociale.\nDe la formation du charbon aux différentes phases d’extraction\, en passant par les difficiles conditions de travail des mineurs\, le charbon n’aura plus de secret pour vous !\nUNE VISITE IMMERSIVE\, SENSORIELLE ET LUDIQUE À DÉCOUVRIR EN FAMILLE ! \n\n\n	Similaire
URL:https://crocoule.org/notre-evenement/saint-etienne-exposition-permanentelepopee-du-charbon/
LOCATION:Musée de la Mine\, 3 Rue du Maréchal Franchet d'Esperey\, Saint Etienne\, 42000
END:VEVENT
BEGIN:VEVENT
DTSTART;TZID=Europe/Paris:20250928T140000
DTEND;TZID=Europe/Paris:20250928T140000
DTSTAMP:20260421T212407
CREATED:20250513T150712Z
LAST-MODIFIED:20250513T150712Z
UID:10011066-1759068000-1759068000@crocoule.org
SUMMARY:Saint-Etienne  | Atelier en famille "à vos pinceaux"
DESCRIPTION:Recouvertes de décors et de\ncouleurs\, les céramiques de\nl’exposition vous inspireront\nsûrement pour une création\nfamiliale de peinture sur\nporcelaine. De quoi ramener un\njoli souvenir de votre passage\nau musée ! \n\n\n	Similaire
URL:https://crocoule.org/notre-evenement/saint-etienne-atelier-en-famille-a-vos-pinceaux-7/
LOCATION:Musée de la Mine\, 3 Rue du Maréchal Franchet d'Esperey\, Saint Etienne\, 42000
CATEGORIES:En famille,Tous les événements
END:VEVENT
BEGIN:VEVENT
DTSTART;TZID=Europe/Paris:20250928T101500
DTEND;TZID=Europe/Paris:20250928T121500
DTSTAMP:20260421T212407
CREATED:20250826T150404Z
LAST-MODIFIED:20250828T160201Z
UID:10011876-1759054500-1759061700@crocoule.org
SUMMARY:Saint-Etienne | Atelier en famille "A vos pinceaux"
DESCRIPTION:Recouvertes de décors et de\ncouleurs\, les céramiques de\nl’exposition vous inspireront\nsûrement pour une création\nfamiliale de peinture sur\nporcelaine. De quoi ramener un\njoli souvenir de votre passage\nau musée ! \n\n\n	Similaire
URL:https://crocoule.org/notre-evenement/saint-etienne-atelier-en-famille-a-vos-pinceaux-9/
LOCATION:Musée de la Mine\, 3 Rue du Maréchal Franchet d'Esperey\, Saint Etienne\, 42000
END:VEVENT
BEGIN:VEVENT
DTSTART;TZID=Europe/Paris:20250927T140000
DTEND;TZID=Europe/Paris:20250927T150000
DTSTAMP:20260421T212407
CREATED:20250826T150335Z
LAST-MODIFIED:20250828T160137Z
UID:10011851-1758981600-1758985200@crocoule.org
SUMMARY:Saint-Etienne | Atelier enfant "Drôle de bestiaire"
DESCRIPTION:Découvre l’exposition temporaire du musée et retrouve les animaux représentés sur les différentes céramiques exposées\, puis crée ton propre bestiaire coloré en pâte à modeler pour décorer une céramique. Repars avec la photo de ta création en souvenir ! \n\n\n	Similaire
URL:https://crocoule.org/notre-evenement/saint-etienne-atelier-enfant-drole-de-bestiaire-7/
LOCATION:Musée de la Mine\, 3 Rue du Maréchal Franchet d'Esperey\, Saint Etienne\, 42000
CATEGORIES:04 ans +,Tous les événements
END:VEVENT
BEGIN:VEVENT
DTSTART;TZID=Europe/Paris:20250927T140000
DTEND;TZID=Europe/Paris:20250927T140000
DTSTAMP:20260421T212407
CREATED:20250513T143402Z
LAST-MODIFIED:20250513T143402Z
UID:10011027-1758981600-1758981600@crocoule.org
SUMMARY:Saint-Etienne  | Atelier enfant "Drôle de bestiaire"
DESCRIPTION:Découvre l’exposition temporaire du musée et retrouve les animaux représentés sur les différentes céramiques exposées\, puis crée ton propre bestiaire coloré en pâte à modeler pour décorer une céramique. Repars avec la photo de ta création en souvenir ! \n\n\n	Similaire
URL:https://crocoule.org/notre-evenement/saint-etienne-atelier-enfant-drole-de-bestiaire-6/
LOCATION:Musée de la Mine\, 3 Rue du Maréchal Franchet d'Esperey\, Saint Etienne\, 42000
CATEGORIES:04 ans +,Tous les événements
END:VEVENT
BEGIN:VEVENT
DTSTART;TZID=Europe/Paris:20250924T140000
DTEND;TZID=Europe/Paris:20250924T160000
DTSTAMP:20260421T212407
CREATED:20250826T150342Z
LAST-MODIFIED:20250828T160143Z
UID:10011857-1758722400-1758729600@crocoule.org
SUMMARY:Saint-Etienne | Atelier enfant "Matières"
DESCRIPTION:Tu connais les herbiers\, les carnets\nde voyage… Cette fois\, nous\nt’invitons à raconter ton expérience\ngrâce à un « carnet de matières » !\nAprès avoir obervé les matières qui\ncomposent Couriot :pierre\, brique\,\nbéton\, verre…\, tu pourras concevoir\nton propre portrait du musée sous\nforme de carnet constitué de\nmatières et de photographies. \n\n\n	Similaire
URL:https://crocoule.org/notre-evenement/saint-etienne-atelier-enfant-matieres-6/
LOCATION:Musée de la Mine\, 3 Rue du Maréchal Franchet d'Esperey\, Saint Etienne\, 42000
END:VEVENT
BEGIN:VEVENT
DTSTART;TZID=Europe/Paris:20250924T140000
DTEND;TZID=Europe/Paris:20250924T140000
DTSTAMP:20260421T212407
CREATED:20250513T143601Z
LAST-MODIFIED:20250513T143601Z
UID:10011030-1758722400-1758722400@crocoule.org
SUMMARY:Saint-Etienne  | Atelier enfant "Matières"
DESCRIPTION:Nous connaissons déjà les\nherbiers\, les carnets de\nvoyage… Et si cette fois\, nous\nracontions notre expérience par\nun « carnet de matières » ? Les\nvisiteurs sont invités à observer\nla composition de Couriot\, à\nen scruter toutes les matières\nqui le composent : la pierre\, la\nbrique\, le béton\, le verre… et\nà concevoir\, dans un carnet\,\nun portrait du musée entre\nmatières et photographies. \n\n\n	Similaire
URL:https://crocoule.org/notre-evenement/saint-etienne-atelier-enfant-matieres-5/
LOCATION:Musée de la Mine\, 3 Rue du Maréchal Franchet d'Esperey\, Saint Etienne\, 42000
CATEGORIES:06 ans +,Tous les événements
END:VEVENT
BEGIN:VEVENT
DTSTART;TZID=Europe/Paris:20250924T140000
DTEND;TZID=Europe/Paris:20250924T140000
DTSTAMP:20260421T212407
CREATED:20250513T142959Z
LAST-MODIFIED:20250513T142959Z
UID:10011016-1758722400-1758722400@crocoule.org
SUMMARY:Saint-Etienne  | Atelier enfant "Le voyage coloré"
DESCRIPTION:Rouge\, orange\, noir\, viens sentir le souffle du volcan ; poissons\,\ncoquillages et crustacés\, viens\nplonger dans l’océan… Enfants et\nparents découvrent l’exposition\ntemporaire à travers plusieurs\noeuvres emblématiques. \n\n\n	Similaire
URL:https://crocoule.org/notre-evenement/saint-etienne-atelier-enfant-le-voyage-colore-7/
LOCATION:Musée de la Mine\, 3 Rue du Maréchal Franchet d'Esperey\, Saint Etienne\, 42000
CATEGORIES:01 an +,Tous les événements
END:VEVENT
BEGIN:VEVENT
DTSTART;TZID=Europe/Paris:20250924T104500
DTEND;TZID=Europe/Paris:20250924T113000
DTSTAMP:20260421T212407
CREATED:20250826T150330Z
LAST-MODIFIED:20250828T160132Z
UID:10011846-1758710700-1758713400@crocoule.org
SUMMARY:Saint-Etienne | Atelier enfant "Le voyage coloré"
DESCRIPTION:Rouge\, orange\, noir\, viens sentir le souffle du volcan ; poissons\,\ncoquillages et crustacés\, viens\nplonger dans l’océan… Enfants et\nparents découvrent l’exposition\ntemporaire à travers plusieurs\noeuvres emblématiques. \n\n\n	Similaire
URL:https://crocoule.org/notre-evenement/saint-etienne-atelier-enfant-le-voyage-colore-9/
LOCATION:Musée de la Mine\, 3 Rue du Maréchal Franchet d'Esperey\, Saint Etienne\, 42000
CATEGORIES:01 an +,Tous les événements
END:VEVENT
BEGIN:VEVENT
DTSTART;TZID=Europe/Paris:20250920T100000
DTEND;TZID=Europe/Paris:20250921T180000
DTSTAMP:20260421T212407
CREATED:20250826T150329Z
LAST-MODIFIED:20250828T160213Z
UID:10011844-1758362400-1758477600@crocoule.org
SUMMARY:Saint-Etienne | Journées européennes du patrimoine
DESCRIPTION:Au programme\, visites ludiques\, jeux en famille\, escape game\, contes pour les plus jeunes\, visites de l’exposition temporaire Souvenirs\, Souvenirs\, concert et blind test des années 50 à 70 ! \n\n\n	Similaire
URL:https://crocoule.org/notre-evenement/saint-etienne-journees-europeennes-du-patrimoine/
LOCATION:Musée de la Mine\, 3 Rue du Maréchal Franchet d'Esperey\, Saint Etienne\, 42000
CATEGORIES:Tous les événements,Tout public
END:VEVENT
BEGIN:VEVENT
DTSTART;TZID=Europe/Paris:20250917T140000
DTEND;TZID=Europe/Paris:20250917T160000
DTSTAMP:20260421T212407
CREATED:20250826T150352Z
LAST-MODIFIED:20250828T160151Z
UID:10011868-1758117600-1758124800@crocoule.org
SUMMARY:Saint-Etienne | Atelier enfants "Cyanotype"
DESCRIPTION:Bordé par le parc Sanguedolce\,\npartie de l’ancien site minier\,\nle musée garde en son sein\nplusieurs recoins verdoyants. Il\naccueille un jardin stéphanien\nrécemment réaménagé\,\nprésentant des plantes en lien\navec celles qui sont à l’origine\ndu charbon\, il y a 300 millions\nd’années. Au gré d’une visite\nde ces jardins de Couriot\, vous\ncueillerez des herbes\, branchages\,\nfeuilles… Puis\, en atelier\, vous\nagencerez ces éléments pour\nen garder la trace sous forme de\ncyanotype\, technique de tirages\nphotographiques bleutés réalisés\nen négatif. \n\n\n	Similaire
URL:https://crocoule.org/notre-evenement/saint-etienne-atelier-enfants-cyanotype-3/
LOCATION:Musée de la Mine\, 3 Rue du Maréchal Franchet d'Esperey\, Saint Etienne\, 42000
END:VEVENT
BEGIN:VEVENT
DTSTART;TZID=Europe/Paris:20250917T140000
DTEND;TZID=Europe/Paris:20250917T140000
DTSTAMP:20260421T212407
CREATED:20250513T134310Z
LAST-MODIFIED:20250603T094222Z
UID:10010969-1758117600-1758117600@crocoule.org
SUMMARY:Saint-Etienne  | Atelier enfants "Cyanotype"
DESCRIPTION:Bordé par le parc Sanguedolce\,\npartie de l’ancien site minier\,\nle musée garde en son sein\nplusieurs recoins verdoyants. Il\naccueille un jardin stéphanien\nrécemment réaménagé\,\nprésentant des plantes en lien\navec celles qui sont à l’origine\ndu charbon\, il y a 300 millions\nd’années. Au gré d’une visite\nde ces jardins de Couriot\, vous\ncueillerez des herbes\, branchages\,\nfeuilles… Puis\, en atelier\, vous\nagencerez ces éléments pour\nen garder la trace sous forme de\ncyanotype\, technique de tirages\nphotographiques bleutés réalisés\nen négatif. \n\n\n	Similaire
URL:https://crocoule.org/notre-evenement/saint-etienne-atelier-enfants-cyanotype-2/
LOCATION:Musée de la Mine\, 3 Rue du Maréchal Franchet d'Esperey\, Saint Etienne\, 42000
CATEGORIES:12 ans +,Tous les événements
END:VEVENT
BEGIN:VEVENT
DTSTART;TZID=Europe/Paris:20250914T101500
DTEND;TZID=Europe/Paris:20250914T121500
DTSTAMP:20260421T212407
CREATED:20250826T150358Z
LAST-MODIFIED:20250828T160156Z
UID:10011873-1757844900-1757852100@crocoule.org
SUMMARY:Saint-Etienne | Atelier en famille " Mille feuille à 4 mains"
DESCRIPTION:Dans cette animation inédite en\nbinôme adulte-enfant\, redécouvrez\nla mine et son univers puis créez à 4 mains votre boite souvenir de la mine \n\n\n	Similaire
URL:https://crocoule.org/notre-evenement/saint-etienne-atelier-en-famille-mille-feuille-a-4-mains-2/
LOCATION:Musée de la Mine\, 3 Rue du Maréchal Franchet d'Esperey\, Saint Etienne\, 42000
END:VEVENT
BEGIN:VEVENT
DTSTART;TZID=Europe/Paris:20250914T101500
DTEND;TZID=Europe/Paris:20250914T101500
DTSTAMP:20260421T212407
CREATED:20250513T150639Z
LAST-MODIFIED:20250513T150639Z
UID:10011059-1757844900-1757844900@crocoule.org
SUMMARY:Saint-Etienne  | Atelier en famille "Mille feuille"
DESCRIPTION:Dans cette animation inédite en duo adulte-enfant\, découvrez la mine avec un médiateur puis créez à quatre mains votre boîte souvenir de la mine. \n\n\n	Similaire
URL:https://crocoule.org/notre-evenement/saint-etienne-atelier-en-famille-mille-feuille-3/
LOCATION:Musée de la Mine\, 3 Rue du Maréchal Franchet d'Esperey\, Saint Etienne\, 42000
CATEGORIES:En famille,Tous les événements
END:VEVENT
BEGIN:VEVENT
DTSTART;TZID=Europe/Paris:20250913T140000
DTEND;TZID=Europe/Paris:20250913T160000
DTSTAMP:20260421T212407
CREATED:20250826T150349Z
LAST-MODIFIED:20250828T160148Z
UID:10011864-1757772000-1757779200@crocoule.org
SUMMARY:Saint-Etienne | Atelier enfant "Apprenti potier au musée"
DESCRIPTION:Au musée\, on met les mains dans\nla terre ! Découvre les céramiques\nde l’exposition puis\, avec de\nl’argile\, expérimente les formes\net les motifs et repars avec ta\nCréation ! \n\n\n	Similaire
URL:https://crocoule.org/notre-evenement/saint-etienne-atelier-enfant-apprenti-potier-au-musee-8/
LOCATION:Musée de la Mine\, 3 Rue du Maréchal Franchet d'Esperey\, Saint Etienne\, 42000
END:VEVENT
BEGIN:VEVENT
DTSTART;TZID=Europe/Paris:20250913T140000
DTEND;TZID=Europe/Paris:20250913T140000
DTSTAMP:20260421T212407
CREATED:20250513T150542Z
LAST-MODIFIED:20250513T150542Z
UID:10011046-1757772000-1757772000@crocoule.org
SUMMARY:Saint-Etienne  | Atelier enfant "Apprenti potier au musée"
DESCRIPTION:Au musée\, on met les mains dans\nla terre ! Découvre les céramiques\nde l’exposition puis\, avec de\nl’argile\, expérimente les formes\net les motifs et repars avec ta\ncréation ! \n\n\n	Similaire
URL:https://crocoule.org/notre-evenement/saint-etienne-atelier-enfant-apprenti-potier-au-musee-7/
LOCATION:Musée de la Mine\, 3 Rue du Maréchal Franchet d'Esperey\, Saint Etienne\, 42000
CATEGORIES:08 ans +,Tous les événements
END:VEVENT
BEGIN:VEVENT
DTSTART;TZID=Europe/Paris:20250910T140000
DTEND;TZID=Europe/Paris:20250910T153000
DTSTAMP:20260421T212407
CREATED:20250826T150343Z
LAST-MODIFIED:20250828T160143Z
UID:10011859-1757512800-1757518200@crocoule.org
SUMMARY:Saint-Etienne | Atelier enfant "Mine et une histoire d'été"
DESCRIPTION:Ouvrez grands vos yeux\, tendez\nl’oreille et saisissez votre crayon\npour illustrer un conte au rythme\ndes quatre saisons : le jardin\nau printemps\, les souvenirs de\nvacances l’été\, les frissons en\nautomne et l’esprit de Noël en\nHiver ! \n\n\n	Similaire
URL:https://crocoule.org/notre-evenement/saint-etienne-atelier-enfant-mine-et-une-histoire-dete/
LOCATION:Musée de la Mine\, 3 Rue du Maréchal Franchet d'Esperey\, Saint Etienne\, 42000
END:VEVENT
BEGIN:VEVENT
DTSTART;TZID=Europe/Paris:20250910T140000
DTEND;TZID=Europe/Paris:20250910T140000
DTSTAMP:20260421T212407
CREATED:20250513T150514Z
LAST-MODIFIED:20250513T150514Z
UID:10011036-1757512800-1757512800@crocoule.org
SUMMARY:Saint-Etienne  | Atelier enfant "Mine et une histoire"
DESCRIPTION:Ouvre grand tes yeux\, tends l’oreille et saisis ton crayon pour illustrer une histoire de vacances. \n\n\n	Similaire
URL:https://crocoule.org/notre-evenement/saint-etienne-atelier-enfant-mine-et-une-histoire-4/
LOCATION:Musée de la Mine\, 3 Rue du Maréchal Franchet d'Esperey\, Saint Etienne\, 42000
CATEGORIES:06 ans +,Tous les événements
END:VEVENT
BEGIN:VEVENT
DTSTART;TZID=Europe/Paris:20250907T140000
DTEND;TZID=Europe/Paris:20250907T140000
DTSTAMP:20260421T212407
CREATED:20250513T150712Z
LAST-MODIFIED:20250513T150712Z
UID:10011065-1757253600-1757253600@crocoule.org
SUMMARY:Saint-Etienne  | Atelier en famille "à vos pinceaux"
DESCRIPTION:Recouvertes de décors et de\ncouleurs\, les céramiques de\nl’exposition vous inspireront\nsûrement pour une création\nfamiliale de peinture sur\nporcelaine. De quoi ramener un\njoli souvenir de votre passage\nau musée ! \n\n\n	Similaire
URL:https://crocoule.org/notre-evenement/saint-etienne-atelier-en-famille-a-vos-pinceaux-6/
LOCATION:Musée de la Mine\, 3 Rue du Maréchal Franchet d'Esperey\, Saint Etienne\, 42000
CATEGORIES:En famille,Tous les événements
END:VEVENT
BEGIN:VEVENT
DTSTART;TZID=Europe/Paris:20250907T101500
DTEND;TZID=Europe/Paris:20250907T121500
DTSTAMP:20260421T212407
CREATED:20250826T150403Z
LAST-MODIFIED:20250828T160156Z
UID:10011875-1757240100-1757247300@crocoule.org
SUMMARY:Saint-Etienne | Atelier en famille "A vos pinceaux"
DESCRIPTION:Recouvertes de décors et de\ncouleurs\, les céramiques de\nl’exposition vous inspireront\nsûrement pour une création\nfamiliale de peinture sur\nporcelaine. De quoi ramener un\njoli souvenir de votre passage\nau musée ! \n\n\n	Similaire
URL:https://crocoule.org/notre-evenement/saint-etienne-atelier-en-famille-a-vos-pinceaux-8/
LOCATION:Musée de la Mine\, 3 Rue du Maréchal Franchet d'Esperey\, Saint Etienne\, 42000
END:VEVENT
BEGIN:VEVENT
DTSTART;TZID=Europe/Paris:20250906T140000
DTEND;TZID=Europe/Paris:20250906T150000
DTSTAMP:20260421T212407
CREATED:20250826T150335Z
LAST-MODIFIED:20250828T160133Z
UID:10011850-1757167200-1757170800@crocoule.org
SUMMARY:Saint-Etienne | Atelier enfant "Fourmine"
DESCRIPTION:Découvre les insectes et autres petits animaux du Carbonifère\, lorsque le charbon s’est formé sur terre puis fabrique ta propre bestiole ! \n\n\n	Similaire
URL:https://crocoule.org/notre-evenement/saint-etienne-atelier-enfant-fourmine-4/
LOCATION:Musée de la Mine\, 3 Rue du Maréchal Franchet d'Esperey\, Saint Etienne\, 42000
CATEGORIES:04 ans +,Tous les événements
END:VEVENT
BEGIN:VEVENT
DTSTART;TZID=Europe/Paris:20250906T140000
DTEND;TZID=Europe/Paris:20250906T140000
DTSTAMP:20260421T212407
CREATED:20250513T143200Z
LAST-MODIFIED:20250513T143200Z
UID:10011022-1757167200-1757167200@crocoule.org
SUMMARY:Saint-Etienne  | Atelier enfant "Fourmine"
DESCRIPTION:Découvre les insectes et autres\npetits animaux du Carbonifère\,\nlorsque le charbon s’est formé\nsur terre puis fabrique ta propre\nbestiole ! \n\n\n	Similaire
URL:https://crocoule.org/notre-evenement/saint-etienne-atelier-enfant-fourmine-3/
LOCATION:Musée de la Mine\, 3 Rue du Maréchal Franchet d'Esperey\, Saint Etienne\, 42000
CATEGORIES:04 ans +,Tous les événements
END:VEVENT
END:VCALENDAR