BEGIN:VCALENDAR
VERSION:2.0
PRODID:-//Crocoule - ECPv6.15.20//NONSGML v1.0//EN
CALSCALE:GREGORIAN
METHOD:PUBLISH
X-WR-CALNAME:Crocoule
X-ORIGINAL-URL:https://crocoule.org
X-WR-CALDESC:Évènements pour Crocoule
REFRESH-INTERVAL;VALUE=DURATION:PT1H
X-Robots-Tag:noindex
X-PUBLISHED-TTL:PT1H
BEGIN:VTIMEZONE
TZID:Europe/Paris
BEGIN:DAYLIGHT
TZOFFSETFROM:+0100
TZOFFSETTO:+0200
TZNAME:CEST
DTSTART:20210328T010000
END:DAYLIGHT
BEGIN:STANDARD
TZOFFSETFROM:+0200
TZOFFSETTO:+0100
TZNAME:CET
DTSTART:20211031T010000
END:STANDARD
BEGIN:DAYLIGHT
TZOFFSETFROM:+0100
TZOFFSETTO:+0200
TZNAME:CEST
DTSTART:20220327T010000
END:DAYLIGHT
BEGIN:STANDARD
TZOFFSETFROM:+0200
TZOFFSETTO:+0100
TZNAME:CET
DTSTART:20221030T010000
END:STANDARD
BEGIN:DAYLIGHT
TZOFFSETFROM:+0100
TZOFFSETTO:+0200
TZNAME:CEST
DTSTART:20230326T010000
END:DAYLIGHT
BEGIN:STANDARD
TZOFFSETFROM:+0200
TZOFFSETTO:+0100
TZNAME:CET
DTSTART:20231029T010000
END:STANDARD
END:VTIMEZONE
BEGIN:VEVENT
DTSTART;VALUE=DATE:20221102
DTEND;VALUE=DATE:20221104
DTSTAMP:20260424T080035
CREATED:20221013T132623Z
LAST-MODIFIED:20221013T132623Z
UID:10000350-1667347200-1667519999@crocoule.org
SUMMARY:ATELIERS DE PRATIQUE ARTISTIQUE
DESCRIPTION:Pendant les vacances\, le Musée devient le terrain d’expérimentation des enfants. Les ateliers plastiques permettent au jeune public d’explorer différentes notions\, matières\, gestes\, assemblages et techniques d’oeuvre dans les expositions. Les stages des vacances de Toussaint seront dédiés à Marcelle Cahn et ceux de Noël à l’exposition de The House of Dust. \nDurée : Stage de 2 jours – 9h à 12h et 14h à 17h \n  \n\n\n	Similaire
URL:https://crocoule.org/notre-evenement/ateliers-de-pratique-artistique-2/
LOCATION:Musée d’Art Moderne et Contemporain\, Rue Fernand Léger\, Saint-Priest-en-Jarez\, 42270
CATEGORIES:Activité en semaine,Activité pendant les vacances
END:VEVENT
END:VCALENDAR