BEGIN:VCALENDAR
VERSION:2.0
PRODID:-//Crocoule - ECPv6.15.15//NONSGML v1.0//EN
CALSCALE:GREGORIAN
METHOD:PUBLISH
X-WR-CALNAME:Crocoule
X-ORIGINAL-URL:https://crocoule.org
X-WR-CALDESC:Évènements pour Crocoule
REFRESH-INTERVAL;VALUE=DURATION:PT1H
X-Robots-Tag:noindex
X-PUBLISHED-TTL:PT1H
BEGIN:VTIMEZONE
TZID:Europe/Paris
BEGIN:DAYLIGHT
TZOFFSETFROM:+0100
TZOFFSETTO:+0200
TZNAME:CEST
DTSTART:20210328T010000
END:DAYLIGHT
BEGIN:STANDARD
TZOFFSETFROM:+0200
TZOFFSETTO:+0100
TZNAME:CET
DTSTART:20211031T010000
END:STANDARD
BEGIN:DAYLIGHT
TZOFFSETFROM:+0100
TZOFFSETTO:+0200
TZNAME:CEST
DTSTART:20220327T010000
END:DAYLIGHT
BEGIN:STANDARD
TZOFFSETFROM:+0200
TZOFFSETTO:+0100
TZNAME:CET
DTSTART:20221030T010000
END:STANDARD
BEGIN:DAYLIGHT
TZOFFSETFROM:+0100
TZOFFSETTO:+0200
TZNAME:CEST
DTSTART:20230326T010000
END:DAYLIGHT
BEGIN:STANDARD
TZOFFSETFROM:+0200
TZOFFSETTO:+0100
TZNAME:CET
DTSTART:20231029T010000
END:STANDARD
END:VTIMEZONE
BEGIN:VEVENT
DTSTART;TZID=Europe/Paris:20221221T090000
DTEND;TZID=Europe/Paris:20221223T120000
DTSTAMP:20260420T025520
CREATED:20221128T150551Z
LAST-MODIFIED:20221128T150551Z
UID:10000547-1671613200-1671796800@crocoule.org
SUMMARY:ATELIER DES VACANCES
DESCRIPTION:Pendant les vacances scolaires\, le Musée devient le terrain d’expérimentation des enfants. Les ateliers plastiques permettent au jeune public d’explorer différentes notions– matières\, gestes\, assemblages – et techniques à l’oeuvre dans les expositions. Les stages des vacances de Noël seront dédiés à l’exposition The House of Dust. \n\n\n	Similaire
URL:https://crocoule.org/notre-evenement/atelier-des-vacances/
LOCATION:Musée d’Art Moderne et Contemporain – Saint Étienne
END:VEVENT
BEGIN:VEVENT
DTSTART;TZID=Europe/Paris:20221210T100000
DTEND;TZID=Europe/Paris:20221210T120000
DTSTAMP:20260420T025520
CREATED:20221128T122403Z
LAST-MODIFIED:20221128T122403Z
UID:10000498-1670666400-1670673600@crocoule.org
SUMMARY:VISITE-ATELIER
DESCRIPTION:Manipuler des matériaux et des objets\, apprendre à regarder des oeuvres : un samedi par mois\, une expérience amusante pour découvrir les expositions et développer sa créativité ! Chaque trimestre\, un thème différent est à l’honneur et d’octobre à décembre\, place aux déclinaisons autour de la notion d’espace : l’espace pictural\, intérieur\, l’environnement ou encore l’espace scénique. \n\n\n	Similaire
URL:https://crocoule.org/notre-evenement/visite-atelier/
LOCATION:Musée d’Art Moderne et Contemporain – Saint Étienne
CATEGORIES:Activité du week-end
END:VEVENT
BEGIN:VEVENT
DTSTART;TZID=Europe/Paris:20221112T100000
DTEND;TZID=Europe/Paris:20221112T120000
DTSTAMP:20260420T025520
CREATED:20221013T134007Z
LAST-MODIFIED:20221013T135142Z
UID:10000353-1668247200-1668254400@crocoule.org
SUMMARY:ATELIERS DE PRATIQUE ARTISTIQUE
DESCRIPTION:Manipuler des matériaux et des objets\, apprendre à regarder des oeuvres : un samedi par mois\, une expérience amusante pour découvrir les expositions et développer sa créativité ! Chaque trimestre\, un thème différent sa créativité est à l’honneur et d’octobre à décembre\, place au déclinaisons autour de la notion d’espace : l’espace pictural\, intérieur\, l’environnement ou encore l’espace scénique. \n  \n\n\n	Similaire
URL:https://crocoule.org/notre-evenement/ateliers-de-pratique-artistique-4/
LOCATION:Musée d’Art Moderne et Contemporain – Saint Étienne
CATEGORIES:Activité du week-end
END:VEVENT
BEGIN:VEVENT
DTSTART;TZID=Europe/Paris:20221107T090000
DTEND;TZID=Europe/Paris:20221107T170000
DTSTAMP:20260420T025520
CREATED:20221013T133430Z
LAST-MODIFIED:20221013T133512Z
UID:10000352-1667811600-1667840400@crocoule.org
SUMMARY:ATELIERS DE PRATIQUE ARTISTIQUE
DESCRIPTION:Pendant les vacances\, le Musée devient le terrain d’expérimentation des enfants. Les ateliers plastiques permettent au jeune public d’explorer différentes notions\, matières\, gestes\, assemblages et techniques d’oeuvre dans les expositions. Les stages des vacances de Toussaint seront dédiés à Marcelle Cahn et ceux de Noël à l’exposition de The House of Dust. \nDurée : stage d’une journée – 9h à 12h et 14h à 17h\n*repas n’est pas ground par le Musée \n\n\n	Similaire
URL:https://crocoule.org/notre-evenement/ateliers-de-pratique-artistique-3/
LOCATION:Musée d’Art Moderne et Contemporain – Saint Étienne
CATEGORIES:Activité en semaine,Activité pendant les vacances
END:VEVENT
BEGIN:VEVENT
DTSTART;TZID=Europe/Paris:20221026T090000
DTEND;TZID=Europe/Paris:20221028T120000
DTSTAMP:20260420T025520
CREATED:20221013T131845Z
LAST-MODIFIED:20221013T131845Z
UID:10000349-1666774800-1666958400@crocoule.org
SUMMARY:ATELIERS DE PRATIQUE ARTISTIQUE
DESCRIPTION:Pendant les vacances\, le Musée devient le terrain d’expérimentation des enfants. Les ateliers plastiques permettent au jeune public d’explorer différentes notions\, matières\, gestes\, assemblages et techniques d’oeuvre dans les expositions. Les stages des vacances de Toussaint seront dédiés à Marcelle Cahn et ceux de Noël à l’exposition de The House of Dust. \nDurée : Stage de 3 demi-journée (9h-12h). \n  \n  \n  \n\n\n	Similaire
URL:https://crocoule.org/notre-evenement/ateliers-de-pratique-artistique/
LOCATION:Musée d’Art Moderne et Contemporain – Saint Étienne
CATEGORIES:Activité en semaine,Activité pendant les vacances
END:VEVENT
END:VCALENDAR