BEGIN:VCALENDAR
VERSION:2.0
PRODID:-//Crocoule - ECPv6.15.15//NONSGML v1.0//EN
CALSCALE:GREGORIAN
METHOD:PUBLISH
X-ORIGINAL-URL:https://crocoule.org
X-WR-CALDESC:Évènements pour Crocoule
REFRESH-INTERVAL;VALUE=DURATION:PT1H
X-Robots-Tag:noindex
X-PUBLISHED-TTL:PT1H
BEGIN:VTIMEZONE
TZID:Europe/Paris
BEGIN:DAYLIGHT
TZOFFSETFROM:+0100
TZOFFSETTO:+0200
TZNAME:CEST
DTSTART:20200329T010000
END:DAYLIGHT
BEGIN:STANDARD
TZOFFSETFROM:+0200
TZOFFSETTO:+0100
TZNAME:CET
DTSTART:20201025T010000
END:STANDARD
BEGIN:DAYLIGHT
TZOFFSETFROM:+0100
TZOFFSETTO:+0200
TZNAME:CEST
DTSTART:20210328T010000
END:DAYLIGHT
BEGIN:STANDARD
TZOFFSETFROM:+0200
TZOFFSETTO:+0100
TZNAME:CET
DTSTART:20211031T010000
END:STANDARD
BEGIN:DAYLIGHT
TZOFFSETFROM:+0100
TZOFFSETTO:+0200
TZNAME:CEST
DTSTART:20220327T010000
END:DAYLIGHT
BEGIN:STANDARD
TZOFFSETFROM:+0200
TZOFFSETTO:+0100
TZNAME:CET
DTSTART:20221030T010000
END:STANDARD
BEGIN:DAYLIGHT
TZOFFSETFROM:+0100
TZOFFSETTO:+0200
TZNAME:CEST
DTSTART:20230326T010000
END:DAYLIGHT
BEGIN:STANDARD
TZOFFSETFROM:+0200
TZOFFSETTO:+0100
TZNAME:CET
DTSTART:20231029T010000
END:STANDARD
BEGIN:DAYLIGHT
TZOFFSETFROM:+0100
TZOFFSETTO:+0200
TZNAME:CEST
DTSTART:20240331T010000
END:DAYLIGHT
BEGIN:STANDARD
TZOFFSETFROM:+0200
TZOFFSETTO:+0100
TZNAME:CET
DTSTART:20241027T010000
END:STANDARD
BEGIN:DAYLIGHT
TZOFFSETFROM:+0100
TZOFFSETTO:+0200
TZNAME:CEST
DTSTART:20250330T010000
END:DAYLIGHT
BEGIN:STANDARD
TZOFFSETFROM:+0200
TZOFFSETTO:+0100
TZNAME:CET
DTSTART:20251026T010000
END:STANDARD
END:VTIMEZONE
BEGIN:VEVENT
DTSTART;TZID=Europe/Paris:20240221T140000
DTEND;TZID=Europe/Paris:20240221T170000
DTSTAMP:20260421T022435
CREATED:20231229T164421Z
LAST-MODIFIED:20231229T164421Z
UID:10002833-1708524000-1708534800@crocoule.org
SUMMARY:VÉLO À CROQUER
DESCRIPTION:VÉLO À CROQUER – SAINT ÉTIENNE – LOIRE\nLe Musée d’art et d’industrie de Saint Étienne propose l’atelier vélo à croquer ! \nSix vélo parmis les plus emblématiques de la collection des cycles sont passés au peigne fin lors d’une visite. Chaque enfant croque celui qui lui a tapé dans l’oeil pour l’intégrer à une création tres personnelle! \nDépart : 14h00\nDurée : 2h00\nRendez-vous à 13h50 à l’accueil du musée. \nRéservation obligatoire via notre site internet.\nPour toute demande de renseignement\, merci de nous contacter au 04 77 49 73 00. \nMusée d’art et d’industrie – Saint Étienne – VÉLO À CROQUER\nLe musée d’Art et d’Industrie de Saint-Étienne est un musée de société situé sur la commune de Saint-Étienne\, dans le département de la Loire. En effet\, ce musée abrite des chefs-d’œuvre de l’industrie : de belles collections d’armes\, de rubaneries et de cycles\, ceci sur trois étages (plus un quatrième réservé aux expositions temporaires). Des métiers à tisser dont le célèbre métier Jacquard y sont aussi présentés. \nPar son contenu\, le musée offre un regard sur les industries d’art et de design du quotidien. Le musée s’ouvre également au monde contemporain\, par sa muséographie sur les nouvelles technologies de l’information et de la communication. \nNaissance d’un musée municipal à vocation généraliste et esthétique\nLes collections initiées en 1833 à partir du cabinet de curiosité d’Edouard Eyssautier (médailles\, tableaux\, coquillages et animaux naturalisés)\, puis d’un ensemble d’armes et rubans\, provenant de dons et achats visaient à instituer un « musée de fabrique ». En 1851\, des prestigieuses collections du maréchal Oudinot\, justifient l’installation du musée dans le Palais des Arts achevé en 1861. Les travaux de cet édifice d’abord prévu pour abriter la sous-préfecture\, furent arrêtés en 1856\, date à laquelle Saint-Etienne devient Préfecture de la Loire. La municipalité décida alors de poursuivre l’édification d’un musée célébrant les industries d’art impliquées dans l’essor de la ville. \n\n\n	Similaire
URL:https://crocoule.org/notre-evenement/velo-a-croquer-9/
LOCATION:Musée d’art et d’industrie\, 2 place Louis Comte\, saint etienne\, France
CATEGORIES:08 ans +,Activité en semaine,Activité pendant les vacances,En famille,Intérieur
END:VEVENT
BEGIN:VEVENT
DTSTART;TZID=Europe/Paris:20210117T140000
DTEND;TZID=Europe/Paris:20210117T160000
DTSTAMP:20260421T022435
CREATED:20201230T104456Z
LAST-MODIFIED:20201230T104457Z
UID:10000042-1610892000-1610899200@crocoule.org
SUMMARY:Vélo à croquer
DESCRIPTION:Six vélos parmi les plus\nemblématiques de la collection des cycles sont passés au peigne fin lors d’une\nvisite. Chaque enfant croque celui qui lui a tapé dans l’œil pour l’intégrer à\nune création très personnelle! \n\n\n\n\n\n\n\n\n\n\n\n\n	Similaire
URL:https://crocoule.org/notre-evenement/velo-a-croquer/
LOCATION:Musée d’art et d’industrie\, 2 place Louis Comte\, saint etienne\, France
END:VEVENT
END:VCALENDAR