BEGIN:VCALENDAR
VERSION:2.0
PRODID:-//Crocoule - ECPv6.15.15//NONSGML v1.0//EN
CALSCALE:GREGORIAN
METHOD:PUBLISH
X-WR-CALNAME:Crocoule
X-ORIGINAL-URL:https://crocoule.org
X-WR-CALDESC:Évènements pour Crocoule
REFRESH-INTERVAL;VALUE=DURATION:PT1H
X-Robots-Tag:noindex
X-PUBLISHED-TTL:PT1H
BEGIN:VTIMEZONE
TZID:Europe/Paris
BEGIN:DAYLIGHT
TZOFFSETFROM:+0100
TZOFFSETTO:+0200
TZNAME:CEST
DTSTART:20220327T010000
END:DAYLIGHT
BEGIN:STANDARD
TZOFFSETFROM:+0200
TZOFFSETTO:+0100
TZNAME:CET
DTSTART:20221030T010000
END:STANDARD
BEGIN:DAYLIGHT
TZOFFSETFROM:+0100
TZOFFSETTO:+0200
TZNAME:CEST
DTSTART:20230326T010000
END:DAYLIGHT
BEGIN:STANDARD
TZOFFSETFROM:+0200
TZOFFSETTO:+0100
TZNAME:CET
DTSTART:20231029T010000
END:STANDARD
BEGIN:DAYLIGHT
TZOFFSETFROM:+0100
TZOFFSETTO:+0200
TZNAME:CEST
DTSTART:20240331T010000
END:DAYLIGHT
BEGIN:STANDARD
TZOFFSETFROM:+0200
TZOFFSETTO:+0100
TZNAME:CET
DTSTART:20241027T010000
END:STANDARD
END:VTIMEZONE
BEGIN:VEVENT
DTSTART;TZID=Europe/Paris:20230807T100000
DTEND;TZID=Europe/Paris:20230807T111500
DTSTAMP:20260421T141733
CREATED:20230727T073500Z
LAST-MODIFIED:20230727T073500Z
UID:10002036-1691402400-1691406900@crocoule.org
SUMMARY:INITIATION ORPAILLAGE
DESCRIPTION:// INITIATION ORPAILLAGE // APPRENTIS CHERCHEURS D’OR\nPendant les vacances\, faites une initiation orpaillage. \nRéservation  \nPar Rémy Désécures\, animateur nature\n \nLes pieds dans l’eau\, vous recherchez des minéraux semi-précieux cachés dans la rivière\, à la manière des chercheurs d’or. Attention\, ne prévoyez pas immédiatement la fonte de lingot ! \nRDV plage du Moulin d’Ancette à 10h. \nC’est quoi l’orpaillage ? \nL’orpaillage est une activité captivante qui consiste à rechercher et extraire de l’or à partir de cours d’eau ou de rivières. Cette pratique\, qui remonte à l’époque de la ruée vers l’or\, a perduré au fil des siècles. Elle continue d’ailleurs d’attirer les passionnés d’aventure et de trésors enfouis. \nTout d’abord\, il est important de souligner que l’orpaillage nécessite une connaissance approfondie de l’or. Mais également de son comportement et de ses caractéristiques. En effet\, la recherche de ce précieux métal nécessite un équipement adéquat et des compétences spécifiques. \nPour commencer\, les chercheurs d’or utilisent des techniques de prospection pour localiser les zones potentiellement riches en or. Ces techniques comprennent l’étude des caractéristiques géologiques du terrain. L’observation des dépôts de sédiments et l’utilisation d’outils. Tels que des détecteurs de métaux et des panneaux d’orpaillage. \nUne fois que l’orpailleur a identifié un endroit prometteur\, il procède à l’extraction de l’or à l’aide d’outils tels que la batée\, une sorte de grande casserole en forme de cône. Avec habileté\, l’orpailleur plonge la batée dans l’eau\, récupère du sable\, des graviers et des particules aurifères\, puis les agite délicatement. Les particules d’or\, étant plus lourdes que les autres matériaux\, se déposent au fond de la batée\, permettant ainsi à l’orpailleur de les collecter. \nEnsuite\, grâce à un processus appelé « lavage »\, l’orpailleur sépare l’or des autres matériaux. Il utilise généralement de l’eau pour éliminer les résidus plus légers. Tout en conservant les précieuses pépites d’or. Ce processus est répété plusieurs fois jusqu’à ce que l’orpailleur ait extrait autant d’or que possible. \nEnfin\, une fois que l’or a été extrait et collecté\, il est souvent nécessaire de le purifier et de le raffiner. Cette étape permet d’obtenir de l’or de haute qualité\, prêt à être utilisé dans diverses applications\, telles que la bijouterie ou l’industrie électronique. \n\n\n	Similaire
URL:https://crocoule.org/notre-evenement/initiation-orpaillage-4/
LOCATION:Moulin d’Ancette\, Ancette\, Saint-Julien-d'Ance\, 43500
CATEGORIES:08 ans +
END:VEVENT
BEGIN:VEVENT
DTSTART;TZID=Europe/Paris:20230726T150000
DTEND;TZID=Europe/Paris:20230726T173000
DTSTAMP:20260421T141733
CREATED:20230724T073155Z
LAST-MODIFIED:20230724T073155Z
UID:10001832-1690383600-1690392600@crocoule.org
SUMMARY:MOULIN À PAROLES
DESCRIPTION:MOULIN À PAROLES\nDécouvrez l’atelier moulin à Paroles à Saint Julien d’Ance. \nAprès une découverte des entrailles du moulin avec sa roue horizontale\, sa meule et son blutoir\, laissez-vous emporter par le flot des contesb d’Alain Aymé\, puisés dans le répertoire de la tradition orale populaire du Québec. \n\n\nDescription\nPar les Amis de Saint Julien d’Ance et Alain Aymé\, conteur.\nInscription obligatoire. Durée : 2h30. \n\n\nThèmes\n\nEau\nConte\n\n\n\n\nTarifs\n\nPlein tarif : 5 €\, Tarif réduit : 3 € (18-25 ans et demandeurs d’emploi). \nGratuit pour les moins de 18 ans. \nRéservation  \nLe Moulin d’Ancette – Saint-Julien-d’Ance\nLe dernier moulin en fonctionnement sur l’Ance du Nord\, et sa collection d’outils anciens « le petit musée de Jojo ». \nSitué dans un hameau en contrebas du bourg de Saint-Julien d’Ance\, les origines du moulin d’Ancette remontent à 1345. C’est au moment de sa reconstruction\, en 1868\, qu’il a acquis ses contours actuels. \nLe moulin tourna professionnellement jusqu’à l’avant-guerre\, puis à seule fin domestique (nourriture des animaux) jusqu’en 1976. En 1991\, l’association des Amis de Saint-Julien-d’Ance s’est fixé comme objectif de faire revivre le patrimoine local\, dont le moulin. Depuis\, ce dernier tourne à nouveau pendant les visites organisées. Vous découvrirez en action un ensemble complet de meunerie toujours en cours de rénovation : entraînement par eau avec roue horizontale\, meule et blutoir. \n\n\n\n\n	Similaire
URL:https://crocoule.org/notre-evenement/moulin-a-paroles/
LOCATION:Moulin d’Ancette\, Ancette\, Saint-Julien-d'Ance\, 43500
CATEGORIES:08 ans +
END:VEVENT
END:VCALENDAR