BEGIN:VCALENDAR
VERSION:2.0
PRODID:-//Crocoule - ECPv6.15.15//NONSGML v1.0//EN
CALSCALE:GREGORIAN
METHOD:PUBLISH
X-ORIGINAL-URL:https://crocoule.org
X-WR-CALDESC:Évènements pour Crocoule
REFRESH-INTERVAL;VALUE=DURATION:PT1H
X-Robots-Tag:noindex
X-PUBLISHED-TTL:PT1H
BEGIN:VTIMEZONE
TZID:Europe/Paris
BEGIN:DAYLIGHT
TZOFFSETFROM:+0100
TZOFFSETTO:+0200
TZNAME:CEST
DTSTART:20210328T010000
END:DAYLIGHT
BEGIN:STANDARD
TZOFFSETFROM:+0200
TZOFFSETTO:+0100
TZNAME:CET
DTSTART:20211031T010000
END:STANDARD
BEGIN:DAYLIGHT
TZOFFSETFROM:+0100
TZOFFSETTO:+0200
TZNAME:CEST
DTSTART:20220327T010000
END:DAYLIGHT
BEGIN:STANDARD
TZOFFSETFROM:+0200
TZOFFSETTO:+0100
TZNAME:CET
DTSTART:20221030T010000
END:STANDARD
BEGIN:DAYLIGHT
TZOFFSETFROM:+0100
TZOFFSETTO:+0200
TZNAME:CEST
DTSTART:20230326T010000
END:DAYLIGHT
BEGIN:STANDARD
TZOFFSETFROM:+0200
TZOFFSETTO:+0100
TZNAME:CET
DTSTART:20231029T010000
END:STANDARD
BEGIN:DAYLIGHT
TZOFFSETFROM:+0100
TZOFFSETTO:+0200
TZNAME:CEST
DTSTART:20240331T010000
END:DAYLIGHT
BEGIN:STANDARD
TZOFFSETFROM:+0200
TZOFFSETTO:+0100
TZNAME:CET
DTSTART:20241027T010000
END:STANDARD
END:VTIMEZONE
BEGIN:VEVENT
DTSTART;TZID=Europe/Paris:20230714T170000
DTEND;TZID=Europe/Paris:20230715T100000
DTSTAMP:20260421T171948
CREATED:20230623T073030Z
LAST-MODIFIED:20230623T073030Z
UID:10001686-1689354000-1689415200@crocoule.org
SUMMARY:Bivouac en forêt
DESCRIPTION:Bivouac en forêt\nPendant les vacances\, vivez une aventure unique entre amis ou en famille : Bivouac en forêt à Monistrol sur Loire ! \nTous les vendredi et samedi de Juin à Octobre. \nVenez passer une nuit inoubliable. En effet\, perché entre 10 et 20m de hauteur en pleine forêt. Certainement l’expérience la plus marquante de la grimpe d’arbre. \nLoin des grandes villes\, quelque part en forêt\, la nuit tombe. Vous êtes perché à la cime des arbres. En effet\, entouré de compagnons et d’étoiles votre hamac se balance au gré du vent. La lune vous observe\, le monde sauvage vous enveloppe…Belle nuit. \nDe plus\, les participants sont totalement sécurisés et l’ascension ne nécessite aucune condition physique particulière. \nEnsuite\, l’éducateur reste proche du groupe pour pouvoir intervenir rapidement\, tout en laissant une intimité aux participants. \nLe bivouac inclut des activités nature en annexe de la grimpe d’arbre\, et un petit déjeuner. \nCertainement l’expérience la plus marquante  de la grimpe d’arbre.  Les participants sont totalement sécurisés et l’ascension ne nécessite aucune condition physique particulière. L’éducateur reste proche du groupe pour pouvoir intervenir rapidement\, tout en laissant une intimité aux participants. Le bivouac inclut\, la projection d’un reportage en extérieur\, une animation sarbacane\, une malle pleine de jeux de société\, une veillé à la bougie\, et un petit déjeuner. \n8 personnes maximum par session\,  \nA partir de 80€ par personnes\, \n400€ pour privatiser la session \nINSCRIPTIONS \n  \n\n\n	Similaire
URL:https://crocoule.org/notre-evenement/bivouac-en-foret/
LOCATION:Monistrol-sur-Loire
CATEGORIES:07 ans +
END:VEVENT
BEGIN:VEVENT
DTSTART;TZID=Europe/Paris:20221218T090000
DTEND;TZID=Europe/Paris:20221218T090000
DTSTAMP:20260421T171948
CREATED:20221125T144004Z
LAST-MODIFIED:20221125T144004Z
UID:10000426-1671354000-1671354000@crocoule.org
SUMMARY:MANÈGE\, PROMENADE PETIT TRAIN
DESCRIPTION:Manège\, barbe à papa et pêche aux boules de Noël\, toute la journée\, en centre-ville et au Pêcher. \nPhotos avec le Père Noël\, 10h-12h et 16h-17h30 au chalet installé Place Néron. Plus d’infos au 04 71 66 03 14. \n\n\n	Similaire
URL:https://crocoule.org/notre-evenement/manege-promenade-petit-train/
LOCATION:Monistrol-sur-Loire
END:VEVENT
END:VCALENDAR