BEGIN:VCALENDAR
VERSION:2.0
PRODID:-//Crocoule - ECPv6.15.15//NONSGML v1.0//EN
CALSCALE:GREGORIAN
METHOD:PUBLISH
X-ORIGINAL-URL:https://crocoule.org
X-WR-CALDESC:Évènements pour Crocoule
REFRESH-INTERVAL;VALUE=DURATION:PT1H
X-Robots-Tag:noindex
X-PUBLISHED-TTL:PT1H
BEGIN:VTIMEZONE
TZID:Europe/Paris
BEGIN:DAYLIGHT
TZOFFSETFROM:+0100
TZOFFSETTO:+0200
TZNAME:CEST
DTSTART:20220327T010000
END:DAYLIGHT
BEGIN:STANDARD
TZOFFSETFROM:+0200
TZOFFSETTO:+0100
TZNAME:CET
DTSTART:20221030T010000
END:STANDARD
BEGIN:DAYLIGHT
TZOFFSETFROM:+0100
TZOFFSETTO:+0200
TZNAME:CEST
DTSTART:20230326T010000
END:DAYLIGHT
BEGIN:STANDARD
TZOFFSETFROM:+0200
TZOFFSETTO:+0100
TZNAME:CET
DTSTART:20231029T010000
END:STANDARD
BEGIN:DAYLIGHT
TZOFFSETFROM:+0100
TZOFFSETTO:+0200
TZNAME:CEST
DTSTART:20240331T010000
END:DAYLIGHT
BEGIN:STANDARD
TZOFFSETFROM:+0200
TZOFFSETTO:+0100
TZNAME:CET
DTSTART:20241027T010000
END:STANDARD
END:VTIMEZONE
BEGIN:VEVENT
DTSTART;TZID=Europe/Paris:20230803T100000
DTEND;TZID=Europe/Paris:20230803T111500
DTSTAMP:20260421T130947
CREATED:20230726T121435Z
LAST-MODIFIED:20230726T121435Z
UID:10001981-1691056800-1691061300@crocoule.org
SUMMARY:OBSERVATIONS AQUATIQUES
DESCRIPTION:// OBSERVATIONS AQUATIQUES // P’TITS MONSTRES DE LA RIVIÈRE\nParticipez aux observations aquatiques pendant les vacances. \nPar Rémy Désécures\, animateur nature \nL’eau des rivières fourmille de petites bêtes aussi variées que fascinantes. Venez explorer cet étrange monde aquatique ! \nRendez-vous à la base départ du rafting à côté du Pont Eiffel\, à Monistrol-d’Allier. Tonic Rafting\, Le Vivier\, Monistrol-d’Allier\, France \nInscriptions  \nMonistrol-d’Allier – Haute Loire \nMonistrol-d’Allier est une charmante commune française\, localisée dans le département de la Haute-Loire\, au cœur de la région Auvergne-Rhône-Alpes. Nichée au sein d’un environnement pittoresque\, elle bénéficie d’une situation géographique privilégiée. \nTout d’abord\, il convient de mentionner que cette commune possède un riche patrimoine historique. En effet\, elle est imprégnée d’une histoire séculaire qui se reflète à travers ses édifices anciens et ses traditions préservées. Dès lors\, une promenade dans ses rues pittoresques est une invitation à un voyage dans le temps. \nPar ailleurs\, Monistrol-d’Allier bénéficie également d’un cadre naturel exceptionnel. En effet\, la commune est située au sein d’un écrin de verdure\, avec des paysages bucoliques et des panoramas à couper le souffle. Les amateurs de randonnée et de plein air seront comblés par les nombreux sentiers et itinéraires de découverte disponibles dans la région. \nEn outre\, la commune a su préserver son authenticité et son art de vivre\, tout en accueillant chaleureusement les visiteurs. Les habitants\, réputés pour leur convivialité\, participent à l’ambiance accueillante qui règne dans ce lieu enchanteur. \nD’autre part\, Monistrol-d’Allier bénéficie également de la proximité de commodités modernes\, assurant ainsi un confort de vie appréciable. Cela permet de concilier harmonieusement l’aspect traditionnel avec les nécessités du quotidien. \nEnfin\, les festivités locales constituent des moments privilégiés pour découvrir la culture et la joie de vivre des habitants de Monistrol-d’Allier. Ces événements animent la commune tout au long de l’année et créent une atmosphère conviviale propice aux échanges et aux rencontres. \n\n\n	Similaire
URL:https://crocoule.org/notre-evenement/observations-aquatiques/
LOCATION:Monistrol-d’Allier
END:VEVENT
BEGIN:VEVENT
DTSTART;TZID=Europe/Paris:20230717T100000
DTEND;TZID=Europe/Paris:20230717T111500
DTSTAMP:20260421T130947
CREATED:20230629T113745Z
LAST-MODIFIED:20230629T113745Z
UID:10001779-1689588000-1689592500@crocoule.org
SUMMARY:INITIATION ORPAILLAGE
DESCRIPTION:// INITIATION ORPAILLAGE // APPRENTIS CHERCHEURS D’OR\nRéservation  \nPar Rémy Désécures\, animateur nature\n \nLes pieds dans l’eau\, vous recherchez des minéraux semi-précieux cachés dans la rivière\, à la manière des chercheurs d’or. Attention\, ne prévoyez pas immédiatement la fonte de lingot ! \nRendez-vous à la base départ du rafting à côté du Pont Eiffel\, à Monistrol-d’Allier \nC’est quoi l’orpaillage ? \nL’orpaillage est une activité captivante qui consiste à rechercher et extraire de l’or à partir de cours d’eau ou de rivières. Cette pratique\, qui remonte à l’époque de la ruée vers l’or\, a perduré au fil des siècles. Elle continue d’ailleurs d’attirer les passionnés d’aventure et de trésors enfouis. \nTout d’abord\, il est important de souligner que l’orpaillage nécessite une connaissance approfondie de l’or. Mais également de son comportement et de ses caractéristiques. En effet\, la recherche de ce précieux métal nécessite un équipement adéquat et des compétences spécifiques. \nPour commencer\, les chercheurs d’or utilisent des techniques de prospection pour localiser les zones potentiellement riches en or. Ces techniques comprennent l’étude des caractéristiques géologiques du terrain. L’observation des dépôts de sédiments et l’utilisation d’outils. Tels que des détecteurs de métaux et des panneaux d’orpaillage. \nUne fois que l’orpailleur a identifié un endroit prometteur\, il procède à l’extraction de l’or à l’aide d’outils tels que la batée\, une sorte de grande casserole en forme de cône. Avec habileté\, l’orpailleur plonge la batée dans l’eau\, récupère du sable\, des graviers et des particules aurifères\, puis les agite délicatement. Les particules d’or\, étant plus lourdes que les autres matériaux\, se déposent au fond de la batée\, permettant ainsi à l’orpailleur de les collecter. \nEnsuite\, grâce à un processus appelé « lavage »\, l’orpailleur sépare l’or des autres matériaux. Il utilise généralement de l’eau pour éliminer les résidus plus légers. Tout en conservant les précieuses pépites d’or. Ce processus est répété plusieurs fois jusqu’à ce que l’orpailleur ait extrait autant d’or que possible. \nEnfin\, une fois que l’or a été extrait et collecté\, il est souvent nécessaire de le purifier et de le raffiner. Cette étape permet d’obtenir de l’or de haute qualité\, prêt à être utilisé dans diverses applications\, telles que la bijouterie ou l’industrie électronique. \n  \n\n\n	Similaire
URL:https://crocoule.org/notre-evenement/initiation-orpaillage/
LOCATION:Monistrol-d’Allier
CATEGORIES:08 ans +
END:VEVENT
END:VCALENDAR