BEGIN:VCALENDAR
VERSION:2.0
PRODID:-//Crocoule - ECPv6.15.15//NONSGML v1.0//EN
CALSCALE:GREGORIAN
METHOD:PUBLISH
X-WR-CALNAME:Crocoule
X-ORIGINAL-URL:https://crocoule.org
X-WR-CALDESC:Évènements pour Crocoule
REFRESH-INTERVAL;VALUE=DURATION:PT1H
X-Robots-Tag:noindex
X-PUBLISHED-TTL:PT1H
BEGIN:VTIMEZONE
TZID:Europe/Paris
BEGIN:DAYLIGHT
TZOFFSETFROM:+0100
TZOFFSETTO:+0200
TZNAME:CEST
DTSTART:20220327T010000
END:DAYLIGHT
BEGIN:STANDARD
TZOFFSETFROM:+0200
TZOFFSETTO:+0100
TZNAME:CET
DTSTART:20221030T010000
END:STANDARD
BEGIN:DAYLIGHT
TZOFFSETFROM:+0100
TZOFFSETTO:+0200
TZNAME:CEST
DTSTART:20230326T010000
END:DAYLIGHT
BEGIN:STANDARD
TZOFFSETFROM:+0200
TZOFFSETTO:+0100
TZNAME:CET
DTSTART:20231029T010000
END:STANDARD
BEGIN:DAYLIGHT
TZOFFSETFROM:+0100
TZOFFSETTO:+0200
TZNAME:CEST
DTSTART:20240331T010000
END:DAYLIGHT
BEGIN:STANDARD
TZOFFSETFROM:+0200
TZOFFSETTO:+0100
TZNAME:CET
DTSTART:20241027T010000
END:STANDARD
BEGIN:DAYLIGHT
TZOFFSETFROM:+0100
TZOFFSETTO:+0200
TZNAME:CEST
DTSTART:20250330T010000
END:DAYLIGHT
BEGIN:STANDARD
TZOFFSETFROM:+0200
TZOFFSETTO:+0100
TZNAME:CET
DTSTART:20251026T010000
END:STANDARD
END:VTIMEZONE
BEGIN:VEVENT
DTSTART;TZID=Europe/Paris:20240418T100000
DTEND;TZID=Europe/Paris:20240418T110000
DTSTAMP:20260421T081115
CREATED:20240212T134008Z
LAST-MODIFIED:20240416T170905Z
UID:10003046-1713434400-1713438000@crocoule.org
SUMMARY:Heure du conte !
DESCRIPTION:Heure du conte\nLes contes\, c’est comme une potion magique de la complicité parentale\, un mélange d’aventure\, de leçons de vie et de rires qui crée des liens indestructibles entre petits et grands. Quand les parents se lancent dans l’univers enchanté des contes avec leurs enfants\, c’est bien plus qu’une simple lecture. C’est une invitation à explorer des mondes imaginaires\, à dénicher des trésors cachés dans des pages écornées et à partager des éclats de rire devant des héros farfelus. Ces histoires ne sont pas seulement des récits fantastiques\, ce sont des complices dans la grande aventure de grandir. Les parents deviennent des magiciens de mots\, jonglant avec des histoires qui enseignent sans sermonner et captivent sans fin. Les contes deviennent ainsi des joyaux pétillants\, transformant chaque soirée en une fête littéraire où la magie opère entre les lignes\, laissant des souvenirs joyeux et des liens familiaux renforcés. \nHeure du conte tout public dès 3 ans\, Réservation conseillée au 04 77 93 84 34 \n \nSi ton regard se pose sur ces mots …\nC’est que toi aussi tu fais partie de la Haute Congrégation des Super Parents (HCSP : rien que ça !  ????) investis en quête d’idées de sorties familiales dans la Loire et la Haute-Loire pour son/ses bambin(s) ! \nTu ne me crois pas ? Si si\, promis Bienvenue et toutes mes Félicitations ! Tu es sur la bonne page … Et je vais te le prouver ! Tu es prêt ? Allez\, viens je t’emmène au fil des pages du Crocoule ! \nTout d’abord\, Le Crocoule Magazine c’est quoi ? Le Crocoule\, papier ou web\, c’est LE magazine qui porte en lui la douceur et la bienveillance dont tu as besoin en tant que parent et qui facilite tes recherches d’activités loisirs\, culturelles\, nature pour tous les budgets et tous les goûts ! Et ça c’est une promesse ? Tu veux en savoir +\, suis moi par ici ! \nAgenda / Sorties en famille / Loire / Haute-Loire \nIci\, c’est l’agenda web Crocoule\, sur lequel tu peux retrouver idées de sorties\, ateliers\, festivals\, salons\, randonnées\, expositions et autres pépites en intérieur ou en extérieur ! C’est le genre de mine d’or pour les orpailleurs que vous êtes ou LE SUPER guide des parents à court d’idées ! Pour toujours + de sorties familiales\, d’aventures culturelles & de nature dans la Loire\, la Haute-Loire\, le Mezenc\, le Pilat … \nL’équipe du Crocoule prend plaisir à vous dénicher de chouettes instants de vie à partager en famille et s’engage à recenser et à lister pour vous toutes les pépites d’activités de nos si belles régions ! \nAttends un peu\, le Crocoule te réserve bien d’autres surprises … \nLe Crocoule Express !\nDans la rubrique événements\, tu découvriras la version ligérienne du Pékin Express avec le Crocoule Express tant apprécié de nos supers parents lecteurs ! Il s’agit d’une découverte en voiture à sillonner plusieurs endroits dûment sélectionnés rien que pour vous ! Petits & grands partez à la découverte de la Loire\, le Pays du roannais et tout bientôt du Pilat à travers différentes étapes et énigmes à résoudre pour accéder\, grâce à l’emblématique enveloppe\, au lieu suivant ! \nRigolade\, moments de partage et moments épiques assurés en famille ou entre amis ! \nNe manquez pas la programmation juste ici & ici ! \nLe Crocoule Day !\nLe Crocoule Day saura vous ravir également puisqu’il est l’occasion de partenariats avec des associations\, créateurs ou encore offices de tourisme\, pour mettre à l’honneur les trésors de notre région et vous proposer toujours plus de découvertes d’activités ou d’ateliers tout près de chez vous ! Ne manquez pas la programmation juste ici  & ici ! \nBlog / Pépites / Mise à l’honneur / Collab …\nLe Blog Crocoule\, c’est l’endroit où l’on vous présente en détails nos pépites\, nos tests d’activités pour vous en donner un visuel le plus honnête et fiable ! C’est ici où l’on met à l’honneur nos partenaires et où l’on vous transmet notre passion du partage ! N’hésitez pas à aller y faire un tour et à laisser vos retours et vos envies ???? On met du coeur à l’ouvrage et on adore vous lire ! \nLe magazine\nLe Crocoule magazine existe en dématerialisé ici mais aussi et surtout en format papier que vous pouvez retrouver dans + de 450 points de distributions à travers la Loire\, la Haute-Loire\, l’Ondaine\, Loire-Forez et le Pilat … Venez découvrir nos points de distribution juste ici (rubrique « où le trouver ») De quoi le dénicher non loin de chez vous … Et si on vous disait que vous pourriez le recevoir directement dans votre boite aux lettres\, ça vous dirait ? Et bien\, surprise ! C’est possible : ça vous tente ? Rendez vous juste ici pour le recevoir ! \nPour les curieux\, (non non ce n’est plus un vilain défaut !) une liste des 52 couvertures du magasine sont condensés juste ici (rubrique « les magasines ») ! Un grand merci à l’illustratrice : Carole Crouzet\, qui fait un travail de grande qualité pour vous régaler les yeux et vous faire rire le coeur ! \nEn bref\, tu l’auras compris\, ce magazine\, cet endroit\, c’est l’endroit qui se veut bienveillant\, ressourçant\, accompagnant dans cette grande aventure qu’est la parentalité ! Et merci d’être là pour le faire vivre et partager nos si belles missions ! \n  \n\n\n	Similaire
URL:https://crocoule.org/notre-evenement/heure-du-conte-2/
LOCATION:Médiathèque – Villars\, 1\, montée de la Feuilletière\, VILLARS\, 42390
CATEGORIES:03 ans +,Activité pendant les vacances,En famille,Intérieur,Tous les événements
END:VEVENT
BEGIN:VEVENT
DTSTART;TZID=Europe/Paris:20240228T100000
DTEND;TZID=Europe/Paris:20240228T110000
DTSTAMP:20260421T081115
CREATED:20240212T133812Z
LAST-MODIFIED:20240212T133812Z
UID:10003043-1709114400-1709118000@crocoule.org
SUMMARY:Heure du conte !
DESCRIPTION:Heure du conte\nLes contes\, c’est comme une potion magique de la complicité parentale\, un mélange d’aventure\, de leçons de vie et de rires qui crée des liens indestructibles entre petits et grands. Quand les parents se lancent dans l’univers enchanté des contes avec leurs enfants\, c’est bien plus qu’une simple lecture. C’est une invitation à explorer des mondes imaginaires\, à dénicher des trésors cachés dans des pages écornées et à partager des éclats de rire devant des héros farfelus. Ces histoires ne sont pas seulement des récits fantastiques\, ce sont des complices dans la grande aventure de grandir. Les parents deviennent des magiciens de mots\, jonglant avec des histoires qui enseignent sans sermonner et captivent sans fin. Les contes deviennent ainsi des joyaux pétillants\, transformant chaque soirée en une fête littéraire où la magie opère entre les lignes\, laissant des souvenirs joyeux et des liens familiaux renforcés. \nHeure du conte tout public dès 3 ans\, Réservation conseillée au 04 77 93 84 34 \n \nSi ton regard se pose sur ces mots …\nC’est que toi aussi tu fais partie de la Haute Congrégation des Super Parents (HCSP : rien que ça !  ????) investis en quête d’idées de sorties familiales dans la Loire et la Haute-Loire pour son/ses bambin(s) ! \nTu ne me crois pas ? Si si\, promis Bienvenue et toutes mes Félicitations ! Tu es sur la bonne page … Et je vais te le prouver ! Tu es prêt ? Allez\, viens je t’emmène au fil des pages du Crocoule ! \nTout d’abord\, Le Crocoule Magazine c’est quoi ? Le Crocoule\, papier ou web\, c’est LE magazine qui porte en lui la douceur et la bienveillance dont tu as besoin en tant que parent et qui facilite tes recherches d’activités loisirs\, culturelles\, nature pour tous les budgets et tous les goûts ! Et ça c’est une promesse ? Tu veux en savoir +\, suis moi par ici ! \nAgenda / Sorties en famille / Loire / Haute-Loire \nIci\, c’est l’agenda web Crocoule\, sur lequel tu peux retrouver idées de sorties\, ateliers\, festivals\, salons\, randonnées\, expositions et autres pépites en intérieur ou en extérieur ! C’est le genre de mine d’or pour les orpailleurs que vous êtes ou LE SUPER guide des parents à court d’idées ! Pour toujours + de sorties familiales\, d’aventures culturelles & de nature dans la Loire\, la Haute-Loire\, le Mezenc\, le Pilat … \nL’équipe du Crocoule prend plaisir à vous dénicher de chouettes instants de vie à partager en famille et s’engage à recenser et à lister pour vous toutes les pépites d’activités de nos si belles régions ! \nAttends un peu\, le Crocoule te réserve bien d’autres surprises … \nLe Crocoule Express !\nDans la rubrique événements\, tu découvriras la version ligérienne du Pékin Express avec le Crocoule Express tant apprécié de nos supers parents lecteurs ! Il s’agit d’une découverte en voiture à sillonner plusieurs endroits dûment sélectionnés rien que pour vous ! Petits & grands partez à la découverte de la Loire\, le Pays du roannais et tout bientôt du Pilat à travers différentes étapes et énigmes à résoudre pour accéder\, grâce à l’emblématique enveloppe\, au lieu suivant ! \nRigolade\, moments de partage et moments épiques assurés en famille ou entre amis ! \nNe manquez pas la programmation juste ici & ici ! \nLe Crocoule Day !\nLe Crocoule Day saura vous ravir également puisqu’il est l’occasion de partenariats avec des associations\, créateurs ou encore offices de tourisme\, pour mettre à l’honneur les trésors de notre région et vous proposer toujours plus de découvertes d’activités ou d’ateliers tout près de chez vous ! Ne manquez pas la programmation juste ici  & ici ! \nBlog / Pépites / Mise à l’honneur / Collab …\nLe Blog Crocoule\, c’est l’endroit où l’on vous présente en détails nos pépites\, nos tests d’activités pour vous en donner un visuel le plus honnête et fiable ! C’est ici où l’on met à l’honneur nos partenaires et où l’on vous transmet notre passion du partage ! N’hésitez pas à aller y faire un tour et à laisser vos retours et vos envies ???? On met du coeur à l’ouvrage et on adore vous lire ! \nLe magazine\nLe Crocoule magazine existe en dématerialisé ici mais aussi et surtout en format papier que vous pouvez retrouver dans + de 450 points de distributions à travers la Loire\, la Haute-Loire\, l’Ondaine\, Loire-Forez et le Pilat … Venez découvrir nos points de distribution juste ici (rubrique « où le trouver ») De quoi le dénicher non loin de chez vous … Et si on vous disait que vous pourriez le recevoir directement dans votre boite aux lettres\, ça vous dirait ? Et bien\, surprise ! C’est possible : ça vous tente ? Rendez vous juste ici pour le recevoir ! \nPour les curieux\, (non non ce n’est plus un vilain défaut !) une liste des 52 couvertures du magasine sont condensés juste ici (rubrique « les magasines ») ! Un grand merci à l’illustratrice : Carole Crouzet\, qui fait un travail de grande qualité pour vous régaler les yeux et vous faire rire le coeur ! \nEn bref\, tu l’auras compris\, ce magazine\, cet endroit\, c’est l’endroit qui se veut bienveillant\, ressourçant\, accompagnant dans cette grande aventure qu’est la parentalité ! Et merci d’être là pour le faire vivre et partager nos si belles missions ! \n  \n\n\n	Similaire
URL:https://crocoule.org/notre-evenement/heure-du-conte/
LOCATION:Médiathèque – Villars\, 1\, montée de la Feuilletière\, VILLARS\, 42390
CATEGORIES:03 ans +,Activité pendant les vacances,En famille,Intérieur
END:VEVENT
BEGIN:VEVENT
DTSTART;TZID=Europe/Paris:20231110T203000
DTEND;TZID=Europe/Paris:20231110T203000
DTSTAMP:20260421T081115
CREATED:20230829T090035Z
LAST-MODIFIED:20230829T090035Z
UID:10002513-1699648200-1699648200@crocoule.org
SUMMARY:Music’ à Mômes
DESCRIPTION:Concert jeune public – Music’ à Mômes – « Chez Remômes »\nTout d’abord\, ma médiathèque de Villars dans le département de la Loire\, propose un concert jeune public\, Music’ à Mômes. \nPour ce nouveau spectacle (chanson jeune public et famille\, dès 5 ans)\, Remo revient en solo pour des aventures toutes plus rocambolesques les unes que les autres\, mais terriblement ancrées dans la réalité ! \nAu menu\, des chansons tendres ou rigolotes\, aux influences aussi variées que peu communes. Dans un véritable concert pour enfants qui dépoussière le genre : de la chanson\, du rock\, du ska\, du reggae\, des musiques traditionnelles\, de l’électro…et plein d’autres ! En effet\, un univers drôle et décalé pour parler de choses sérieuses : protection animale\, écologie\, mixité sociale\, sécurité routière\, cirque\, handicap\, famille\, cultures étrangères et leurs apports… \nSimplement accompagné par quelques-uns de ses drôles d’Instruzik et par des textes qui titillent et qui font réfléchir\, Remo se fait tour à tour tendre ou plein d’humour. \nIl propose une chanson jeune public « alternative » et engagée\, sans chis-chis\, ni gnian-gnian\, à partager en famille ! \nConcert pour enfants avec Remo\nEntrée : 2 € par personne au profit du Téléthon.\nBillets en vente à la Médiathèque\, dans la limite des places disponibles.\nDurée : 1h. A partir de 5 ans. \n\n\n	Similaire
URL:https://crocoule.org/notre-evenement/music-a-momes/
LOCATION:Médiathèque – Villars\, 1\, montée de la Feuilletière\, VILLARS\, 42390
CATEGORIES:05 ans +,Activité du week-end
END:VEVENT
BEGIN:VEVENT
DTSTART;TZID=Europe/Paris:20230929T203000
DTEND;TZID=Europe/Paris:20230929T203000
DTSTAMP:20260421T081115
CREATED:20230818T131841Z
LAST-MODIFIED:20230818T131841Z
UID:10002349-1696019400-1696019400@crocoule.org
SUMMARY:Karl le magicien
DESCRIPTION:Karl le magicien\nRetrouvez Karl le magicien à la médiathèque de Villars dans la Loire. \n\nPratiquant la magie depuis l’âge de 14 ans\, et professionnel depuis 1995\, Karl\, artiste magicien inventif et créatif\, nous invite dans son monde insolite pour nous faire partager sa passion et ses rêves. \n« Monsieur M. »\, comme « magique » et « mystérieux »\, est un spectacle original et unique dans lequel se succèdent des numéros de magie exceptionnels : apparitions\, disparitions\, lévitations\, bras magique\, bulles\, cuisiniers\,… avec bien sûr la participation du public.Un spectacle idéal pour voyager dans le merveilleux ! \nSpectacle de magie.\nEntrée : 11 € / moins de 16 ans : 6 € (abonnés saison : 9 € / moins de 16 ans : 5 €)\nBillets en vente à la Médiathèque\, dans la limite des places disponibles.\nDurée : 1h. Tout public. \nMédiathèque de Villars  \nHORAIRES D’OUVERTURE\n\n\n\n\n\nNous vous accueillons du mardi au samedi : \nMardi : 14h – 18h\nMercredi : 10h – 12h / \n14h – 18h30\njeudi : 10h – 12h\nVendredi : 12h – 18h\nSamedi : 9h30 – 12h \nMédiathèque de Villars \n1\, montée de la Feuilletière \n42390 VILLARS \nTEL : 04 77 93 84 34 \nmediatheque@villars.fr \n\n\n\n« La lecture nous offre un endroit où aller lorsque nous devons rester où nous sommes. » \nManson Cooley \nSuggestions d’achats\n\n\nLa suggestion d’achat évolue et se fera désormais par le site de la médiathèque. Pour cela il faudra vous connecter sur votre compte. \nUne fois connecté\, il faut allez sur l’onglet « Ressources et services » et cliquer sur « Suggestions d’achats ». \nAprès il vous suffit de remplir le petit tableau\, alors à vos envies!!! \n\n\n\n\n	Similaire
URL:https://crocoule.org/notre-evenement/karl-le-magicien/
LOCATION:Médiathèque – Villars\, 1\, montée de la Feuilletière\, VILLARS\, 42390
CATEGORIES:Activité en semaine,Tout public
END:VEVENT
END:VCALENDAR