BEGIN:VCALENDAR
VERSION:2.0
PRODID:-//Crocoule - ECPv6.15.15//NONSGML v1.0//EN
CALSCALE:GREGORIAN
METHOD:PUBLISH
X-ORIGINAL-URL:https://crocoule.org
X-WR-CALDESC:Évènements pour Crocoule
REFRESH-INTERVAL;VALUE=DURATION:PT1H
X-Robots-Tag:noindex
X-PUBLISHED-TTL:PT1H
BEGIN:VTIMEZONE
TZID:Europe/Paris
BEGIN:DAYLIGHT
TZOFFSETFROM:+0100
TZOFFSETTO:+0200
TZNAME:CEST
DTSTART:20210328T010000
END:DAYLIGHT
BEGIN:STANDARD
TZOFFSETFROM:+0200
TZOFFSETTO:+0100
TZNAME:CET
DTSTART:20211031T010000
END:STANDARD
BEGIN:DAYLIGHT
TZOFFSETFROM:+0100
TZOFFSETTO:+0200
TZNAME:CEST
DTSTART:20220327T010000
END:DAYLIGHT
BEGIN:STANDARD
TZOFFSETFROM:+0200
TZOFFSETTO:+0100
TZNAME:CET
DTSTART:20221030T010000
END:STANDARD
BEGIN:DAYLIGHT
TZOFFSETFROM:+0100
TZOFFSETTO:+0200
TZNAME:CEST
DTSTART:20230326T010000
END:DAYLIGHT
BEGIN:STANDARD
TZOFFSETFROM:+0200
TZOFFSETTO:+0100
TZNAME:CET
DTSTART:20231029T010000
END:STANDARD
END:VTIMEZONE
BEGIN:VEVENT
DTSTART;TZID=Europe/Paris:20221119T101500
DTEND;TZID=Europe/Paris:20221119T101500
DTSTAMP:20260421T182745
CREATED:20220929T133646Z
LAST-MODIFIED:20220929T133646Z
UID:10000329-1668852900-1668852900@crocoule.org
SUMMARY:HISTOIRES OFFERTES
DESCRIPTION:Similaire
URL:https://crocoule.org/notre-evenement/histoires-offertes-6/
LOCATION:Médiathèque – Solaure\, 16 Rue Bossuet\, Saint Étienne\, 42100\, France
CATEGORIES:Activité du week-end,Tout public
END:VEVENT
BEGIN:VEVENT
DTSTART;TZID=Europe/Paris:20221116T150000
DTEND;TZID=Europe/Paris:20221116T150000
DTSTAMP:20260421T182745
CREATED:20220929T121033Z
LAST-MODIFIED:20220929T121033Z
UID:10000303-1668610800-1668610800@crocoule.org
SUMMARY:RENDEZ-VOUS CONTE
DESCRIPTION:Similaire
URL:https://crocoule.org/notre-evenement/rendez-vous-conte-7/
LOCATION:Médiathèque – Solaure\, 16 Rue Bossuet\, Saint Étienne\, 42100\, France
CATEGORIES:Activité en semaine,En famille
END:VEVENT
BEGIN:VEVENT
DTSTART;TZID=Europe/Paris:20221008T101500
DTEND;TZID=Europe/Paris:20221008T101500
DTSTAMP:20260421T182745
CREATED:20220927T134328Z
LAST-MODIFIED:20220927T134328Z
UID:10000110-1665224100-1665224100@crocoule.org
SUMMARY:HISTOIRES OFFERTES
DESCRIPTION:Inscriptions : mediatheques.saint-etienne.fr \n  \n\n\n\n\n\n	Similaire
URL:https://crocoule.org/notre-evenement/histoires-offertes-3/
LOCATION:Médiathèque – Solaure\, 16 Rue Bossuet\, Saint Étienne\, 42100\, France
CATEGORIES:Activité du week-end,Tout public
END:VEVENT
BEGIN:VEVENT
DTSTART;TZID=Europe/Paris:20221005T101500
DTEND;TZID=Europe/Paris:20221005T101500
DTSTAMP:20260421T182745
CREATED:20220927T095652Z
LAST-MODIFIED:20240416T162037Z
UID:10000058-1664964900-1664964900@crocoule.org
SUMMARY:RENDEZ-VOUS CONTE
DESCRIPTION:Séance contée par Anne Dupoizat. \nInscriptions : mediatheques.saint-etienne.fr \n\n\n\n\n\n\n	Similaire
URL:https://crocoule.org/notre-evenement/rendez-vous-conte/
LOCATION:Médiathèque – Solaure\, 16 Rue Bossuet\, Saint Étienne\, 42100\, France
CATEGORIES:Activité en semaine,Tous les événements
END:VEVENT
END:VCALENDAR