BEGIN:VCALENDAR
VERSION:2.0
PRODID:-//Crocoule - ECPv6.15.20//NONSGML v1.0//EN
CALSCALE:GREGORIAN
METHOD:PUBLISH
X-ORIGINAL-URL:https://crocoule.org
X-WR-CALDESC:Évènements pour Crocoule
REFRESH-INTERVAL;VALUE=DURATION:PT1H
X-Robots-Tag:noindex
X-PUBLISHED-TTL:PT1H
BEGIN:VTIMEZONE
TZID:Europe/Paris
BEGIN:DAYLIGHT
TZOFFSETFROM:+0100
TZOFFSETTO:+0200
TZNAME:CEST
DTSTART:20240331T010000
END:DAYLIGHT
BEGIN:STANDARD
TZOFFSETFROM:+0200
TZOFFSETTO:+0100
TZNAME:CET
DTSTART:20241027T010000
END:STANDARD
BEGIN:DAYLIGHT
TZOFFSETFROM:+0100
TZOFFSETTO:+0200
TZNAME:CEST
DTSTART:20250330T010000
END:DAYLIGHT
BEGIN:STANDARD
TZOFFSETFROM:+0200
TZOFFSETTO:+0100
TZNAME:CET
DTSTART:20251026T010000
END:STANDARD
BEGIN:DAYLIGHT
TZOFFSETFROM:+0100
TZOFFSETTO:+0200
TZNAME:CEST
DTSTART:20260329T010000
END:DAYLIGHT
BEGIN:STANDARD
TZOFFSETFROM:+0200
TZOFFSETTO:+0100
TZNAME:CET
DTSTART:20261025T010000
END:STANDARD
END:VTIMEZONE
BEGIN:VEVENT
DTSTART;TZID=Europe/Paris:20250604T150000
DTEND;TZID=Europe/Paris:20250604T155000
DTSTAMP:20260424T091935
CREATED:20250530T133337Z
LAST-MODIFIED:20250530T133337Z
UID:10011369-1749049200-1749052200@crocoule.org
SUMMARY:Saint Pal en Chalencon | Au voleur!
DESCRIPTION:Une odeur de poulet rôti\, un garçon ingénieux\, deux mots accusateurs et très vite\, tout s’emballe sur la place du marché ! \nLes poissons se rebellent et les oiseaux réveillent les esprits\, les curieux s’en mêlent et les langues se délient\, les oranges s’enchantent et bientôt\, le grabuge est général. \nPour faire revenir le calme\, on fait appel à l’homme sage du marché. Mais sa parole sera-t-elle écoutée ? Inscriptions au  \n\n\n	Similaire
URL:https://crocoule.org/notre-evenement/saint-pal-en-chalencon-au-voleur/
LOCATION:Médiathèque Saint pal en Chalencon\, 1 place de la Coopérative\, St Pal de Chalencon\, 43500\, France
CATEGORIES:05 ans +,Tous les événements
END:VEVENT
END:VCALENDAR