BEGIN:VCALENDAR
VERSION:2.0
PRODID:-//Crocoule - ECPv6.15.15//NONSGML v1.0//EN
CALSCALE:GREGORIAN
METHOD:PUBLISH
X-ORIGINAL-URL:https://crocoule.org
X-WR-CALDESC:Évènements pour Crocoule
REFRESH-INTERVAL;VALUE=DURATION:PT1H
X-Robots-Tag:noindex
X-PUBLISHED-TTL:PT1H
BEGIN:VTIMEZONE
TZID:Europe/Paris
BEGIN:DAYLIGHT
TZOFFSETFROM:+0100
TZOFFSETTO:+0200
TZNAME:CEST
DTSTART:20240331T010000
END:DAYLIGHT
BEGIN:STANDARD
TZOFFSETFROM:+0200
TZOFFSETTO:+0100
TZNAME:CET
DTSTART:20241027T010000
END:STANDARD
BEGIN:DAYLIGHT
TZOFFSETFROM:+0100
TZOFFSETTO:+0200
TZNAME:CEST
DTSTART:20250330T010000
END:DAYLIGHT
BEGIN:STANDARD
TZOFFSETFROM:+0200
TZOFFSETTO:+0100
TZNAME:CET
DTSTART:20251026T010000
END:STANDARD
BEGIN:DAYLIGHT
TZOFFSETFROM:+0100
TZOFFSETTO:+0200
TZNAME:CEST
DTSTART:20260329T010000
END:DAYLIGHT
BEGIN:STANDARD
TZOFFSETFROM:+0200
TZOFFSETTO:+0100
TZNAME:CET
DTSTART:20261025T010000
END:STANDARD
END:VTIMEZONE
BEGIN:VEVENT
DTSTART;TZID=Europe/Paris:20250920T100000
DTEND;TZID=Europe/Paris:20250920T170000
DTSTAMP:20260421T035815
CREATED:20250826T154137Z
LAST-MODIFIED:20250826T154147Z
UID:10012005-1758362400-1758387600@crocoule.org
SUMMARY:Saint-Chamond | La médiathèque Louise Labé : histoire d’une architecture
DESCRIPTION:•        Des ateliers et jeux pour enfants\n•        Une exposition en visite libre\n•        Une projection de films/ vidéos commenté à 11h et en continu sur la journée\n•        La visite du château de Versailles en réalité virtuelle  \n\n\n	Similaire
URL:https://crocoule.org/notre-evenement/saint-chamond-la-mediatheque-louise-labe-histoire-dune-architecture/
LOCATION:Médiathèque Louise Labé\, 54 rue Waldeck Rousseau\, Saint Chamond\, Rhône-Alpes\, 42400\, France
CATEGORIES:Activité du week-end,En famille,Expo,Gratuit,Intérieur,Tous les événements
ATTACH;FMTTYPE=image/jpeg:https://crocoule.org/wp-content/uploads/2025/08/51652784315_4e0e3eb7f6_c-1200x650-eXIQRr.jpg
END:VEVENT
END:VCALENDAR