BEGIN:VCALENDAR
VERSION:2.0
PRODID:-//Crocoule - ECPv6.15.15//NONSGML v1.0//EN
CALSCALE:GREGORIAN
METHOD:PUBLISH
X-ORIGINAL-URL:https://crocoule.org
X-WR-CALDESC:Évènements pour Crocoule
REFRESH-INTERVAL;VALUE=DURATION:PT1H
X-Robots-Tag:noindex
X-PUBLISHED-TTL:PT1H
BEGIN:VTIMEZONE
TZID:Europe/Paris
BEGIN:DAYLIGHT
TZOFFSETFROM:+0100
TZOFFSETTO:+0200
TZNAME:CEST
DTSTART:20230326T010000
END:DAYLIGHT
BEGIN:STANDARD
TZOFFSETFROM:+0200
TZOFFSETTO:+0100
TZNAME:CET
DTSTART:20231029T010000
END:STANDARD
BEGIN:DAYLIGHT
TZOFFSETFROM:+0100
TZOFFSETTO:+0200
TZNAME:CEST
DTSTART:20240331T010000
END:DAYLIGHT
BEGIN:STANDARD
TZOFFSETFROM:+0200
TZOFFSETTO:+0100
TZNAME:CET
DTSTART:20241027T010000
END:STANDARD
BEGIN:DAYLIGHT
TZOFFSETFROM:+0100
TZOFFSETTO:+0200
TZNAME:CEST
DTSTART:20250330T010000
END:DAYLIGHT
BEGIN:STANDARD
TZOFFSETFROM:+0200
TZOFFSETTO:+0100
TZNAME:CET
DTSTART:20251026T010000
END:STANDARD
BEGIN:DAYLIGHT
TZOFFSETFROM:+0100
TZOFFSETTO:+0200
TZNAME:CEST
DTSTART:20260329T010000
END:DAYLIGHT
BEGIN:STANDARD
TZOFFSETFROM:+0200
TZOFFSETTO:+0100
TZNAME:CET
DTSTART:20261025T010000
END:STANDARD
BEGIN:DAYLIGHT
TZOFFSETFROM:+0100
TZOFFSETTO:+0200
TZNAME:CEST
DTSTART:20270328T010000
END:DAYLIGHT
BEGIN:STANDARD
TZOFFSETFROM:+0200
TZOFFSETTO:+0100
TZNAME:CET
DTSTART:20271031T010000
END:STANDARD
END:VTIMEZONE
BEGIN:VEVENT
DTSTART;TZID=Europe/Paris:20260418T143000
DTEND;TZID=Europe/Paris:20260418T150000
DTSTAMP:20260421T111000
CREATED:20260303T175447Z
LAST-MODIFIED:20260303T175447Z
UID:10013328-1776522600-1776524400@crocoule.org
SUMMARY:Firminy | Contes numériques – Sur la piste de L’inukshuk
DESCRIPTION:Sur la piste de L’inukshuk\nPenché Akiak\, un jeune inuit\, fait un rêve dans lequel son grand-père lui confie une mission. Aide-le à le mener à bien.\nDe 5 à 8 ans\nSur inscription 04 77 56 72 54 \n\n\n	Similaire
URL:https://crocoule.org/notre-evenement/firminy-contes-numeriques-sur-la-piste-de-linukshuk/
LOCATION:Médiathèque Louis Aragon\, 5 boulevard Fayol\, firminy\, Rhône-Alpes\, 42700\, France
CATEGORIES:Tous les événements
ORGANIZER;CN="M%C3%A9diath%C3%A8que Louis Aragon":MAILTO:bibliotheque@ville-firminy.fr
END:VEVENT
BEGIN:VEVENT
DTSTART;TZID=Europe/Paris:20260417T143000
DTEND;TZID=Europe/Paris:20260417T143000
DTSTAMP:20260421T111000
CREATED:20260303T175445Z
LAST-MODIFIED:20260303T175445Z
UID:10013327-1776436200-1776436200@crocoule.org
SUMMARY:Firminy | le rendez-vous ciné des petits appelous
DESCRIPTION:Similaire
URL:https://crocoule.org/notre-evenement/firminy-le-rendez-vous-cine-des-petits-appelous/
LOCATION:Médiathèque Louis Aragon\, 5 boulevard Fayol\, firminy\, Rhône-Alpes\, 42700\, France
CATEGORIES:En famille,Tous les événements
ORGANIZER;CN="M%C3%A9diath%C3%A8que Louis Aragon":MAILTO:bibliotheque@ville-firminy.fr
END:VEVENT
BEGIN:VEVENT
DTSTART;TZID=Europe/Paris:20260411T103000
DTEND;TZID=Europe/Paris:20260411T103000
DTSTAMP:20260421T111000
CREATED:20260303T175443Z
LAST-MODIFIED:20260303T175443Z
UID:10013326-1775903400-1775903400@crocoule.org
SUMMARY:Firminy | Racontées à écouter en famille
DESCRIPTION:Similaire
URL:https://crocoule.org/notre-evenement/firminy-racontees-a-ecouter-en-famille-2/
LOCATION:Médiathèque Louis Aragon\, 5 boulevard Fayol\, firminy\, Rhône-Alpes\, 42700\, France
CATEGORIES:04 ans +,En famille,Tous les événements
ORGANIZER;CN="M%C3%A9diath%C3%A8que Louis Aragon":MAILTO:bibliotheque@ville-firminy.fr
END:VEVENT
BEGIN:VEVENT
DTSTART;TZID=Europe/Paris:20260325T100000
DTEND;TZID=Europe/Paris:20260325T100000
DTSTAMP:20260421T111000
CREATED:20260303T175442Z
LAST-MODIFIED:20260303T175442Z
UID:10013325-1774432800-1774432800@crocoule.org
SUMMARY:Firminy | Ateliers Espace Numérique – Transfert sur T-shirt
DESCRIPTION:Vous rêvez de transformer vos textiles ordinaires en pièces uniques et expressives ? Découvrez notre vaste sélection de transferts textiles\, la clé pour donner vie à vos idées créatives.\nDès 7 ans\nSur inscription \n\n\n	Similaire
URL:https://crocoule.org/notre-evenement/firminy-ateliers-espace-numerique-transfert-sur-t-shirt/
LOCATION:Médiathèque Louis Aragon\, 5 boulevard Fayol\, firminy\, Rhône-Alpes\, 42700\, France
CATEGORIES:07 ans +,Tous les événements
ORGANIZER;CN="M%C3%A9diath%C3%A8que Louis Aragon":MAILTO:bibliotheque@ville-firminy.fr
END:VEVENT
BEGIN:VEVENT
DTSTART;TZID=Europe/Paris:20260321T143000
DTEND;TZID=Europe/Paris:20260321T150000
DTSTAMP:20260421T111000
CREATED:20260303T175437Z
LAST-MODIFIED:20260303T175437Z
UID:10013324-1774103400-1774105200@crocoule.org
SUMMARY:Firminy | Contes numériques – Le cadeau de Babouchka
DESCRIPTION:Le cadeau de Babouchka\nC’est l’anniversaire de la grand-mère de Dimitri\, mais il a complètement oublié ! il n’a plus qu’à arpenter la taïga\, avec toi\, pour lui trouver un beau cadeau…\nDe 5 à 8 ans\nSur inscription 04 77 56 72 54 \n\n\n	Similaire
URL:https://crocoule.org/notre-evenement/firminy-contes-numeriques-le-cadeau-de-babouchka/
LOCATION:Médiathèque Louis Aragon\, 5 boulevard Fayol\, firminy\, Rhône-Alpes\, 42700\, France
CATEGORIES:En famille,Tous les événements
ORGANIZER;CN="M%C3%A9diath%C3%A8que Louis Aragon":MAILTO:bibliotheque@ville-firminy.fr
END:VEVENT
BEGIN:VEVENT
DTSTART;TZID=Europe/Paris:20260318T110000
DTEND;TZID=Europe/Paris:20260318T114000
DTSTAMP:20260421T111000
CREATED:20260303T175435Z
LAST-MODIFIED:20260303T175435Z
UID:10013323-1773831600-1773834000@crocoule.org
SUMMARY:Firminy | Les racontines d'Estelle
DESCRIPTION:Similaire
URL:https://crocoule.org/notre-evenement/firminy-les-racontines-destelle-3/
LOCATION:Médiathèque Louis Aragon\, 5 boulevard Fayol\, firminy\, Rhône-Alpes\, 42700\, France
CATEGORIES:En famille,Tous les événements
ORGANIZER;CN="M%C3%A9diath%C3%A8que Louis Aragon":MAILTO:bibliotheque@ville-firminy.fr
END:VEVENT
BEGIN:VEVENT
DTSTART;TZID=Europe/Paris:20260307T103000
DTEND;TZID=Europe/Paris:20260307T103000
DTSTAMP:20260421T111000
CREATED:20260303T175429Z
LAST-MODIFIED:20260303T175429Z
UID:10013320-1772879400-1772879400@crocoule.org
SUMMARY:Firminy | Racontées à écouter en famille
DESCRIPTION:Racontées à écouter en famille\npar Émilie DESFONDS.   J’ai tout plein d’histoires dans ma p’tite valise : veux-tu qu’on les dise ? J’en ai des drôles\, j’en ai des tendres\, j’en ai à chanter…\nà partir de 4 ans\nSur inscription 04 77 56 72 54 \n\n\n	Similaire
URL:https://crocoule.org/notre-evenement/firminy-racontees-a-ecouter-en-famille/
LOCATION:Médiathèque Louis Aragon\, 5 boulevard Fayol\, firminy\, Rhône-Alpes\, 42700\, France
CATEGORIES:04 ans +,En famille,Tous les événements
ORGANIZER;CN="M%C3%A9diath%C3%A8que Louis Aragon":MAILTO:bibliotheque@ville-firminy.fr
END:VEVENT
BEGIN:VEVENT
DTSTART;TZID=Europe/Paris:20241218T150000
DTEND;TZID=Europe/Paris:20241218T160000
DTSTAMP:20260421T111000
CREATED:20241125T145744Z
LAST-MODIFIED:20241125T145744Z
UID:10010254-1734534000-1734537600@crocoule.org
SUMMARY:Firminy | FANTAISIE POLAIRE
DESCRIPTION:Par le théêtre des 7 lieux\nUn petit conte d’hiver et d’amitié tout en douceur et gaieté \n\n\n	Similaire
URL:https://crocoule.org/notre-evenement/firminy-fantaisie-polaire/
LOCATION:Médiathèque Louis Aragon\, 5 boulevard Fayol\, firminy\, Rhône-Alpes\, 42700\, France
CATEGORIES:01 an +,02 ans +,03 ans +,04 ans +,Tous les événements
ORGANIZER;CN="M%C3%A9diath%C3%A8que Louis Aragon":MAILTO:bibliotheque@ville-firminy.fr
END:VEVENT
BEGIN:VEVENT
DTSTART;TZID=Europe/Paris:20241214T143000
DTEND;TZID=Europe/Paris:20241214T153000
DTSTAMP:20260421T111000
CREATED:20241125T145744Z
LAST-MODIFIED:20241125T145744Z
UID:10010253-1734186600-1734190200@crocoule.org
SUMMARY:Firminy | CONTES NUMERIQUES
DESCRIPTION:Quand les histoires s’animent\, pour le plaisir des yeux et des oreilles ! Un moment pour écouter et découvrir des histoires à partir d’une tablette Inscription par téléphone ! \n\n\n	Similaire
URL:https://crocoule.org/notre-evenement/firminy-contes-numeriques-2/
LOCATION:Médiathèque Louis Aragon\, 5 boulevard Fayol\, firminy\, Rhône-Alpes\, 42700\, France
CATEGORIES:04 ans +,05 ans +,06 ans +,07 ans +,Tous les événements
ORGANIZER;CN="M%C3%A9diath%C3%A8que Louis Aragon":MAILTO:bibliotheque@ville-firminy.fr
END:VEVENT
BEGIN:VEVENT
DTSTART;TZID=Europe/Paris:20241211T143000
DTEND;TZID=Europe/Paris:20241211T153000
DTSTAMP:20260421T111000
CREATED:20241125T145635Z
LAST-MODIFIED:20241125T145635Z
UID:10010252-1733927400-1733931000@crocoule.org
SUMMARY:Firminy | LE CINE DES PETITS APPELOUS
DESCRIPTION:RDV ciné goûter\, l’occasion de découvrir ou redécouvrir des films  pour tous \n\n\n	Similaire
URL:https://crocoule.org/notre-evenement/firminy-le-cine-des-petits-appelous/
LOCATION:Médiathèque Louis Aragon\, 5 boulevard Fayol\, firminy\, Rhône-Alpes\, 42700\, France
CATEGORIES:06 ans +,07 ans +,08 ans +,09 ans +,Tous les événements
ORGANIZER;CN="M%C3%A9diath%C3%A8que Louis Aragon":MAILTO:bibliotheque@ville-firminy.fr
END:VEVENT
BEGIN:VEVENT
DTSTART;TZID=Europe/Paris:20241210T093000
DTEND;TZID=Europe/Paris:20241210T103000
DTSTAMP:20260421T111000
CREATED:20241125T145635Z
LAST-MODIFIED:20241125T145635Z
UID:10010251-1733823000-1733826600@crocoule.org
SUMMARY:Firminy | BEBES LECTEURS
DESCRIPTION:Moment de partage de lectures avec les familles\, par Emilie Desfonds de Lire en partage \n\n\n	Similaire
URL:https://crocoule.org/notre-evenement/firminy-bebes-lecteurs/
LOCATION:Médiathèque Louis Aragon\, 5 boulevard Fayol\, firminy\, Rhône-Alpes\, 42700\, France
CATEGORIES:01 an +,02 ans +,03 ans +,Tous les événements
ORGANIZER;CN="M%C3%A9diath%C3%A8que Louis Aragon":MAILTO:bibliotheque@ville-firminy.fr
END:VEVENT
BEGIN:VEVENT
DTSTART;TZID=Europe/Paris:20241207T143000
DTEND;TZID=Europe/Paris:20241207T153000
DTSTAMP:20260421T111000
CREATED:20241125T145634Z
LAST-MODIFIED:20241125T145634Z
UID:10010250-1733581800-1733585400@crocoule.org
SUMMARY:Firminy | CONTES NUMERIQUES
DESCRIPTION:Quand les histoires s’animent\, pour le plaisir des yeux et des oreilles ! Un moment pour écouter et découvrir des histoires à partir d’une tablette Inscription par téléphone ! \n\n\n	Similaire
URL:https://crocoule.org/notre-evenement/firminy-contes-numeriques/
LOCATION:Médiathèque Louis Aragon\, 5 boulevard Fayol\, firminy\, Rhône-Alpes\, 42700\, France
CATEGORIES:05 ans +,06 ans +,07 ans +,08 ans +,Tous les événements
ORGANIZER;CN="M%C3%A9diath%C3%A8que Louis Aragon":MAILTO:bibliotheque@ville-firminy.fr
END:VEVENT
BEGIN:VEVENT
DTSTART;TZID=Europe/Paris:20241204T100000
DTEND;TZID=Europe/Paris:20241204T110000
DTSTAMP:20260421T111000
CREATED:20241125T145634Z
LAST-MODIFIED:20241125T145634Z
UID:10010249-1733306400-1733310000@crocoule.org
SUMMARY:Firminy | LES RACONTINES D'ESTELLE
DESCRIPTION:Une fois par mois\, Estelle de la Cie les Z’étincelles\, tire de son sac à malices histoires\, comptines\, chansons\, contes…Inscription par téléphone ! \n\n\n	Similaire
URL:https://crocoule.org/notre-evenement/firminy-les-racontines-destelle/
LOCATION:Médiathèque Louis Aragon\, 5 boulevard Fayol\, firminy\, Rhône-Alpes\, 42700\, France
CATEGORIES:01 an +,02 ans +,03 ans +,04 ans +,05 ans +,Tous les événements
ORGANIZER;CN="M%C3%A9diath%C3%A8que Louis Aragon":MAILTO:bibliotheque@ville-firminy.fr
END:VEVENT
END:VCALENDAR