BEGIN:VCALENDAR
VERSION:2.0
PRODID:-//Crocoule - ECPv6.15.15//NONSGML v1.0//EN
CALSCALE:GREGORIAN
METHOD:PUBLISH
X-ORIGINAL-URL:https://crocoule.org
X-WR-CALDESC:Évènements pour Crocoule
REFRESH-INTERVAL;VALUE=DURATION:PT1H
X-Robots-Tag:noindex
X-PUBLISHED-TTL:PT1H
BEGIN:VTIMEZONE
TZID:Europe/Paris
BEGIN:DAYLIGHT
TZOFFSETFROM:+0100
TZOFFSETTO:+0200
TZNAME:CEST
DTSTART:20210328T010000
END:DAYLIGHT
BEGIN:STANDARD
TZOFFSETFROM:+0200
TZOFFSETTO:+0100
TZNAME:CET
DTSTART:20211031T010000
END:STANDARD
BEGIN:DAYLIGHT
TZOFFSETFROM:+0100
TZOFFSETTO:+0200
TZNAME:CEST
DTSTART:20220327T010000
END:DAYLIGHT
BEGIN:STANDARD
TZOFFSETFROM:+0200
TZOFFSETTO:+0100
TZNAME:CET
DTSTART:20221030T010000
END:STANDARD
BEGIN:DAYLIGHT
TZOFFSETFROM:+0100
TZOFFSETTO:+0200
TZNAME:CEST
DTSTART:20230326T010000
END:DAYLIGHT
BEGIN:STANDARD
TZOFFSETFROM:+0200
TZOFFSETTO:+0100
TZNAME:CET
DTSTART:20231029T010000
END:STANDARD
END:VTIMEZONE
BEGIN:VEVENT
DTSTART;TZID=Europe/Paris:20221014T103000
DTEND;TZID=Europe/Paris:20221014T110000
DTSTAMP:20260421T081957
CREATED:20220927T113507Z
LAST-MODIFIED:20220927T113507Z
UID:10000076-1665743400-1665745200@crocoule.org
SUMMARY:BÉBÉS LECTEURS
DESCRIPTION:Similaire
URL:https://crocoule.org/notre-evenement/bebes-lecteurs-2/
LOCATION:Médiathèque – LFA Noirétable\, 2 Pl. de l'Église\, Noirétable\, 42440\, France
CATEGORIES:Activité en semaine
END:VEVENT
BEGIN:VEVENT
DTSTART;TZID=Europe/Paris:20221012T150000
DTEND;TZID=Europe/Paris:20221012T170000
DTSTAMP:20260421T081957
CREATED:20220927T103254Z
LAST-MODIFIED:20220927T103301Z
UID:10000064-1665586800-1665594000@crocoule.org
SUMMARY:LA FABRIQUE À BD
DESCRIPTION:Réalisez votre 1ère bd numérique \n\n\n\n\n\n\n	Similaire
URL:https://crocoule.org/notre-evenement/la-fabrique-a-bd/
LOCATION:Médiathèque – LFA Noirétable\, 2 Pl. de l'Église\, Noirétable\, 42440\, France
CATEGORIES:08 ans +,Activité en semaine
END:VEVENT
END:VCALENDAR