BEGIN:VCALENDAR
VERSION:2.0
PRODID:-//Crocoule - ECPv6.15.20//NONSGML v1.0//EN
CALSCALE:GREGORIAN
METHOD:PUBLISH
X-WR-CALNAME:Crocoule
X-ORIGINAL-URL:https://crocoule.org
X-WR-CALDESC:Évènements pour Crocoule
REFRESH-INTERVAL;VALUE=DURATION:PT1H
X-Robots-Tag:noindex
X-PUBLISHED-TTL:PT1H
BEGIN:VTIMEZONE
TZID:Europe/Paris
BEGIN:DAYLIGHT
TZOFFSETFROM:+0100
TZOFFSETTO:+0200
TZNAME:CEST
DTSTART:20220327T010000
END:DAYLIGHT
BEGIN:STANDARD
TZOFFSETFROM:+0200
TZOFFSETTO:+0100
TZNAME:CET
DTSTART:20221030T010000
END:STANDARD
BEGIN:DAYLIGHT
TZOFFSETFROM:+0100
TZOFFSETTO:+0200
TZNAME:CEST
DTSTART:20230326T010000
END:DAYLIGHT
BEGIN:STANDARD
TZOFFSETFROM:+0200
TZOFFSETTO:+0100
TZNAME:CET
DTSTART:20231029T010000
END:STANDARD
BEGIN:DAYLIGHT
TZOFFSETFROM:+0100
TZOFFSETTO:+0200
TZNAME:CEST
DTSTART:20240331T010000
END:DAYLIGHT
BEGIN:STANDARD
TZOFFSETFROM:+0200
TZOFFSETTO:+0100
TZNAME:CET
DTSTART:20241027T010000
END:STANDARD
END:VTIMEZONE
BEGIN:VEVENT
DTSTART;TZID=Europe/Paris:20230628T143000
DTEND;TZID=Europe/Paris:20230628T163000
DTSTAMP:20260425T200441
CREATED:20230519T132630Z
LAST-MODIFIED:20230519T132630Z
UID:10001457-1687962600-1687969800@crocoule.org
SUMMARY:Atelier création de carte Pop-ups
DESCRIPTION:Atelier création de carte Pop-ups\nLa médiathèque  » Les Passerelles » de Montrond-les-Bains propose l’atelier création de carte pop-ups ! \nDonne vie à créations en les transformant en carte pop-up personnalisées avec Cameo ! \nUne carte pop-up\, également connue sous le nom de carte en 3D ou carte en relief\, est une forme de carte qui comporte des éléments tridimensionnels qui se déploient lorsque la carte est ouverte. Elle est conçue de manière à créer une illusion de profondeur et de perspective. \nMédiathèque  » Les Passerelles  » – Montrond-les-Bains – Loire –Atelier création de carte Pop-ups\nLa médiathèque « Les Passerelles »\, c’est 400m2 dédié à la culture ! \nLa médiathèque « Les Passerelles »\, met à la disposition des Montrondais et personnes extérieures à la commune une offre culturelle diversifiée. Lieu culturel\, ouvert à tous\, l’accès et la consultation sur place des documents sont libres et gratuits sans obligation d’inscription. \nVous trouverez sur place : \n\nDes livres pour adultes et enfants : romans\, albums\, bandes dessinées\, biographies\, documentaires\, livres CD…\nDes CD : variété française et internationale\, musique classique…\nDes DVD : fictions et documentaires\nDes magazines : plus d’une cinquantaine de titres\nDes liseuses\n\nHoraires d’ouverture : \nLundi 15h -18h \nMercredi 10h-12h / 14h 18h \nVendredi 15h – 19h \nSamedi 10h -12h \nInscriptions : conseillernumerique@montrond-les-bains.fr \nPour une nouvelle inscription à la médiathèque de Montrond-les-Bains\, veuillez-vous munir de : \n\nUne pièce d’identité ou livret de famille pour les enfants\nUn justificatif de domicile de moins de 3 mois\nUne fiche d’inscription remplie ainsi qu’une autorisation parentale pour les mineurs.\n\nTOUT LES ACTIVITÉS ENFANTS DE JUIN !  \n\n\n	Similaire
URL:https://crocoule.org/notre-evenement/atelier-creation-de-carte-pop-ups/
LOCATION:Médiathèque les Passerelles – Montrond-les-bains\, 93 Rue du Geyser\, Montrond-les-Bains\, 42210
CATEGORIES:08 ans +,Activité en semaine
END:VEVENT
BEGIN:VEVENT
DTSTART;TZID=Europe/Paris:20230621T140000
DTEND;TZID=Europe/Paris:20230621T160000
DTSTAMP:20260425T200441
CREATED:20230519T122014Z
LAST-MODIFIED:20230621T134133Z
UID:10001442-1687356000-1687363200@crocoule.org
SUMMARY:Atelier initiation programmation robot Thymio
DESCRIPTION:Atelier initiation programmation robot Thymio\nLa médiathèque Les Passerelles propose l’atelier d’initiation programmation robot Thymio. \nVenez apprendre les bases de la programmation avec le robot Tymio. \nThymio est un robot éducatif conçu pour l’apprentissage et l’enseignement de la robotique aux enfants. Il a été développé par le laboratoire de robotique de l’École polytechnique fédérale de Lausanne (EPFL) en Suisse. \nMédiathèque  « Les Passerelles »  – Montrond-les-Bains – Loire  \nLa médiathèque « Les Passerelles »\, c’est 400m2 dédié à la culture ! \nLa médiathèque « Les Passerelles »\, met à la disposition des Montrondais et personnes extérieures à la commune une offre culturelle diversifiée. Lieu culturel\, ouvert à tous\, l’accès et la consultation sur place des documents sont libres et gratuits sans obligation d’inscription. \nVous trouverez sur place : \n\nDes livres pour adultes et enfants : romans\, albums\, bandes dessinées\, biographies\, documentaires\, livres CD…\nDes CD : variété française et internationale\, musique classique…\nDes DVD : fictions et documentaires\nDes magazines : plus d’une cinquantaine de titres\nDes liseuses\n\nHoraires d’ouverture : \nLundi 15h -18h \nMercredi 10h-12h / 14h 18h \nVendredi 15h – 19h \nSamedi 10h -12h \nInscriptions : conseillernumerique@montrond-les-bains.fr \nPour une nouvelle inscription à la médiathèque de Montrond-les-Bains\, veuillez-vous munir de : \n\nUne pièce d’identité ou livret de famille pour les enfants\nUn justificatif de domicile de moins de 3 mois\nUne fiche d’inscription remplie ainsi qu’une autorisation parentale pour les mineurs.\n\nTOUT LES ACTIVITÉS ENFANTS DE JUIN !  \n\n\n	Similaire
URL:https://crocoule.org/notre-evenement/atelier-initiation-programmation-robot-thymio/
LOCATION:Médiathèque les Passerelles – Montrond-les-bains\, 93 Rue du Geyser\, Montrond-les-Bains\, 42210
CATEGORIES:Activité en semaine,Tout public
END:VEVENT
BEGIN:VEVENT
DTSTART;TZID=Europe/Paris:20230614T143000
DTEND;TZID=Europe/Paris:20230614T163000
DTSTAMP:20260425T200441
CREATED:20230519T100758Z
LAST-MODIFIED:20230519T100758Z
UID:10001422-1686753000-1686760200@crocoule.org
SUMMARY:INITIATION À L'IMPRESSION 3D
DESCRIPTION:INITIATION À L’IMPRESSION 3D POUR ENFANTS\nLa Médiathèque de Montrond-les-Bains propose une initiation à l’impression 3D pour les les enfants de 8 ans. \nDécouvrez l’univers de la 3D avec l’équipe de la Médiathèque  » Les Passerelles ». \nÀ partir de 8 ans – Durée 2h \nMaximum 10 personnes – 4€ \nMédiathèque  » Les Passerelles  » – Montrond-les-Bains – Loire – CRÉATION D’UN MASQUE – INITIATION À L’IMPRESSION 3D POUR ENFANTS  \nLa médiathèque « Les Passerelles »\, c’est 400m2 dédié à la culture ! \nLa médiathèque « Les Passerelles »\, met à la disposition des Montrondais et personnes extérieures à la commune une offre culturelle diversifiée. Lieu culturel\, ouvert à tous\, l’accès et la consultation sur place des documents sont libres et gratuits sans obligation d’inscription. \nVous trouverez sur place : \n\nDes livres pour adultes et enfants : romans\, albums\, bandes dessinées\, biographies\, documentaires\, livres CD…\nDes CD : variété française et internationale\, musique classique…\nDes DVD : fictions et documentaires\nDes magazines : plus d’une cinquantaine de titres\nDes liseuses\n\nHoraires d’ouverture : \nLundi 15h -18h \nMercredi 10h-12h / 14h 18h \nVendredi 15h – 19h \nSamedi 10h -12h \nInscriptions : conseillernumerique@montrond-les-bains.fr \nPour une nouvelle inscription à la médiathèque de Montrond-les-Bains\, veuillez-vous munir de : \n\nUne pièce d’identité ou livret de famille pour les enfants\nUn justificatif de domicile de moins de 3 mois\nUne fiche d’inscription remplie ainsi qu’une autorisation parentale pour les mineurs.\n\nTOUT LES ACTIVITÉS ENFANTS DE JUIN !  \n\n\n	Similaire
URL:https://crocoule.org/notre-evenement/initiation-a-limpression-3d-5/
LOCATION:Médiathèque les Passerelles – Montrond-les-bains\, 93 Rue du Geyser\, Montrond-les-Bains\, 42210
CATEGORIES:08 ans +,Activité en semaine
END:VEVENT
BEGIN:VEVENT
DTSTART;TZID=Europe/Paris:20230602T180000
DTEND;TZID=Europe/Paris:20230602T190000
DTSTAMP:20260425T200441
CREATED:20230516T094846Z
LAST-MODIFIED:20230516T094846Z
UID:10001368-1685728800-1685732400@crocoule.org
SUMMARY:LES PAPOTAGES ARTISTIQUES
DESCRIPTION:LES PAPOTAGES ARTISTIQUES\nLa médiathèque des Passerelle de Montrond-les-Bains propose un nouveau atelier  » Les papotages artistiques » \nEn partenariat avec deux grands musées du Québec : le Musée des beaux-arts de Montréal et le Musée de la Civilisation\, cette collection international nous offre une réflexion tant anthropologique qu’artistique sur l’histoire du Québec. \nÀ partir d’une sélection\, venez échanger sur les œuvres du musée numérique. À chaque rencontre une nouvel le série de tableaux sur laquelle vous serez amené à donner votre vision de l’oeuvre\, l’émotion qu’elle vous transmet… \nSans prise de tête\, du petit ou du plus grand\, venez partager un moment artistique. \nMédiathèque  » Les Passerelles  » – Montrond-les-Bains – Loire – CRÉATION D’UN MASQUE \nLa médiathèque « Les Passerelles »\, c’est 400m2 dédié à la culture ! \nLa médiathèque « Les Passerelles »\, met à la disposition des Montrondais et personnes extérieures à la commune une offre culturelle diversifiée. Lieu culturel\, ouvert à tous\, l’accès et la consultation sur place des documents sont libres et gratuits sans obligation d’inscription. \nVous trouverez sur place : \n\nDes livres pour adultes et enfants : romans\, albums\, bandes dessinées\, biographies\, documentaires\, livres CD…\nDes CD : variété française et internationale\, musique classique…\nDes DVD : fictions et documentaires\nDes magazines : plus d’une cinquantaine de titres\nDes liseuses\n\nHoraires d’ouverture : \nLundi 15h -18h \nMercredi 10h-12h / 14h 18h \nVendredi 15h – 19h \nSamedi 10h -12h \nInscriptions : conseillernumerique@montrond-les-bains.fr \n\n\n	Similaire
URL:https://crocoule.org/notre-evenement/les-papotages-artistiques/
LOCATION:Médiathèque les Passerelles – Montrond-les-bains\, 93 Rue du Geyser\, Montrond-les-Bains\, 42210
CATEGORIES:Activité en semaine,Tout public
END:VEVENT
BEGIN:VEVENT
DTSTART;TZID=Europe/Paris:20230326T100000
DTEND;TZID=Europe/Paris:20230326T190000
DTSTAMP:20260425T200441
CREATED:20230220T151521Z
LAST-MODIFIED:20230317T111104Z
UID:10000868-1679824800-1679857200@crocoule.org
SUMMARY:FESTIVAL DU JEU
DESCRIPTION:Festival du jeu de Montrond-les-Bains 2023\nLe festival du jeu est de retour le 26 mars à Montrond-les-Bains. \n\nLes membres de l’association Les Bains Ludiques vous proposent de venir jouer et découvrir les jeux de société modernes pour enfants à experts en passant par des jeux familiaux. L’ambiance est également assuré par la présence d’auteurs confirmés ou en devenir. \n\n\nProchaine édition\n\ndimanche 26 mars 2023\nDe 10 h à 19 h\nEntrée gratuite 850 personnes estimées\nLes Passerelles\, 93 rue du Geyser\n42210 Montrond-les-Bains\, Loire\n\nL’aventure continu cette année encore avec notre 5ème Edition de notre festival du jeu de société moderne. Il aura lieu\, cette fois encore\, dans les locaux de la médiathèque les Passerelles où nous investirons toutes les salles pour vous proposer différents pôles de jeux Vous trouverez sur cette nouvelle édition : – Des auteurs mais aussi des éditeurs qui seront présents à nos cotés pour vous présenter leurs jeux – Différents pôles de jeux : Carte\, Enfant\, Ambiance\, Famille\, Initiés et Expert – Un Food Truck pour vous restaurer – Une tombola où vous gagnerez à tous les coups !!! L’entrée est gratuite pour permettre au plus grand nombre de découvrir l’univers du jeu de société moderne\, le temps d’une journée de partage en famille et entre amis. \nRestez connecté à notre page ???? \n  \n\n  \n\n\n	Similaire
URL:https://crocoule.org/notre-evenement/festival-du-jeu/
LOCATION:Médiathèque les Passerelles – Montrond-les-bains\, 93 Rue du Geyser\, Montrond-les-Bains\, 42210
CATEGORIES:Activité du week-end,Tout public
ATTACH;FMTTYPE=image/jpeg:https://crocoule.org/wp-content/uploads/2023/03/Affiche_Festival_du_Jeu_2023_HD-scaled.jpg
END:VEVENT
BEGIN:VEVENT
DTSTART;TZID=Europe/Paris:20230224T171500
DTEND;TZID=Europe/Paris:20230224T191500
DTSTAMP:20260425T200441
CREATED:20221221T141948Z
LAST-MODIFIED:20230127T154229Z
UID:10000651-1677258900-1677266100@crocoule.org
SUMMARY:INITIATION À L'IMPRESSION 3D
DESCRIPTION:INITIATION À L’IMPRESSION 3D POUR ENFANTS \nVendredi 24 février à 17h15 \nDécouvrez l’univers de la 3D avec l’équipe de la Médiathèque  » Les Passerelles ». \nÀ partir de 8 ans – Durée 2h \nMaximum 10 personnes – 4€ \n  \n  \nMédiathèque  » Les Passerelles  » – Montrond-les-Bains – Loire – CRÉATION D’UN MASQUE – INITIATION À L’IMPRESSION 3D POUR ENFANTS  \nLa médiathèque « Les Passerelles »\, c’est 400m2 dédié à la culture ! \nLa médiathèque « Les Passerelles »\, met à la disposition des Montrondais et personnes extérieures à la commune une offre culturelle diversifiée. Lieu culturel\, ouvert à tous\, l’accès et la consultation sur place des documents sont libres et gratuits sans obligation d’inscription. \nVous trouverez sur place : \n\nDes livres pour adultes et enfants : romans\, albums\, bandes dessinées\, biographies\, documentaires\, livres CD…\nDes CD : variété française et internationale\, musique classique…\nDes DVD : fictions et documentaires\nDes magazines : plus d’une cinquantaine de titres\nDes liseuses\n\nHoraires d’ouverture : \nLundi 15h -18h \nMercredi 10h-12h / 14h 18h \nVendredi 15h – 19h \nSamedi 10h -12h \nInscriptions : conseillernumerique@montrond-les-bains.fr \nPour une nouvelle inscription à la médiathèque de Montrond-les-Bains\, veuillez-vous munir de : \n\nUne pièce d’identité ou livret de famille pour les enfants\nUn justificatif de domicile de moins de 3 mois\nUne fiche d’inscription remplie ainsi qu’une autorisation parentale pour les mineurs.\n\nTOUT LES ACTIVITÉS ENFANTS DE FÉVRIER !  \n\n\n	Similaire
URL:https://crocoule.org/notre-evenement/initiation-a-limpression-3d-4/
LOCATION:Médiathèque les Passerelles – Montrond-les-bains\, 93 Rue du Geyser\, Montrond-les-Bains\, 42210
CATEGORIES:08 ans +,Activité en semaine
END:VEVENT
BEGIN:VEVENT
DTSTART;TZID=Europe/Paris:20230222T143000
DTEND;TZID=Europe/Paris:20230222T163000
DTSTAMP:20260425T200441
CREATED:20221221T140014Z
LAST-MODIFIED:20230127T154050Z
UID:10000645-1677076200-1677083400@crocoule.org
SUMMARY:INITIATION À L'IMPRESSION 3D
DESCRIPTION:INITIATION À L’IMPRESSION 3D POUR ENFANTS \nMercredi 22 février à 14H30 \nDécouvrez l’univers de la 3D avec l’équipe de la Médiathèque  » Les Passerelles ». \nÀ partir de 8 ans – Durée 2h \nMaximum 10 personnes – 4€ \n  \n  \nMédiathèque  » Les Passerelles  » – Montrond-les-Bains – Loire – CRÉATION D’UN MASQUE – INITIATION À L’IMPRESSION 3D POUR ENFANTS  \nLa médiathèque « Les Passerelles »\, c’est 400m2 dédié à la culture ! \nLa médiathèque « Les Passerelles »\, met à la disposition des Montrondais et personnes extérieures à la commune une offre culturelle diversifiée. Lieu culturel\, ouvert à tous\, l’accès et la consultation sur place des documents sont libres et gratuits sans obligation d’inscription. \nVous trouverez sur place : \n\nDes livres pour adultes et enfants : romans\, albums\, bandes dessinées\, biographies\, documentaires\, livres CD…\nDes CD : variété française et internationale\, musique classique…\nDes DVD : fictions et documentaires\nDes magazines : plus d’une cinquantaine de titres\nDes liseuses\n\nHoraires d’ouverture : \nLundi 15h -18h \nMercredi 10h-12h / 14h 18h \nVendredi 15h – 19h \nSamedi 10h -12h \nInscriptions : conseillernumerique@montrond-les-bains.fr \nPour une nouvelle inscription à la médiathèque de Montrond-les-Bains\, veuillez-vous munir de : \n\nUne pièce d’identité ou livret de famille pour les enfants\nUn justificatif de domicile de moins de 3 mois\nUne fiche d’inscription remplie ainsi qu’une autorisation parentale pour les mineurs.\n\nTOUT LES ACTIVITÉS ENFANTS DE FÉVRIER !  \n\n\n	Similaire
URL:https://crocoule.org/notre-evenement/initiation-a-limpression-3d-3/
LOCATION:Médiathèque les Passerelles – Montrond-les-bains\, 93 Rue du Geyser\, Montrond-les-Bains\, 42210
CATEGORIES:08 ans +,Activité en semaine
END:VEVENT
BEGIN:VEVENT
DTSTART;TZID=Europe/Paris:20230217T143000
DTEND;TZID=Europe/Paris:20230217T163000
DTSTAMP:20260425T200441
CREATED:20221222T131411Z
LAST-MODIFIED:20230127T135343Z
UID:10000818-1676644200-1676651400@crocoule.org
SUMMARY:CRÉATION D'UN MASQUE
DESCRIPTION:CRÉATION D’UN MASQUE AVEC DÉCOUPEUSE PAPIER  \nÀ partir de 6 ans – Durée 2heures \nMaximum 4 personnes – 4€ \nPendant les vacances\, venez personnaliser votre masque à la Médiathèque de Montrond-les-Bains\, dans le département de la Loire. L’équipe de la Médiathèque de Montrond-les-bains sera là pour vous guider dans le processus de personnalisation et pour vous aider à créer un design unique qui reflète votre personnalité et vos goûts. \nVenez vous amuser avec nous et repartez avec un masque unique qui vous ressemble  ! N’hésitez pas à nous contacter pour plus d’informations \nMédiathèque  » Les Passerelles  » – Montrond-les-Bains – Loire – CRÉATION D’UN MASQUE \nLa médiathèque « Les Passerelles »\, c’est 400m2 dédié à la culture ! \nLa médiathèque « Les Passerelles »\, met à la disposition des Montrondais et personnes extérieures à la commune une offre culturelle diversifiée. Lieu culturel\, ouvert à tous\, l’accès et la consultation sur place des documents sont libres et gratuits sans obligation d’inscription. \nVous trouverez sur place : \n\nDes livres pour adultes et enfants : romans\, albums\, bandes dessinées\, biographies\, documentaires\, livres CD…\nDes CD : variété française et internationale\, musique classique…\nDes DVD : fictions et documentaires\nDes magazines : plus d’une cinquantaine de titres\nDes liseuses\n\nHoraires d’ouverture : \nLundi 15h -18h \nMercredi 10h-12h / 14h 18h \nVendredi 15h – 19h \nSamedi 10h -12h \nInscriptions : conseillernumerique@montrond-les-bains.fr \nTOUT LES ACTIVITÉS ENFANTS DE FÉVRIER !  \n\n\n	Similaire
URL:https://crocoule.org/notre-evenement/creation-dun-masque-2/
LOCATION:Médiathèque les Passerelles – Montrond-les-bains\, 93 Rue du Geyser\, Montrond-les-Bains\, 42210
CATEGORIES:06 ans +
END:VEVENT
BEGIN:VEVENT
DTSTART;TZID=Europe/Paris:20230215T143000
DTEND;TZID=Europe/Paris:20230215T163000
DTSTAMP:20260425T200441
CREATED:20221222T131310Z
LAST-MODIFIED:20230127T135234Z
UID:10000817-1676471400-1676478600@crocoule.org
SUMMARY:CRÉATION D'UN MASQUE
DESCRIPTION:CRÉATION D’UN MASQUE AVEC DÉCOUPEUSE PAPIER  \nÀ partir de 6 ans – Durée 2heures \nMaximum 4 personnes – 4€ \nPendant les vacances\, venez personnaliser votre masque à la Médiathèque de Montrond-les-Bains\, dans le département de la Loire. L’équipe de la Médiathèque de Montrond-les-bains sera là pour vous guider dans le processus de personnalisation et pour vous aider à créer un design unique qui reflète votre personnalité et vos goûts. \nVenez vous amuser avec nous et repartez avec un masque unique qui vous ressemble  ! N’hésitez pas à nous contacter pour plus d’informations \nMédiathèque  » Les Passerelles  » – Montrond-les-Bains – Loire – CRÉATION D’UN MASQUE \nLa médiathèque « Les Passerelles »\, c’est 400m2 dédié à la culture ! \nLa médiathèque « Les Passerelles »\, met à la disposition des Montrondais et personnes extérieures à la commune une offre culturelle diversifiée. Lieu culturel\, ouvert à tous\, l’accès et la consultation sur place des documents sont libres et gratuits sans obligation d’inscription. \nVous trouverez sur place : \n\nDes livres pour adultes et enfants : romans\, albums\, bandes dessinées\, biographies\, documentaires\, livres CD…\nDes CD : variété française et internationale\, musique classique…\nDes DVD : fictions et documentaires\nDes magazines : plus d’une cinquantaine de titres\nDes liseuses\n\nHoraires d’ouverture : \nLundi 15h -18h \nMercredi 10h-12h / 14h 18h \nVendredi 15h – 19h \nSamedi 10h -12h \nInscriptions : conseillernumerique@montrond-les-bains.fr \nTOUT LES ACTIVITÉS ENFANTS DE FÉVRIER !  \n\n\n	Similaire
URL:https://crocoule.org/notre-evenement/creation-dun-masque/
LOCATION:Médiathèque les Passerelles – Montrond-les-bains\, 93 Rue du Geyser\, Montrond-les-Bains\, 42210
CATEGORIES:06 ans +
END:VEVENT
BEGIN:VEVENT
DTSTART;TZID=Europe/Paris:20230208T143000
DTEND;TZID=Europe/Paris:20230208T163000
DTSTAMP:20260425T200441
CREATED:20221222T111820Z
LAST-MODIFIED:20230126T151941Z
UID:10000760-1675866600-1675873800@crocoule.org
SUMMARY:PERSONNALISATION D'UN SAC
DESCRIPTION:PERSONNALISATION D’UN SAC – Découpeuse vinyle  \nMercredi 8 février à 14h30 – Durée 2h \nMaximum 10 personnes \nTarif : 4€ \nATELIER PERSONNALISATION D’UN SAC À LA MÉDIATHÈQUE DE MONTROND-LES-BAINS  \nVenez personnaliser ton sac chez à la Médiathèque de Montrond-les-Bains\, dans le département de la Loire. L’équipe de la Médiathèque de Montrond-les-bains sera là pour vous guider dans le processus de personnalisation et pour vous aider à créer un design unique qui reflète votre personnalité et vos goûts. \nVenez vous amuser avec nous et repartez avec un sac unique qui vous ressemble et qui sera un véritable accessoire de mode ! N’hésitez pas à nous contacter pour plus d’informations \nMédiathèque  » Les Passerelles  » – Montrond-les-Bains – Loire  \nLa médiathèque « Les Passerelles »\, c’est 400m2 dédié à la culture ! \nLa médiathèque « Les Passerelles »\, met à la disposition des Montrondais et personnes extérieures à la commune une offre culturelle diversifiée. Lieu culturel\, ouvert à tous\, l’accès et la consultation sur place des documents sont libres et gratuits sans obligation d’inscription. \nVous trouverez sur place : \n\nDes livres pour adultes et enfants : romans\, albums\, bandes dessinées\, biographies\, documentaires\, livres CD…\nDes CD : variété française et internationale\, musique classique…\nDes DVD : fictions et documentaires\nDes magazines : plus d’une cinquantaine de titres\nDes liseuses\n\nInscriptions : conseillernumerique@montrond-les-bains.fr \n\n\n	Similaire
URL:https://crocoule.org/notre-evenement/personnalisation-dun-sac/
LOCATION:Médiathèque les Passerelles – Montrond-les-bains\, 93 Rue du Geyser\, Montrond-les-Bains\, 42210
CATEGORIES:08 ans +
END:VEVENT
BEGIN:VEVENT
DTSTART;TZID=Europe/Paris:20230127T171500
DTEND;TZID=Europe/Paris:20230127T191500
DTSTAMP:20260425T200441
CREATED:20221221T091224Z
LAST-MODIFIED:20221221T091224Z
UID:10000593-1674839700-1674846900@crocoule.org
SUMMARY:INITIATION À L'IMPRESSION 3D
DESCRIPTION:Inscriptions : conseillernumerique@montrond-les-bains.fr \n\n\n	Similaire
URL:https://crocoule.org/notre-evenement/initiation-a-limpression-3d-2/
LOCATION:Médiathèque les Passerelles – Montrond-les-bains\, 93 Rue du Geyser\, Montrond-les-Bains\, 42210
CATEGORIES:08 ans +,Activité en semaine
END:VEVENT
BEGIN:VEVENT
DTSTART;TZID=Europe/Paris:20230125T143000
DTEND;TZID=Europe/Paris:20230125T163000
DTSTAMP:20260425T200441
CREATED:20221221T091040Z
LAST-MODIFIED:20221221T091040Z
UID:10000592-1674657000-1674664200@crocoule.org
SUMMARY:INITIATION À L'IMPRESSION 3D
DESCRIPTION:Inscriptions : conseillernumerique@montrond-les-bains.fr \n\n\n	Similaire
URL:https://crocoule.org/notre-evenement/initiation-a-limpression-3d/
LOCATION:Médiathèque les Passerelles – Montrond-les-bains\, 93 Rue du Geyser\, Montrond-les-Bains\, 42210
CATEGORIES:08 ans +,Activité en semaine
END:VEVENT
BEGIN:VEVENT
DTSTART;TZID=Europe/Paris:20230120T171500
DTEND;TZID=Europe/Paris:20230120T191500
DTSTAMP:20260425T200441
CREATED:20221221T090807Z
LAST-MODIFIED:20221221T090807Z
UID:10000591-1674234900-1674242100@crocoule.org
SUMMARY:BADGES AU MICROLAB
DESCRIPTION:Inscriptions : conseillernumerique@montrond-les-bains.fr \n\n\n	Similaire
URL:https://crocoule.org/notre-evenement/badges-au-microlab-2/
LOCATION:Médiathèque les Passerelles – Montrond-les-bains\, 93 Rue du Geyser\, Montrond-les-Bains\, 42210
CATEGORIES:08 ans +,Activité en semaine
END:VEVENT
BEGIN:VEVENT
DTSTART;TZID=Europe/Paris:20230118T143000
DTEND;TZID=Europe/Paris:20230118T163000
DTSTAMP:20260425T200441
CREATED:20221221T085205Z
LAST-MODIFIED:20221221T085205Z
UID:10000587-1674052200-1674059400@crocoule.org
SUMMARY:BADGES AU MICROLAB
DESCRIPTION:Inscriptions : conseillernumerique@montrond-les-bains.fr \n\n\n	Similaire
URL:https://crocoule.org/notre-evenement/badges-au-microlab/
LOCATION:Médiathèque les Passerelles – Montrond-les-bains\, 93 Rue du Geyser\, Montrond-les-Bains\, 42210
CATEGORIES:08 ans +,Activité en semaine
END:VEVENT
END:VCALENDAR