BEGIN:VCALENDAR
VERSION:2.0
PRODID:-//Crocoule - ECPv6.15.20//NONSGML v1.0//EN
CALSCALE:GREGORIAN
METHOD:PUBLISH
X-WR-CALNAME:Crocoule
X-ORIGINAL-URL:https://crocoule.org
X-WR-CALDESC:Évènements pour Crocoule
REFRESH-INTERVAL;VALUE=DURATION:PT1H
X-Robots-Tag:noindex
X-PUBLISHED-TTL:PT1H
BEGIN:VTIMEZONE
TZID:Europe/Paris
BEGIN:DAYLIGHT
TZOFFSETFROM:+0100
TZOFFSETTO:+0200
TZNAME:CEST
DTSTART:20220327T010000
END:DAYLIGHT
BEGIN:STANDARD
TZOFFSETFROM:+0200
TZOFFSETTO:+0100
TZNAME:CET
DTSTART:20221030T010000
END:STANDARD
BEGIN:DAYLIGHT
TZOFFSETFROM:+0100
TZOFFSETTO:+0200
TZNAME:CEST
DTSTART:20230326T010000
END:DAYLIGHT
BEGIN:STANDARD
TZOFFSETFROM:+0200
TZOFFSETTO:+0100
TZNAME:CET
DTSTART:20231029T010000
END:STANDARD
BEGIN:DAYLIGHT
TZOFFSETFROM:+0100
TZOFFSETTO:+0200
TZNAME:CEST
DTSTART:20240331T010000
END:DAYLIGHT
BEGIN:STANDARD
TZOFFSETFROM:+0200
TZOFFSETTO:+0100
TZNAME:CET
DTSTART:20241027T010000
END:STANDARD
END:VTIMEZONE
BEGIN:VEVENT
DTSTART;TZID=Europe/Paris:20231205T100000
DTEND;TZID=Europe/Paris:20231205T170000
DTSTAMP:20260423T131240
CREATED:20231127T080638Z
LAST-MODIFIED:20231127T080709Z
UID:10002749-1701770400-1701795600@crocoule.org
SUMMARY:Bébés lecteurs
DESCRIPTION:bébé lecteurs\nTout d’abord\, les bibliothécaires proposent aux enfants de 0 à 3 ans et à leurs accompagnants l’atelier bébés lecteurs. Cet atelier consiste à proposer des animations variées. Dans le but\, de leur faire découvrir le monde des livres et de la lecture de manière ludique et interactive. \nParmi les animations proposées\, on peut retrouver : \n\nLes histoires et les albums : Les bibliothécaires lisent des histoires et des albums adaptés aux tout-petits pour leur faire découvrir les personnages\, les couleurs\, les formes\, les textures et les sons. Les livres sont présentés de manière interactive pour encourager les enfants à participer à la lecture.\nLes comptines et les chansons : Les bibliothécaires chantent des comptines et des chansons pour les enfants et leurs accompagnants. Les comptines sont choisies pour stimuler la mémoire\, la motricité et la compréhension des tout-petits.\nLes objets et les jeux : Les bibliothécaires proposent des jeux et des objets adaptés aux enfants de 0 à 3 ans pour les aider à développer leur motricité fine\, leur coordination et leur capacité à explorer leur environnement.\n\nDe plus\, ces animations sont également l’occasion pour les parents ! Les assistants maternels et les grands-parents de rencontrer d’autres personnes avec des enfants du même âge et de partager des moments conviviaux autour de la lecture et de la culture. \n\n\n	Similaire
URL:https://crocoule.org/notre-evenement/bebes-lecteurs-26/
LOCATION:Médiathèque du Mazet-Saint Voy\, Mazet-Saint-Voy\, 43520
CATEGORIES:Intérieur
END:VEVENT
BEGIN:VEVENT
DTSTART;TZID=Europe/Paris:20230728T150000
DTEND;TZID=Europe/Paris:20230728T150000
DTSTAMP:20260423T131240
CREATED:20230724T113916Z
LAST-MODIFIED:20230724T113916Z
UID:10001853-1690556400-1690556400@crocoule.org
SUMMARY:Quartiers d'été
DESCRIPTION:Quartiers d’été\nParticipez aux ateliers quartiers d’été pendant les vacances ! \nCréation d’une composition florale en Lego. Pour adultes. \nLieu\nMédiathèque\nMairie\n43520 Mazet-Saint-Voy \nContact – Renseignements\nTéléphone : 04 71 59 59 10 \nLE PAYS-LECTURE – Quartiers d’été\nEn effet\, présent depuis 25 ans sur le territoire du Plateau Vivarais-Lignon. Le Pays-Lecture n’a cessé d’évoluer et est un acteur fort de développement culturel et social. Il est porté par les Communautés de Communes de Val’Eyrieux (Ardèche) et du Haut-Lignon (Haute-Loire). \nSes missions sont les suivantes : \n–  Tout d’abord\, le Pays-Lecture est un projet de développement culturel et de lecture publique qui est mis en oeuvre sur le territoire communément désigné sous le nom de « Plateau Vivarais-Lignon ».\n–  Ensuite\, les médiathèques et la ludothèque « La Ribambelle » du réseau Pays-Lecture assurent une mission de service public auprès de toutes les populations du territoire concerné\, en respectant les valeurs d’égalité d’accès\, de laïcité\, de continuité.\n– Le Pays-Lecture et ses médiathèques (Le Chambon-sur-Lignon\, Le Mazet-Saint-Voy\, Saint-Agrève\, Saint-Jeures et Tence) sont partie prenante des politiques culturelles\, sociales et éducatives locales\, et\, à cet effet\, co-construisent\, avec les acteurs politiques du territoire\, des projets permettant la mise en oeuvre de ces politiques. \n\n\n	Similaire
URL:https://crocoule.org/notre-evenement/quartiers-dete-9/
LOCATION:Médiathèque du Mazet-Saint Voy\, Mazet-Saint-Voy\, 43520
END:VEVENT
END:VCALENDAR