BEGIN:VCALENDAR
VERSION:2.0
PRODID:-//Crocoule - ECPv6.15.20//NONSGML v1.0//EN
CALSCALE:GREGORIAN
METHOD:PUBLISH
X-ORIGINAL-URL:https://crocoule.org
X-WR-CALDESC:Évènements pour Crocoule
REFRESH-INTERVAL;VALUE=DURATION:PT1H
X-Robots-Tag:noindex
X-PUBLISHED-TTL:PT1H
BEGIN:VTIMEZONE
TZID:Europe/Paris
BEGIN:DAYLIGHT
TZOFFSETFROM:+0100
TZOFFSETTO:+0200
TZNAME:CEST
DTSTART:20240331T010000
END:DAYLIGHT
BEGIN:STANDARD
TZOFFSETFROM:+0200
TZOFFSETTO:+0100
TZNAME:CET
DTSTART:20241027T010000
END:STANDARD
BEGIN:DAYLIGHT
TZOFFSETFROM:+0100
TZOFFSETTO:+0200
TZNAME:CEST
DTSTART:20250330T010000
END:DAYLIGHT
BEGIN:STANDARD
TZOFFSETFROM:+0200
TZOFFSETTO:+0100
TZNAME:CET
DTSTART:20251026T010000
END:STANDARD
BEGIN:DAYLIGHT
TZOFFSETFROM:+0100
TZOFFSETTO:+0200
TZNAME:CEST
DTSTART:20260329T010000
END:DAYLIGHT
BEGIN:STANDARD
TZOFFSETFROM:+0200
TZOFFSETTO:+0100
TZNAME:CET
DTSTART:20261025T010000
END:STANDARD
END:VTIMEZONE
BEGIN:VEVENT
DTSTART;TZID=Europe/Paris:20250913T100000
DTEND;TZID=Europe/Paris:20250913T170000
DTSTAMP:20260425T171238
CREATED:20250908T151729Z
LAST-MODIFIED:20250908T152109Z
UID:10012127-1757757600-1757782800@crocoule.org
SUMMARY:Inauguration médiathéque de Sorbiers
DESCRIPTION:La nouvelle médiathèque tiers-lieu de Sorbiers ouvre ses portes dans le centre-bourg : rendez-vous samedi 13 septembre à partir de 10h pour découvrir les espaces\, des animations\, une expo… \nDemandez le programme et ne manquez pas cet événement de la rentrée à Sorbiers ! \n\n\n	Similaire
URL:https://crocoule.org/notre-evenement/inauguration-mediatheque-de-sorbiers/
LOCATION:Médiathèque de Sorbiers\, Place Flavien Achaintre\, Sorbiers\, 42290\, France
CATEGORIES:Tous les événements,Tout public
END:VEVENT
END:VCALENDAR