BEGIN:VCALENDAR
VERSION:2.0
PRODID:-//Crocoule - ECPv6.15.20//NONSGML v1.0//EN
CALSCALE:GREGORIAN
METHOD:PUBLISH
X-WR-CALNAME:Crocoule
X-ORIGINAL-URL:https://crocoule.org
X-WR-CALDESC:Évènements pour Crocoule
REFRESH-INTERVAL;VALUE=DURATION:PT1H
X-Robots-Tag:noindex
X-PUBLISHED-TTL:PT1H
BEGIN:VTIMEZONE
TZID:Europe/Paris
BEGIN:DAYLIGHT
TZOFFSETFROM:+0100
TZOFFSETTO:+0200
TZNAME:CEST
DTSTART:20230326T010000
END:DAYLIGHT
BEGIN:STANDARD
TZOFFSETFROM:+0200
TZOFFSETTO:+0100
TZNAME:CET
DTSTART:20231029T010000
END:STANDARD
BEGIN:DAYLIGHT
TZOFFSETFROM:+0100
TZOFFSETTO:+0200
TZNAME:CEST
DTSTART:20240331T010000
END:DAYLIGHT
BEGIN:STANDARD
TZOFFSETFROM:+0200
TZOFFSETTO:+0100
TZNAME:CET
DTSTART:20241027T010000
END:STANDARD
BEGIN:DAYLIGHT
TZOFFSETFROM:+0100
TZOFFSETTO:+0200
TZNAME:CEST
DTSTART:20250330T010000
END:DAYLIGHT
BEGIN:STANDARD
TZOFFSETFROM:+0200
TZOFFSETTO:+0100
TZNAME:CET
DTSTART:20251026T010000
END:STANDARD
BEGIN:DAYLIGHT
TZOFFSETFROM:+0100
TZOFFSETTO:+0200
TZNAME:CEST
DTSTART:20260329T010000
END:DAYLIGHT
BEGIN:STANDARD
TZOFFSETFROM:+0200
TZOFFSETTO:+0100
TZNAME:CET
DTSTART:20261025T010000
END:STANDARD
END:VTIMEZONE
BEGIN:VEVENT
DTSTART;TZID=Europe/Paris:20250304T150000
DTEND;TZID=Europe/Paris:20250304T150000
DTSTAMP:20260423T101859
CREATED:20250217T161021Z
LAST-MODIFIED:20250313T162424Z
UID:10010572-1741100400-1741100400@crocoule.org
SUMMARY:SAINT-PAL-DE-MONS | Histoires et jeux
DESCRIPTION:Histoire et jeux proposés par la Médiathèque de St Pal de Mons et la Ludothèque Ricochet.\nGratuit et ouvert aux familles et accessible aux bébés \n\n\n	Similaire
URL:https://crocoule.org/notre-evenement/saint-pal-de-mons-histoires-et-jeux/
LOCATION:médiathèque de Saint-Pal-de-Mons\, Place de l'Eglise\, Saint-Pal-de-Mons\, 43620\, France
CATEGORIES:Intérieur,Jeune Public,Tous les événements
END:VEVENT
BEGIN:VEVENT
DTSTART;TZID=Europe/Paris:20241221T153000
DTEND;TZID=Europe/Paris:20241221T163000
DTSTAMP:20260423T101859
CREATED:20241125T144419Z
LAST-MODIFIED:20250217T110850Z
UID:10010213-1734795000-1734798600@crocoule.org
SUMMARY:SAINT-PAL-DE-MONS | Spectacle "tout conte fait"
DESCRIPTION:Similaire
URL:https://crocoule.org/notre-evenement/saint-pal-de-mons-spectacle-tout-conte-fait/
LOCATION:médiathèque de Saint-Pal-de-Mons\, Place de l'Eglise\, Saint-Pal-de-Mons\, 43620\, France
CATEGORIES:Tous les événements
END:VEVENT
END:VCALENDAR