BEGIN:VCALENDAR
VERSION:2.0
PRODID:-//Crocoule - ECPv6.15.15//NONSGML v1.0//EN
CALSCALE:GREGORIAN
METHOD:PUBLISH
X-ORIGINAL-URL:https://crocoule.org
X-WR-CALDESC:Évènements pour Crocoule
REFRESH-INTERVAL;VALUE=DURATION:PT1H
X-Robots-Tag:noindex
X-PUBLISHED-TTL:PT1H
BEGIN:VTIMEZONE
TZID:Europe/Paris
BEGIN:DAYLIGHT
TZOFFSETFROM:+0100
TZOFFSETTO:+0200
TZNAME:CEST
DTSTART:20210328T010000
END:DAYLIGHT
BEGIN:STANDARD
TZOFFSETFROM:+0200
TZOFFSETTO:+0100
TZNAME:CET
DTSTART:20211031T010000
END:STANDARD
BEGIN:DAYLIGHT
TZOFFSETFROM:+0100
TZOFFSETTO:+0200
TZNAME:CEST
DTSTART:20220327T010000
END:DAYLIGHT
BEGIN:STANDARD
TZOFFSETFROM:+0200
TZOFFSETTO:+0100
TZNAME:CET
DTSTART:20221030T010000
END:STANDARD
BEGIN:DAYLIGHT
TZOFFSETFROM:+0100
TZOFFSETTO:+0200
TZNAME:CEST
DTSTART:20230326T010000
END:DAYLIGHT
BEGIN:STANDARD
TZOFFSETFROM:+0200
TZOFFSETTO:+0100
TZNAME:CET
DTSTART:20231029T010000
END:STANDARD
END:VTIMEZONE
BEGIN:VEVENT
DTSTART;TZID=Europe/Paris:20221116T100000
DTEND;TZID=Europe/Paris:20221116T104500
DTSTAMP:20260422T175950
CREATED:20220929T114214Z
LAST-MODIFIED:20220929T114214Z
UID:10000292-1668592800-1668595500@crocoule.org
SUMMARY:BÉBÉ LECTEUR
DESCRIPTION:Inscriptions : 04 77 40 04 40 . \n\n\n\n\n\n\n	Similaire
URL:https://crocoule.org/notre-evenement/bebe-lecteur/
LOCATION:Médiathèque – Chambon Feugerolles\, 1 Rue Michelet\, Le Chambon Feugerolles\, 42500
END:VEVENT
BEGIN:VEVENT
DTSTART;TZID=Europe/Paris:20221102T150000
DTEND;TZID=Europe/Paris:20221102T160000
DTSTAMP:20260422T175950
CREATED:20220929T100311Z
LAST-MODIFIED:20220929T100311Z
UID:10000254-1667401200-1667404800@crocoule.org
SUMMARY:SÉANCE JEUX L''ECOLE DES LOISIRS
DESCRIPTION:Viens jouer avec tes héros préférés de l’école des loisirs. \nInscriptions : 04 77 40 04 40 \n\n\n\n\n\n	Similaire
URL:https://crocoule.org/notre-evenement/seance-jeux-lecole-des-loisirs/
LOCATION:Médiathèque – Chambon Feugerolles\, 1 Rue Michelet\, Le Chambon Feugerolles\, 42500
CATEGORIES:05 ans +,Activité en semaine,Activité pendant les vacances
END:VEVENT
BEGIN:VEVENT
DTSTART;TZID=Europe/Paris:20221007T183000
DTEND;TZID=Europe/Paris:20221007T193000
DTSTAMP:20260422T175950
CREATED:20220927T102348Z
LAST-MODIFIED:20220927T110103Z
UID:10000063-1665167400-1665171000@crocoule.org
SUMMARY:CONTES DE L'AMÉRIQUE DU SUD
DESCRIPTION:Au dessus des vagues\, contes d’Amérique du sud par Mercedes Alfonso. \nInscriptions : 04 77 40 04 40 \n\n\n\n\n\n\n	Similaire
URL:https://crocoule.org/notre-evenement/contes-de-lamerique-du-sud/
LOCATION:Médiathèque – Chambon Feugerolles\, 1 Rue Michelet\, Le Chambon Feugerolles\, 42500
CATEGORIES:04 ans +,Activité en semaine
END:VEVENT
BEGIN:VEVENT
DTSTART;TZID=Europe/Paris:20221001T100000
DTEND;TZID=Europe/Paris:20221001T104500
DTSTAMP:20260422T175950
CREATED:20220927T124216Z
LAST-MODIFIED:20220927T124216Z
UID:10000093-1664618400-1664621100@crocoule.org
SUMMARY:SÉANCE DE BÉBÉ LECTEUR
DESCRIPTION:Les bibliothécaires jeunesse accueillent les petits pour une séance de bébé lecteurs pour faire le plein d’histoires. \nInscriptions : 04 77 40 04 40 \n\n\n\n\n\n	Similaire
URL:https://crocoule.org/notre-evenement/seance-de-bebe-lecteur/
LOCATION:Médiathèque – Chambon Feugerolles\, 1 Rue Michelet\, Le Chambon Feugerolles\, 42500
CATEGORIES:Activité du week-end
END:VEVENT
END:VCALENDAR