BEGIN:VCALENDAR
VERSION:2.0
PRODID:-//Crocoule - ECPv6.15.15//NONSGML v1.0//EN
CALSCALE:GREGORIAN
METHOD:PUBLISH
X-ORIGINAL-URL:https://crocoule.org
X-WR-CALDESC:Évènements pour Crocoule
REFRESH-INTERVAL;VALUE=DURATION:PT1H
X-Robots-Tag:noindex
X-PUBLISHED-TTL:PT1H
BEGIN:VTIMEZONE
TZID:Europe/Paris
BEGIN:DAYLIGHT
TZOFFSETFROM:+0100
TZOFFSETTO:+0200
TZNAME:CEST
DTSTART:20250330T010000
END:DAYLIGHT
BEGIN:STANDARD
TZOFFSETFROM:+0200
TZOFFSETTO:+0100
TZNAME:CET
DTSTART:20251026T010000
END:STANDARD
BEGIN:DAYLIGHT
TZOFFSETFROM:+0100
TZOFFSETTO:+0200
TZNAME:CEST
DTSTART:20260329T010000
END:DAYLIGHT
BEGIN:STANDARD
TZOFFSETFROM:+0200
TZOFFSETTO:+0100
TZNAME:CET
DTSTART:20261025T010000
END:STANDARD
BEGIN:DAYLIGHT
TZOFFSETFROM:+0100
TZOFFSETTO:+0200
TZNAME:CEST
DTSTART:20270328T010000
END:DAYLIGHT
BEGIN:STANDARD
TZOFFSETFROM:+0200
TZOFFSETTO:+0100
TZNAME:CET
DTSTART:20271031T010000
END:STANDARD
END:VTIMEZONE
BEGIN:VEVENT
DTSTART;TZID=Europe/Paris:20260419T143000
DTEND;TZID=Europe/Paris:20260419T153000
DTSTAMP:20260420T053047
CREATED:20260301T113142Z
LAST-MODIFIED:20260301T113142Z
UID:10013112-1776609000-1776612600@crocoule.org
SUMMARY:Saint-Priest-en-Jarez | Cultiver son jardin
DESCRIPTION:Une visite active pour découvrir le jardin ouvrier conçu par l’artiste Emmanuel Louisgrand pour le musée. Petits et grands pourront flâner dans l’installation et participer à l’œuvre en moulant des légumes en plâtre qui viendront peupler le potager du jardin. \n\n\n	Similaire
URL:https://crocoule.org/notre-evenement/saint-priest-en-jarez-cultiver-son-jardin-17/
LOCATION:MAMC\, Saint Priest en Jarez
END:VEVENT
BEGIN:VEVENT
DTSTART;TZID=Europe/Paris:20260417T143000
DTEND;TZID=Europe/Paris:20260417T153000
DTSTAMP:20260420T053047
CREATED:20260301T113137Z
LAST-MODIFIED:20260301T113137Z
UID:10013111-1776436200-1776439800@crocoule.org
SUMMARY:Saint-Priest-en-Jarez | Cultiver son jardin
DESCRIPTION:Une visite active pour découvrir le jardin ouvrier conçu par l’artiste Emmanuel Louisgrand pour le musée. Petits et grands pourront flâner dans l’installation et participer à l’œuvre en moulant des légumes en plâtre qui viendront peupler le potager du jardin. \n\n\n	Similaire
URL:https://crocoule.org/notre-evenement/saint-priest-en-jarez-cultiver-son-jardin-16/
LOCATION:MAMC\, Saint Priest en Jarez
END:VEVENT
BEGIN:VEVENT
DTSTART;TZID=Europe/Paris:20260416T143000
DTEND;TZID=Europe/Paris:20260416T153000
DTSTAMP:20260420T053047
CREATED:20260301T113137Z
LAST-MODIFIED:20260301T113137Z
UID:10013110-1776349800-1776353400@crocoule.org
SUMMARY:Saint-Priest-en-Jarez | Cultiver son jardin
DESCRIPTION:Une visite active pour découvrir le jardin ouvrier conçu par l’artiste Emmanuel Louisgrand pour le musée. Petits et grands pourront flâner dans l’installation et participer à l’œuvre en moulant des légumes en plâtre qui viendront peupler le potager du jardin. \n\n\n	Similaire
URL:https://crocoule.org/notre-evenement/saint-priest-en-jarez-cultiver-son-jardin-15/
LOCATION:MAMC\, Saint Priest en Jarez
END:VEVENT
BEGIN:VEVENT
DTSTART;TZID=Europe/Paris:20260415T143000
DTEND;TZID=Europe/Paris:20260415T153000
DTSTAMP:20260420T053047
CREATED:20260301T113137Z
LAST-MODIFIED:20260301T113137Z
UID:10013109-1776263400-1776267000@crocoule.org
SUMMARY:Saint-Priest-en-Jarez | Cultiver son jardin
DESCRIPTION:Une visite active pour découvrir le jardin ouvrier conçu par l’artiste Emmanuel Louisgrand pour le musée. Petits et grands pourront flâner dans l’installation et participer à l’œuvre en moulant des légumes en plâtre qui viendront peupler le potager du jardin. \n\n\n	Similaire
URL:https://crocoule.org/notre-evenement/saint-priest-en-jarez-cultiver-son-jardin-14/
LOCATION:MAMC\, Saint Priest en Jarez
END:VEVENT
BEGIN:VEVENT
DTSTART;TZID=Europe/Paris:20260413T143000
DTEND;TZID=Europe/Paris:20260413T153000
DTSTAMP:20260420T053047
CREATED:20260301T113136Z
LAST-MODIFIED:20260301T113136Z
UID:10013108-1776090600-1776094200@crocoule.org
SUMMARY:Saint-Priest-en-Jarez | Cultiver son jardin
DESCRIPTION:Une visite active pour découvrir le jardin ouvrier conçu par l’artiste Emmanuel Louisgrand pour le musée. Petits et grands pourront flâner dans l’installation et participer à l’œuvre en moulant des légumes en plâtre qui viendront peupler le potager du jardin. \n\n\n	Similaire
URL:https://crocoule.org/notre-evenement/saint-priest-en-jarez-cultiver-son-jardin-13/
LOCATION:MAMC\, Saint Priest en Jarez
CATEGORIES:Activité du week-end,Activité pendant les vacances,Tous les événements,Tout public
END:VEVENT
BEGIN:VEVENT
DTSTART;TZID=Europe/Paris:20260412T143000
DTEND;TZID=Europe/Paris:20260412T153000
DTSTAMP:20260420T053047
CREATED:20260301T113135Z
LAST-MODIFIED:20260301T113135Z
UID:10013107-1776004200-1776007800@crocoule.org
SUMMARY:Saint-Priest-en-Jarez | Cultiver son jardin
DESCRIPTION:Une visite active pour découvrir le jardin ouvrier conçu par l’artiste Emmanuel Louisgrand pour le musée. Petits et grands pourront flâner dans l’installation et participer à l’œuvre en moulant des légumes en plâtre qui viendront peupler le potager du jardin. \n\n\n	Similaire
URL:https://crocoule.org/notre-evenement/saint-priest-en-jarez-cultiver-son-jardin-12/
LOCATION:MAMC\, Saint Priest en Jarez
CATEGORIES:Activité du week-end,Activité pendant les vacances,Tous les événements,Tout public
END:VEVENT
BEGIN:VEVENT
DTSTART;TZID=Europe/Paris:20260412T103000
DTEND;TZID=Europe/Paris:20260412T113000
DTSTAMP:20260420T053047
CREATED:20260301T113135Z
LAST-MODIFIED:20260301T113135Z
UID:10013106-1775989800-1775993400@crocoule.org
SUMMARY:Saint-Priest-en-Jarez | Cultiver son jardin
DESCRIPTION:Une visite active pour découvrir le jardin ouvrier conçu par l’artiste Emmanuel Louisgrand pour le musée. Petits et grands pourront flâner dans l’installation et participer à l’œuvre en moulant des légumes en plâtre qui viendront peupler le potager du jardin. \n\n\n	Similaire
URL:https://crocoule.org/notre-evenement/saint-priest-en-jarez-cultiver-son-jardin-11/
LOCATION:MAMC\, Saint Priest en Jarez
CATEGORIES:Activité du week-end,Activité pendant les vacances,Tous les événements,Tout public
END:VEVENT
BEGIN:VEVENT
DTSTART;TZID=Europe/Paris:20260411T143000
DTEND;TZID=Europe/Paris:20260411T153000
DTSTAMP:20260420T053047
CREATED:20260301T113135Z
LAST-MODIFIED:20260301T113135Z
UID:10013105-1775917800-1775921400@crocoule.org
SUMMARY:Saint-Priest-en-Jarez | Cultiver son jardin
DESCRIPTION:Une visite active pour découvrir le jardin ouvrier conçu par l’artiste Emmanuel Louisgrand pour le musée. Petits et grands pourront flâner dans l’installation et participer à l’œuvre en moulant des légumes en plâtre qui viendront peupler le potager du jardin. \n\n\n	Similaire
URL:https://crocoule.org/notre-evenement/saint-priest-en-jarez-cultiver-son-jardin-10/
LOCATION:MAMC\, Saint Priest en Jarez
CATEGORIES:Activité du week-end,Activité pendant les vacances,Tous les événements,Tout public
END:VEVENT
BEGIN:VEVENT
DTSTART;TZID=Europe/Paris:20260411T103000
DTEND;TZID=Europe/Paris:20260411T113000
DTSTAMP:20260420T053047
CREATED:20260301T113134Z
LAST-MODIFIED:20260301T113134Z
UID:10013104-1775903400-1775907000@crocoule.org
SUMMARY:Saint-Priest-en-Jarez | Cultiver son jardin
DESCRIPTION:Une visite active pour découvrir le jardin ouvrier conçu par l’artiste Emmanuel Louisgrand pour le musée. Petits et grands pourront flâner dans l’installation et participer à l’œuvre en moulant des légumes en plâtre qui viendront peupler le potager du jardin. \n\n\n	Similaire
URL:https://crocoule.org/notre-evenement/saint-priest-en-jarez-cultiver-son-jardin-9/
LOCATION:MAMC\, Saint Priest en Jarez
CATEGORIES:Activité du week-end,Activité pendant les vacances,Tous les événements,Tout public
END:VEVENT
BEGIN:VEVENT
DTSTART;TZID=Europe/Paris:20260410T143000
DTEND;TZID=Europe/Paris:20260410T153000
DTSTAMP:20260420T053047
CREATED:20260301T113120Z
LAST-MODIFIED:20260301T113120Z
UID:10013103-1775831400-1775835000@crocoule.org
SUMMARY:Saint-Priest-en-Jarez | Cultiver son jardin
DESCRIPTION:Une visite active pour découvrir le jardin ouvrier conçu par l’artiste Emmanuel Louisgrand pour le musée. Petits et grands pourront flâner dans l’installation et participer à l’œuvre en moulant des légumes en plâtre qui viendront peupler le potager du jardin. \n\n\n	Similaire
URL:https://crocoule.org/notre-evenement/saint-priest-en-jarez-cultiver-son-jardin-8/
LOCATION:MAMC\, Saint Priest en Jarez
CATEGORIES:Activité du week-end,Activité pendant les vacances,Tous les événements,Tout public
END:VEVENT
BEGIN:VEVENT
DTSTART;TZID=Europe/Paris:20260409T143000
DTEND;TZID=Europe/Paris:20260409T153000
DTSTAMP:20260420T053047
CREATED:20260301T113120Z
LAST-MODIFIED:20260301T113120Z
UID:10013102-1775745000-1775748600@crocoule.org
SUMMARY:Saint-Priest-en-Jarez | Cultiver son jardin
DESCRIPTION:Une visite active pour découvrir le jardin ouvrier conçu par l’artiste Emmanuel Louisgrand pour le musée. Petits et grands pourront flâner dans l’installation et participer à l’œuvre en moulant des légumes en plâtre qui viendront peupler le potager du jardin. \n\n\n	Similaire
URL:https://crocoule.org/notre-evenement/saint-priest-en-jarez-cultiver-son-jardin-7/
LOCATION:MAMC\, Saint Priest en Jarez
CATEGORIES:Activité du week-end,Activité pendant les vacances,Tous les événements,Tout public
END:VEVENT
BEGIN:VEVENT
DTSTART;TZID=Europe/Paris:20260408T143000
DTEND;TZID=Europe/Paris:20260408T153000
DTSTAMP:20260420T053047
CREATED:20260301T113119Z
LAST-MODIFIED:20260301T113119Z
UID:10013101-1775658600-1775662200@crocoule.org
SUMMARY:Saint-Priest-en-Jarez | Cultiver son jardin
DESCRIPTION:Une visite active pour découvrir le jardin ouvrier conçu par l’artiste Emmanuel Louisgrand pour le musée. Petits et grands pourront flâner dans l’installation et participer à l’œuvre en moulant des légumes en plâtre qui viendront peupler le potager du jardin. \n\n\n	Similaire
URL:https://crocoule.org/notre-evenement/saint-priest-en-jarez-cultiver-son-jardin-6/
LOCATION:MAMC\, Saint Priest en Jarez
CATEGORIES:Activité du week-end,Activité pendant les vacances,Tous les événements,Tout public
END:VEVENT
BEGIN:VEVENT
DTSTART;TZID=Europe/Paris:20260406T143000
DTEND;TZID=Europe/Paris:20260406T153000
DTSTAMP:20260420T053047
CREATED:20260301T113119Z
LAST-MODIFIED:20260301T113119Z
UID:10013100-1775485800-1775489400@crocoule.org
SUMMARY:Saint-Priest-en-Jarez | Cultiver son jardin
DESCRIPTION:Une visite active pour découvrir le jardin ouvrier conçu par l’artiste Emmanuel Louisgrand pour le musée. Petits et grands pourront flâner dans l’installation et participer à l’œuvre en moulant des légumes en plâtre qui viendront peupler le potager du jardin. \n\n\n	Similaire
URL:https://crocoule.org/notre-evenement/saint-priest-en-jarez-cultiver-son-jardin-5/
LOCATION:MAMC\, Saint Priest en Jarez
CATEGORIES:Activité du week-end,Activité pendant les vacances,Tous les événements,Tout public
END:VEVENT
BEGIN:VEVENT
DTSTART;TZID=Europe/Paris:20260405T143000
DTEND;TZID=Europe/Paris:20260405T153000
DTSTAMP:20260420T053047
CREATED:20260301T113119Z
LAST-MODIFIED:20260301T113119Z
UID:10013099-1775399400-1775403000@crocoule.org
SUMMARY:Saint-Priest-en-Jarez | Cultiver son jardin
DESCRIPTION:Une visite active pour découvrir le jardin ouvrier conçu par l’artiste Emmanuel Louisgrand pour le musée. Petits et grands pourront flâner dans l’installation et participer à l’œuvre en moulant des légumes en plâtre qui viendront peupler le potager du jardin. \n\n\n	Similaire
URL:https://crocoule.org/notre-evenement/saint-priest-en-jarez-cultiver-son-jardin-4/
LOCATION:MAMC\, Saint Priest en Jarez
CATEGORIES:Activité du week-end,Activité pendant les vacances,Tous les événements,Tout public
END:VEVENT
BEGIN:VEVENT
DTSTART;TZID=Europe/Paris:20260315T160000
DTEND;TZID=Europe/Paris:20260315T171500
DTSTAMP:20260420T053047
CREATED:20260301T113104Z
LAST-MODIFIED:20260301T113104Z
UID:10013095-1773590400-1773594900@crocoule.org
SUMMARY:Saint-Priest-en-Jarez | Ensemble !
DESCRIPTION:Venez en famille explorer les expositions lors d’une visite ludique et participative\, pensée pour petits et grands \n\n\n	Similaire
URL:https://crocoule.org/notre-evenement/saint-priest-en-jarez-ensemble-6/
LOCATION:MAMC\, Saint Priest en Jarez
CATEGORIES:06 ans +,Activité du week-end,Activité en semaine,Tous les événements
ATTACH;FMTTYPE=image/jpeg:https://crocoule.org/wp-content/uploads/2025/11/VISITE_Ensemble-UqJYQv.jpg
END:VEVENT
BEGIN:VEVENT
DTSTART;TZID=Europe/Paris:20260315T143000
DTEND;TZID=Europe/Paris:20260315T143000
DTSTAMP:20260420T053047
CREATED:20260301T113104Z
LAST-MODIFIED:20260301T113104Z
UID:10013094-1773585000-1773585000@crocoule.org
SUMMARY:Saint-Priest-en-Jarez | Dans tous les sens
DESCRIPTION:Une visite où les enfants de 5 à 11 ans découvrent les trois expositions à travers des activités variées : jeu de construction\, activation de performance\, lecture de conte\, et plus encore. Bonne idée : profitez-en pour participer à la visite découverte du musée pour adultes (tous les samedis et dimanches à 14h30) ! \n\n\n	Similaire
URL:https://crocoule.org/notre-evenement/saint-priest-en-jarez-dans-tous-les-sens-6/
LOCATION:MAMC\, Saint Priest en Jarez
CATEGORIES:05 ans +,Activité du week-end,Tous les événements
ATTACH;FMTTYPE=image/jpeg:https://crocoule.org/wp-content/uploads/2025/11/VISITE_Dans_tous_les_sens-2e2O7S.jpg
END:VEVENT
BEGIN:VEVENT
DTSTART;TZID=Europe/Paris:20260314T160000
DTEND;TZID=Europe/Paris:20260314T171500
DTSTAMP:20260420T053047
CREATED:20260301T113052Z
LAST-MODIFIED:20260301T113052Z
UID:10013093-1773504000-1773508500@crocoule.org
SUMMARY:Saint-Priest-en-Jarez | Jeu d'enquête au musée - Sixième sens
DESCRIPTION:Et si l’art lui-même était une énigme ? En équipe\, menez l’enquête dans les expositions du musée : résolvez les énigmes\, suivez les indices… et questionnez ce qui fait oeuvre. \n\n\n	Similaire
URL:https://crocoule.org/notre-evenement/saint-priest-en-jarez-jeu-denquete-au-musee-sixieme-sens-5/
LOCATION:MAMC\, Saint Priest en Jarez
CATEGORIES:11 ans +,Activité du week-end,Tous les événements
ATTACH;FMTTYPE=image/jpeg:https://crocoule.org/wp-content/uploads/2025/11/Jeu_Sixieme_Sens_Hubert-Genouilhac-gwl0ch.jpg
END:VEVENT
BEGIN:VEVENT
DTSTART;TZID=Europe/Paris:20260314T160000
DTEND;TZID=Europe/Paris:20260314T170000
DTSTAMP:20260420T053047
CREATED:20251202T120857Z
LAST-MODIFIED:20251202T120857Z
UID:10012684-1773504000-1773507600@crocoule.org
SUMMARY:Saint-Priest-en-Jarez | Jeu d'enquête au musée - Sixième sens
DESCRIPTION:Et si l’art lui-même était une énigme ? En équipe\, menez l’enquête dans les expositions du musée : résolvez les énigmes\, suivez les indices… et questionnez ce qui fait oeuvre. \n\n\n	Similaire
URL:https://crocoule.org/notre-evenement/saint-priest-en-jarez-jeu-denquete-au-musee-sixieme-sens-2/2026-03-14/
LOCATION:MAMC\, Saint Priest en Jarez
CATEGORIES:11 ans +,12 ans +,En famille,Expo,Intérieur,Tous les événements,Tout public
END:VEVENT
BEGIN:VEVENT
DTSTART;TZID=Europe/Paris:20260314T143000
DTEND;TZID=Europe/Paris:20260314T143000
DTSTAMP:20260420T053047
CREATED:20260301T113051Z
LAST-MODIFIED:20260301T113051Z
UID:10013092-1773498600-1773498600@crocoule.org
SUMMARY:Saint-Priest-en-Jarez | Dans tous les sens
DESCRIPTION:Une visite où les enfants de 5 à 11 ans découvrent les trois expositions à travers des activités variées : jeu de construction\, activation de performance\, lecture de conte\, et plus encore. Bonne idée : profitez-en pour participer à la visite découverte du musée pour adultes (tous les samedis et dimanches à 14h30) ! \n\n\n	Similaire
URL:https://crocoule.org/notre-evenement/saint-priest-en-jarez-dans-tous-les-sens-5/
LOCATION:MAMC\, Saint Priest en Jarez
CATEGORIES:05 ans +,Activité du week-end,Tous les événements
ATTACH;FMTTYPE=image/jpeg:https://crocoule.org/wp-content/uploads/2025/11/VISITE_Dans_tous_les_sens-2e2O7S.jpg
END:VEVENT
BEGIN:VEVENT
DTSTART;TZID=Europe/Paris:20260311T160000
DTEND;TZID=Europe/Paris:20260311T171500
DTSTAMP:20260420T053047
CREATED:20260301T113050Z
LAST-MODIFIED:20260301T113050Z
UID:10013091-1773244800-1773249300@crocoule.org
SUMMARY:Saint-Priest-en-Jarez | Ensemble !
DESCRIPTION:Venez en famille explorer les expositions lors d’une visite ludique et participative\, pensée pour petits et grands \n\n\n	Similaire
URL:https://crocoule.org/notre-evenement/saint-priest-en-jarez-ensemble-5/
LOCATION:MAMC\, Saint Priest en Jarez
CATEGORIES:06 ans +,Activité du week-end,Activité en semaine,Tous les événements
ATTACH;FMTTYPE=image/jpeg:https://crocoule.org/wp-content/uploads/2025/11/VISITE_Ensemble-UqJYQv.jpg
END:VEVENT
BEGIN:VEVENT
DTSTART;TZID=Europe/Paris:20260308T160000
DTEND;TZID=Europe/Paris:20260308T171500
DTSTAMP:20260420T053047
CREATED:20260301T113049Z
LAST-MODIFIED:20260301T113049Z
UID:10013090-1772985600-1772990100@crocoule.org
SUMMARY:Saint-Priest-en-Jarez | Ensemble !
DESCRIPTION:Venez en famille explorer les expositions lors d’une visite ludique et participative\, pensée pour petits et grands \n\n\n	Similaire
URL:https://crocoule.org/notre-evenement/saint-priest-en-jarez-ensemble-4/
LOCATION:MAMC\, Saint Priest en Jarez
CATEGORIES:06 ans +,Activité du week-end,Activité en semaine,Tous les événements
ATTACH;FMTTYPE=image/jpeg:https://crocoule.org/wp-content/uploads/2025/11/VISITE_Ensemble-UqJYQv.jpg
END:VEVENT
BEGIN:VEVENT
DTSTART;TZID=Europe/Paris:20260308T143000
DTEND;TZID=Europe/Paris:20260308T143000
DTSTAMP:20260420T053047
CREATED:20260301T113049Z
LAST-MODIFIED:20260301T113049Z
UID:10013089-1772980200-1772980200@crocoule.org
SUMMARY:Saint-Priest-en-Jarez | Dans tous les sens
DESCRIPTION:Une visite où les enfants de 5 à 11 ans découvrent les trois expositions à travers des activités variées : jeu de construction\, activation de performance\, lecture de conte\, et plus encore. Bonne idée : profitez-en pour participer à la visite découverte du musée pour adultes (tous les samedis et dimanches à 14h30) ! \n\n\n	Similaire
URL:https://crocoule.org/notre-evenement/saint-priest-en-jarez-dans-tous-les-sens-4/
LOCATION:MAMC\, Saint Priest en Jarez
CATEGORIES:05 ans +,Activité du week-end,Tous les événements
ATTACH;FMTTYPE=image/jpeg:https://crocoule.org/wp-content/uploads/2025/11/VISITE_Dans_tous_les_sens-2e2O7S.jpg
END:VEVENT
BEGIN:VEVENT
DTSTART;TZID=Europe/Paris:20260307T160000
DTEND;TZID=Europe/Paris:20260307T171500
DTSTAMP:20260420T053047
CREATED:20260301T113046Z
LAST-MODIFIED:20260301T113046Z
UID:10013088-1772899200-1772903700@crocoule.org
SUMMARY:Saint-Priest-en-Jarez | Jeu d'enquête au musée - Sixième sens
DESCRIPTION:Et si l’art lui-même était une énigme ? En équipe\, menez l’enquête dans les expositions du musée : résolvez les énigmes\, suivez les indices… et questionnez ce qui fait oeuvre. \n\n\n	Similaire
URL:https://crocoule.org/notre-evenement/saint-priest-en-jarez-jeu-denquete-au-musee-sixieme-sens-4/
LOCATION:MAMC\, Saint Priest en Jarez
CATEGORIES:11 ans +,Activité du week-end,Tous les événements
ATTACH;FMTTYPE=image/jpeg:https://crocoule.org/wp-content/uploads/2025/11/Jeu_Sixieme_Sens_Hubert-Genouilhac-gwl0ch.jpg
END:VEVENT
BEGIN:VEVENT
DTSTART;TZID=Europe/Paris:20260307T160000
DTEND;TZID=Europe/Paris:20260307T170000
DTSTAMP:20260420T053047
CREATED:20251202T120857Z
LAST-MODIFIED:20251202T120857Z
UID:10012683-1772899200-1772902800@crocoule.org
SUMMARY:Saint-Priest-en-Jarez | Jeu d'enquête au musée - Sixième sens
DESCRIPTION:Et si l’art lui-même était une énigme ? En équipe\, menez l’enquête dans les expositions du musée : résolvez les énigmes\, suivez les indices… et questionnez ce qui fait oeuvre. \n\n\n	Similaire
URL:https://crocoule.org/notre-evenement/saint-priest-en-jarez-jeu-denquete-au-musee-sixieme-sens-2/2026-03-07/
LOCATION:MAMC\, Saint Priest en Jarez
CATEGORIES:11 ans +,12 ans +,En famille,Expo,Intérieur,Tous les événements,Tout public
END:VEVENT
BEGIN:VEVENT
DTSTART;TZID=Europe/Paris:20260307T143000
DTEND;TZID=Europe/Paris:20260307T143000
DTSTAMP:20260420T053047
CREATED:20260301T113045Z
LAST-MODIFIED:20260301T113045Z
UID:10013087-1772893800-1772893800@crocoule.org
SUMMARY:Saint-Priest-en-Jarez | Dans tous les sens
DESCRIPTION:Une visite où les enfants de 5 à 11 ans découvrent les trois expositions à travers des activités variées : jeu de construction\, activation de performance\, lecture de conte\, et plus encore. Bonne idée : profitez-en pour participer à la visite découverte du musée pour adultes (tous les samedis et dimanches à 14h30) ! \n\n\n	Similaire
URL:https://crocoule.org/notre-evenement/saint-priest-en-jarez-dans-tous-les-sens-3/
LOCATION:MAMC\, Saint Priest en Jarez
CATEGORIES:05 ans +,Activité du week-end,Tous les événements
ATTACH;FMTTYPE=image/jpeg:https://crocoule.org/wp-content/uploads/2025/11/VISITE_Dans_tous_les_sens-2e2O7S.jpg
END:VEVENT
BEGIN:VEVENT
DTSTART;TZID=Europe/Paris:20260304T160000
DTEND;TZID=Europe/Paris:20260304T171500
DTSTAMP:20260420T053047
CREATED:20260301T113044Z
LAST-MODIFIED:20260301T113044Z
UID:10013086-1772640000-1772644500@crocoule.org
SUMMARY:Saint-Priest-en-Jarez | Ensemble !
DESCRIPTION:Venez en famille explorer les expositions lors d’une visite ludique et participative\, pensée pour petits et grands \n\n\n	Similaire
URL:https://crocoule.org/notre-evenement/saint-priest-en-jarez-ensemble-3/
LOCATION:MAMC\, Saint Priest en Jarez
CATEGORIES:06 ans +,Activité du week-end,Activité en semaine,Tous les événements
ATTACH;FMTTYPE=image/jpeg:https://crocoule.org/wp-content/uploads/2025/11/VISITE_Ensemble-UqJYQv.jpg
END:VEVENT
BEGIN:VEVENT
DTSTART;TZID=Europe/Paris:20260301T160000
DTEND;TZID=Europe/Paris:20260301T171500
DTSTAMP:20260420T053047
CREATED:20260301T113042Z
LAST-MODIFIED:20260301T113042Z
UID:10013085-1772380800-1772385300@crocoule.org
SUMMARY:Saint-Priest-en-Jarez | Ensemble !
DESCRIPTION:Venez en famille explorer les expositions lors d’une visite ludique et participative\, pensée pour petits et grands \n\n\n	Similaire
URL:https://crocoule.org/notre-evenement/saint-priest-en-jarez-ensemble-2/
LOCATION:MAMC\, Saint Priest en Jarez
CATEGORIES:06 ans +,Activité du week-end,Activité en semaine,Tous les événements
ATTACH;FMTTYPE=image/jpeg:https://crocoule.org/wp-content/uploads/2025/11/VISITE_Ensemble-UqJYQv.jpg
END:VEVENT
BEGIN:VEVENT
DTSTART;TZID=Europe/Paris:20260301T143000
DTEND;TZID=Europe/Paris:20260301T143000
DTSTAMP:20260420T053047
CREATED:20260301T113040Z
LAST-MODIFIED:20260301T113040Z
UID:10013084-1772375400-1772375400@crocoule.org
SUMMARY:Saint-Priest-en-Jarez | Dans tous les sens
DESCRIPTION:Une visite où les enfants de 5 à 11 ans découvrent les trois expositions à travers des activités variées : jeu de construction\, activation de performance\, lecture de conte\, et plus encore. Bonne idée : profitez-en pour participer à la visite découverte du musée pour adultes (tous les samedis et dimanches à 14h30) ! \n\n\n	Similaire
URL:https://crocoule.org/notre-evenement/saint-priest-en-jarez-dans-tous-les-sens-2/
LOCATION:MAMC\, Saint Priest en Jarez
CATEGORIES:05 ans +,Activité du week-end,Tous les événements
ATTACH;FMTTYPE=image/jpeg:https://crocoule.org/wp-content/uploads/2025/11/VISITE_Dans_tous_les_sens-2e2O7S.jpg
END:VEVENT
BEGIN:VEVENT
DTSTART;TZID=Europe/Paris:20260228T160000
DTEND;TZID=Europe/Paris:20260228T170000
DTSTAMP:20260420T053047
CREATED:20251202T120857Z
LAST-MODIFIED:20251202T120857Z
UID:10012682-1772294400-1772298000@crocoule.org
SUMMARY:Saint-Priest-en-Jarez | Jeu d'enquête au musée - Sixième sens
DESCRIPTION:Et si l’art lui-même était une énigme ? En équipe\, menez l’enquête dans les expositions du musée : résolvez les énigmes\, suivez les indices… et questionnez ce qui fait oeuvre. \n\n\n	Similaire
URL:https://crocoule.org/notre-evenement/saint-priest-en-jarez-jeu-denquete-au-musee-sixieme-sens-2/2026-02-28/
LOCATION:MAMC\, Saint Priest en Jarez
CATEGORIES:11 ans +,12 ans +,En famille,Expo,Intérieur,Tous les événements,Tout public
END:VEVENT
BEGIN:VEVENT
DTSTART;TZID=Europe/Paris:20260221T160000
DTEND;TZID=Europe/Paris:20260221T170000
DTSTAMP:20260420T053047
CREATED:20251202T120857Z
LAST-MODIFIED:20251202T120857Z
UID:10012681-1771689600-1771693200@crocoule.org
SUMMARY:Saint-Priest-en-Jarez | Jeu d'enquête au musée - Sixième sens
DESCRIPTION:Et si l’art lui-même était une énigme ? En équipe\, menez l’enquête dans les expositions du musée : résolvez les énigmes\, suivez les indices… et questionnez ce qui fait oeuvre. \n\n\n	Similaire
URL:https://crocoule.org/notre-evenement/saint-priest-en-jarez-jeu-denquete-au-musee-sixieme-sens-2/2026-02-21/
LOCATION:MAMC\, Saint Priest en Jarez
CATEGORIES:11 ans +,12 ans +,En famille,Expo,Intérieur,Tous les événements,Tout public
END:VEVENT
END:VCALENDAR