BEGIN:VCALENDAR
VERSION:2.0
PRODID:-//Crocoule - ECPv6.15.20//NONSGML v1.0//EN
CALSCALE:GREGORIAN
METHOD:PUBLISH
X-ORIGINAL-URL:https://crocoule.org
X-WR-CALDESC:Évènements pour Crocoule
REFRESH-INTERVAL;VALUE=DURATION:PT1H
X-Robots-Tag:noindex
X-PUBLISHED-TTL:PT1H
BEGIN:VTIMEZONE
TZID:Europe/Paris
BEGIN:DAYLIGHT
TZOFFSETFROM:+0100
TZOFFSETTO:+0200
TZNAME:CEST
DTSTART:20210328T010000
END:DAYLIGHT
BEGIN:STANDARD
TZOFFSETFROM:+0200
TZOFFSETTO:+0100
TZNAME:CET
DTSTART:20211031T010000
END:STANDARD
BEGIN:DAYLIGHT
TZOFFSETFROM:+0100
TZOFFSETTO:+0200
TZNAME:CEST
DTSTART:20220327T010000
END:DAYLIGHT
BEGIN:STANDARD
TZOFFSETFROM:+0200
TZOFFSETTO:+0100
TZNAME:CET
DTSTART:20221030T010000
END:STANDARD
BEGIN:DAYLIGHT
TZOFFSETFROM:+0100
TZOFFSETTO:+0200
TZNAME:CEST
DTSTART:20230326T010000
END:DAYLIGHT
BEGIN:STANDARD
TZOFFSETFROM:+0200
TZOFFSETTO:+0100
TZNAME:CET
DTSTART:20231029T010000
END:STANDARD
BEGIN:DAYLIGHT
TZOFFSETFROM:+0100
TZOFFSETTO:+0200
TZNAME:CEST
DTSTART:20240331T010000
END:DAYLIGHT
BEGIN:STANDARD
TZOFFSETFROM:+0200
TZOFFSETTO:+0100
TZNAME:CET
DTSTART:20241027T010000
END:STANDARD
END:VTIMEZONE
BEGIN:VEVENT
DTSTART;TZID=Europe/Paris:20230628T140000
DTEND;TZID=Europe/Paris:20230628T143000
DTSTAMP:20260425T153211
CREATED:20230519T133327Z
LAST-MODIFIED:20230523T072103Z
UID:10001458-1687960800-1687962600@crocoule.org
SUMMARY:DES LEGOS JUSQU'AU CIEL
DESCRIPTION:DES LEGOS JUSQU’AU CIEL\nLa maison du patrimoine et des lettres de Saint Étienne propose l’atelier des legos jusqu’au ciel ! \nAvec l’association Unibrick Hissez haut ! Prenons ensemble de la hauteur en assemblant avec stratégie le plus de briques Lego possible ; L’objectif : atteindre le fameux plafond à la fougère de la demeure Chamoncel ou percer les nuages de la cour. À vos briques\, partez ! \nInscriptions : \nRenseignements au 04-77-48-76-27 \nMAISON DU PATRIMOINE ET DES LETTRES – SAINT ÉTIENNE \nTout d’abord\, la Maison du Patrimoine et des Lettres de Saint-Étienne est un lieu culturel situé dans la ville de Saint-Étienne\, en France. En effet\, elle a pour mission de promouvoir le patrimoine et la littérature de la région stéphanoise. \nLa Maison du Patrimoine et des Lettres est un lieu de découverte\, de préservation et de valorisation du patrimoine local. Elle propose des expositions\, des conférences\, des ateliers et des visites guidées pour sensibiliser le public à l’histoire\, à l’architecture et aux traditions de Saint-Étienne et de sa région. Les expositions peuvent porter sur des sujets variés tels que l’industrie\, l’art\, la mode\, l’artisanat\, ou encore des personnages illustres liés à la ville. \nEn ce qui concerne les lettres\, la Maison du Patrimoine et des Lettres met en avant la richesse littéraire de Saint-Étienne. Elle organise des rencontres avec des auteurs\, des lectures publiques\, des résidences d’écrivains et des ateliers d’écriture. Elle cherche ainsi à encourager la création littéraire\, à promouvoir les écrivains locaux et à susciter l’intérêt pour la lecture et l’écriture. \nLa Maison du Patrimoine et des Lettres de Saint-Étienne est donc un lieu culturel dynamique qui permet aux habitants et aux visiteurs de découvrir et d’apprécier le patrimoine matériel et immatériel de la région\, ainsi que la diversité et la créativité littéraire locale. Elle contribue ainsi à la préservation et à la transmission du patrimoine culturel de Saint-Étienne. \n\n\n	Similaire
URL:https://crocoule.org/notre-evenement/des-legos-jusquau-ciel/
LOCATION:Maison du patrimoine et des lettres – Saint Étienne\, 5 Pl. Boivin\, Saint-Étienne\, 42000\, France
CATEGORIES:08 ans +,Activité du week-end
END:VEVENT
BEGIN:VEVENT
DTSTART;TZID=Europe/Paris:20221210T093000
DTEND;TZID=Europe/Paris:20221210T123000
DTSTAMP:20260425T153211
CREATED:20221128T122618Z
LAST-MODIFIED:20221128T122618Z
UID:10000499-1670664600-1670675400@crocoule.org
SUMMARY:ATELIER CREATIF EN FAMILLE
DESCRIPTION:Découvrez les techniques anciennes de l’écriture et du dessin avec la fabrication de l’encre ferro-gallique et la taille d’une plume de faisan ou d’oie. À l’issue de l’atelier\, repartez avec votre flacon d’encre ! Prévoir une tenue adaptée pour éviter les taches d’encre indélébile. \nInscriptions : Réservation et règlement en ligne sur saint-etienne-hors-cadre.fr Directement à l’accueil de la Maison du Patrimoine et des Lettres Renseignements au 04-77-48-76-27 \n\n\n	Similaire
URL:https://crocoule.org/notre-evenement/atelier-creatif-en-famille-2/
LOCATION:Maison du patrimoine et des lettres – Saint Étienne\, 5 Pl. Boivin\, Saint-Étienne\, 42000\, France
CATEGORIES:12 ans +,Activité du week-end
END:VEVENT
BEGIN:VEVENT
DTSTART;TZID=Europe/Paris:20221119T093000
DTEND;TZID=Europe/Paris:20221119T123000
DTSTAMP:20260425T153211
CREATED:20220929T133519Z
LAST-MODIFIED:20220929T133519Z
UID:10000328-1668850200-1668861000@crocoule.org
SUMMARY:ATELIER CREATIF EN FAMILLE
DESCRIPTION:Atelier creatif / confection d’un album en papier avec olga rios\, relieuse seul\, en famille ou entre amis\, créez un album cartonné en utilisant des matériaux issus de la reliure traditionnelle. \n\n\n\n\n\n\n	Similaire
URL:https://crocoule.org/notre-evenement/atelier-creatif-en-famille/
LOCATION:Maison du patrimoine et des lettres – Saint Étienne\, 5 Pl. Boivin\, Saint-Étienne\, 42000\, France
CATEGORIES:Activité du week-end,Tout public
END:VEVENT
BEGIN:VEVENT
DTSTART;TZID=Europe/Paris:20221025T143000
DTEND;TZID=Europe/Paris:20221025T163000
DTSTAMP:20260425T153211
CREATED:20220929T065249Z
LAST-MODIFIED:20220929T065249Z
UID:10000201-1666708200-1666715400@crocoule.org
SUMMARY:LES VACANCES DES 8 – 12 ANS
DESCRIPTION:Jeu ma petite entreprise à travers un parcours en centre-ville puis autour d’un nouveau jeu de plateau à expérimenter dans les espaces de la maison du patrimoine et des lettres\, les enfants découvrent les illustres entreprises stéphanoises en se mettant dans la peau des capitaines d’industries de l’époque. \n\n\n\n\n\n\n	Similaire
URL:https://crocoule.org/notre-evenement/les-vacances-des-8-12-ans/
LOCATION:Maison du patrimoine et des lettres – Saint Étienne\, 5 Pl. Boivin\, Saint-Étienne\, 42000\, France
CATEGORIES:Activité en semaine,Activité pendant les vacances
END:VEVENT
BEGIN:VEVENT
DTSTART;TZID=Europe/Paris:20221015T140000
DTEND;TZID=Europe/Paris:20221015T173000
DTSTAMP:20260425T153211
CREATED:20220927T140439Z
LAST-MODIFIED:20220927T140439Z
UID:10000115-1665842400-1665855000@crocoule.org
SUMMARY:SAMEDI\, ON JOUE A LA MAISON
DESCRIPTION:En compagnie d’un animateur venu vous livrer ses secrets d’expert kapla\, participez à ce chantier géant et collabo- ratif s’adressant à tous\, afin de bâtir ensemble. Votre défi : repousser les limites de la construction et de l’architec- ture en essayant de reproduire la demeure renaissance de claude chamoncel avec ce matériel si chatouilleux ! N’ayez crainte\, durant ce week-end dédié à l’architecture\, tout est permis. \n\n\n\n\n\n	Similaire
URL:https://crocoule.org/notre-evenement/samedi-on-joue-a-la-maison/
LOCATION:Maison du patrimoine et des lettres – Saint Étienne\, 5 Pl. Boivin\, Saint-Étienne\, 42000\, France
CATEGORIES:08 ans +,Activité du week-end,Tout public
END:VEVENT
END:VCALENDAR