BEGIN:VCALENDAR
VERSION:2.0
PRODID:-//Crocoule - ECPv6.15.15//NONSGML v1.0//EN
CALSCALE:GREGORIAN
METHOD:PUBLISH
X-WR-CALNAME:Crocoule
X-ORIGINAL-URL:https://crocoule.org
X-WR-CALDESC:Évènements pour Crocoule
REFRESH-INTERVAL;VALUE=DURATION:PT1H
X-Robots-Tag:noindex
X-PUBLISHED-TTL:PT1H
BEGIN:VTIMEZONE
TZID:Europe/Paris
BEGIN:DAYLIGHT
TZOFFSETFROM:+0100
TZOFFSETTO:+0200
TZNAME:CEST
DTSTART:20220327T010000
END:DAYLIGHT
BEGIN:STANDARD
TZOFFSETFROM:+0200
TZOFFSETTO:+0100
TZNAME:CET
DTSTART:20221030T010000
END:STANDARD
BEGIN:DAYLIGHT
TZOFFSETFROM:+0100
TZOFFSETTO:+0200
TZNAME:CEST
DTSTART:20230326T010000
END:DAYLIGHT
BEGIN:STANDARD
TZOFFSETFROM:+0200
TZOFFSETTO:+0100
TZNAME:CET
DTSTART:20231029T010000
END:STANDARD
BEGIN:DAYLIGHT
TZOFFSETFROM:+0100
TZOFFSETTO:+0200
TZNAME:CEST
DTSTART:20240331T010000
END:DAYLIGHT
BEGIN:STANDARD
TZOFFSETFROM:+0200
TZOFFSETTO:+0100
TZNAME:CET
DTSTART:20241027T010000
END:STANDARD
BEGIN:DAYLIGHT
TZOFFSETFROM:+0100
TZOFFSETTO:+0200
TZNAME:CEST
DTSTART:20250330T010000
END:DAYLIGHT
BEGIN:STANDARD
TZOFFSETFROM:+0200
TZOFFSETTO:+0100
TZNAME:CET
DTSTART:20251026T010000
END:STANDARD
END:VTIMEZONE
BEGIN:VEVENT
DTSTART;TZID=Europe/Paris:20240726T193000
DTEND;TZID=Europe/Paris:20240726T210000
DTSTAMP:20260420T040905
CREATED:20240613T210852Z
LAST-MODIFIED:20240613T210852Z
UID:10008231-1722022200-1722027600@crocoule.org
SUMMARY:Cinéma sous les étoiles
DESCRIPTION:Cinéma sous les étoiles\nVenez profiter des belles soirées d’été pour regarder un film en plein air ! \nTout public – Gratuit. \nSi ton regard se pose sur ces mots c’est que toi aussi tu fais partie de la Haute Congrégation des Super Parents (HCSP : rien que ça !  ????) investis en quête d’idées de sorties familiales dans la Loire et la Haute-Loire pour son/ses bambin(s) ! \nTu ne me crois pas ? Si si\, promis Bienvenue et toutes mes Félicitations ! Tu es sur la bonne page … Et je vais te le prouver ! Tu es prêt ? Allez\, viens je t’emmène au fil des pages du Crocoule ! \nTout d’abord\, Le Crocoule Magazine c’est quoi ? Le Crocoule\, papier ou web\, c’est LE magazine qui porte en lui la douceur et la bienveillance dont tu as besoin en tant que parent et qui facilite tes recherches d’activités loisirs\, culturelles\, nature pour tous les budgets et tous les goûts ! Et ça c’est une promesse ? Tu veux en savoir +\, suis moi par ici ! \nEt ce n’est pas tout … Si tu as soif d’aventure Le Crocoule Express est fait pour toi !\n  \n\n\n	Similaire
URL:https://crocoule.org/notre-evenement/cinema-sous-les-etoiles-2/
LOCATION:Maison des étangs du Forez\, 2285 Biterne\, Arthun\, 42130
CATEGORIES:Activité pendant les vacances,En famille,Gratuit,Tous les événements,Tout public
END:VEVENT
BEGIN:VEVENT
DTSTART;TZID=Europe/Paris:20240711T093000
DTEND;TZID=Europe/Paris:20240711T120000
DTSTAMP:20260420T040905
CREATED:20240613T182718Z
LAST-MODIFIED:20240613T182718Z
UID:10008210-1720690200-1720699200@crocoule.org
SUMMARY:Super-héros de la biodiversité - les oiseaux de nos étangs
DESCRIPTION:Super-héros de la biodiversité – les oiseaux de nos étangs\nArmé de jumelles et de longue-vue\, venez découvrir les oiseaux de la réserve de Biterne \nDès 3 ans – Gratuit – RDVMaison des étangs du Forez / Réserve de Biterne \n  \nSi ton regard se pose sur ces mots c’est que toi aussi tu fais partie de la Haute Congrégation des Super Parents (HCSP : rien que ça !  ????) investis en quête d’idées de sorties familiales dans la Loire et la Haute-Loire pour son/ses bambin(s) ! \nTu ne me crois pas ? Si si\, promis Bienvenue et toutes mes Félicitations ! Tu es sur la bonne page … Et je vais te le prouver ! Tu es prêt ? Allez\, viens je t’emmène au fil des pages du Crocoule ! \nTout d’abord\, Le Crocoule Magazine c’est quoi ? Le Crocoule\, papier ou web\, c’est LE magazine qui porte en lui la douceur et la bienveillance dont tu as besoin en tant que parent et qui facilite tes recherches d’activités loisirs\, culturelles\, nature pour tous les budgets et tous les goûts ! Et ça c’est une promesse ? Tu veux en savoir +\, suis moi par ici ! \nEt ce n’est pas tout … Si tu as soif d’aventure Le Crocoule Express est fait pour toi !\n  \n\n\n	Similaire
URL:https://crocoule.org/notre-evenement/super-heros-de-la-biodiversite-les-oiseaux-de-nos-etangs/
LOCATION:Maison des étangs du Forez\, 2285 Biterne\, Arthun\, 42130
CATEGORIES:03 ans +,Activité pendant les vacances,En famille,Exterieur,Gratuit,Jeune Public,Tous les événements
END:VEVENT
BEGIN:VEVENT
DTSTART;TZID=Europe/Paris:20240710T093000
DTEND;TZID=Europe/Paris:20240710T120000
DTSTAMP:20260420T040905
CREATED:20240613T181133Z
LAST-MODIFIED:20240613T181133Z
UID:10008201-1720603800-1720612800@crocoule.org
SUMMARY:Super-héros de la biodiversité - pêche de la mare
DESCRIPTION:Super-héros de la biodiversité – pêche de la mare\nDurant une matinée\, deviens un véritable héros de la biodiversité ! \nDès 3 ans – Gratuit – RDVMaison des étangs du Forez / Réserve de Biterne \n  \nSi ton regard se pose sur ces mots c’est que toi aussi tu fais partie de la Haute Congrégation des Super Parents (HCSP : rien que ça !  ????) investis en quête d’idées de sorties familiales dans la Loire et la Haute-Loire pour son/ses bambin(s) ! \nTu ne me crois pas ? Si si\, promis Bienvenue et toutes mes Félicitations ! Tu es sur la bonne page … Et je vais te le prouver ! Tu es prêt ? Allez\, viens je t’emmène au fil des pages du Crocoule ! \nTout d’abord\, Le Crocoule Magazine c’est quoi ? Le Crocoule\, papier ou web\, c’est LE magazine qui porte en lui la douceur et la bienveillance dont tu as besoin en tant que parent et qui facilite tes recherches d’activités loisirs\, culturelles\, nature pour tous les budgets et tous les goûts ! Et ça c’est une promesse ? Tu veux en savoir +\, suis moi par ici ! \nEt ce n’est pas tout … Si tu as soif d’aventure Le Crocoule Express est fait pour toi !\n  \n\n\n	Similaire
URL:https://crocoule.org/notre-evenement/super-heros-de-la-biodiversite-peche-de-la-mare/
LOCATION:Maison des étangs du Forez\, 2285 Biterne\, Arthun\, 42130
CATEGORIES:03 ans +,Activité pendant les vacances,En famille,Exterieur,Gratuit,Jeune Public,Tous les événements
END:VEVENT
BEGIN:VEVENT
DTSTART;TZID=Europe/Paris:20240619T093000
DTEND;TZID=Europe/Paris:20240619T120000
DTSTAMP:20260420T040905
CREATED:20240531T101103Z
LAST-MODIFIED:20240531T101103Z
UID:10006218-1718789400-1718798400@crocoule.org
SUMMARY:Où sont passées nos petites bêtes ?
DESCRIPTION:Où sont passées nos petites bêtes\nAtelier découverte des petites bêtes : coccinelle\, papillon\, gendarme ou fourmis\, venez les observer de prés ! \n  \n \nSi ton regard se pose sur ces mots c’est que toi aussi tu fais partie de la Haute Congrégation des Super Parents (HCSP : rien que ça !  ????) investis en quête d’idées de sorties familiales dans la Loire et la Haute-Loire pour son/ses bambin(s) ! \nTu ne me crois pas ? Si si\, promis Bienvenue et toutes mes Félicitations ! Tu es sur la bonne page … Et je vais te le prouver ! Tu es prêt ? Allez\, viens je t’emmène au fil des pages du Crocoule ! \nTout d’abord\, Le Crocoule Magazine c’est quoi ? Le Crocoule\, papier ou web\, c’est LE magazine qui porte en lui la douceur et la bienveillance dont tu as besoin en tant que parent et qui facilite tes recherches d’activités loisirs\, culturelles\, nature pour tous les budgets et tous les goûts ! Et ça c’est une promesse ? Tu veux en savoir +\, suis moi par ici ! \nAgenda / Sorties en famille / Loire / Haute-Loire \nIci\, c’est l’agenda web Crocoule\, sur lequel tu peux retrouver idées de sorties\, ateliers\, festivals\, salons\, randonnées\, expositions et autres pépites en intérieur ou en extérieur ! C’est le genre de mine d’or pour les orpailleurs que vous êtes ou LE SUPER guide des parents à court d’idées ! Pour toujours + de sorties familiales\, d’aventures culturelles & de nature dans la Loire\, la Haute-Loire\, le Mezenc\, le Pilat … \nL’équipe du Crocoule prend plaisir à vous dénicher de chouettes instants de vie à partager en famille et s’engage à recenser et à lister pour vous toutes les pépites d’activités de nos si belles régions ! \nAttends un peu\, le Crocoule te réserve bien d’autres surprises … \nLe Crocoule Express !\nDans la rubrique événements\, tu découvriras la version ligérienne du Pékin Express avec le Crocoule Express tant apprécié de nos supers parents lecteurs ! Il s’agit d’une découverte en voiture à sillonner plusieurs endroits dûment sélectionnés rien que pour vous ! Petits & grands partez à la découverte de la Loire\, le Pays du roannais et tout bientôt du Pilat à travers différentes étapes et énigmes à résoudre pour accéder\, grâce à l’emblématique enveloppe\, au lieu suivant ! \nRigolade\, moments de partage et moments épiques assurés en famille ou entre amis ! \nNe manquez pas la programmation juste ici & ici ! \nLe Crocoule Day !\nLe Crocoule Day saura vous ravir également puisqu’il est l’occasion de partenariats avec des associations\, créateurs ou encore offices de tourisme\, pour mettre à l’honneur les trésors de notre région et vous proposer toujours plus de découvertes d’activités ou d’ateliers tout près de chez vous ! Ne manquez pas la programmation juste ici  & ici ! \nBlog / Pépites / Mise à l’honneur / Collab …\nLe Blog Crocoule\, c’est l’endroit où l’on vous présente en détails nos pépites\, nos tests d’activités pour vous en donner un visuel le plus honnête et fiable ! C’est ici où l’on met à l’honneur nos partenaires et où l’on vous transmet notre passion du partage ! N’hésitez pas à aller y faire un tour et à laisser vos retours et vos envies ???? On met du coeur à l’ouvrage et on adore vous lire ! \nLe magazine\nLe Crocoule magazine existe en dématerialisé ici mais aussi et surtout en format papier que vous pouvez retrouver dans + de 450 points de distributions à travers la Loire\, la Haute-Loire\, l’Ondaine\, Loire-Forez et le Pilat … Venez découvrir nos points de distribution juste ici (rubrique « où le trouver ») De quoi le dénicher non loin de chez vous … Et si on vous disait que vous pourriez le recevoir directement dans votre boite aux lettres\, ça vous dirait ? Et bien\, surprise ! C’est possible : ça vous tente ? Rendez vous juste ici pour le recevoir ! \nPour les curieux\, (non non ce n’est plus un vilain défaut !) une liste des 52 couvertures du magasine sont condensés juste ici (rubrique « les magasines ») ! Un grand merci à l’illustratrice : Carole Crouzet\, qui fait un travail de grande qualité pour vous régaler les yeux et vous faire rire le coeur ! \nEn bref\, tu l’auras compris\, ce magazine\, cet endroit\, c’est l’endroit qui se veut bienveillant\, ressourçant\, accompagnant dans cette grande aventure qu’est la parentalité ! Et merci d’être là pour le faire vivre et partager nos si belles missions ! \n  \n  \n\n\n	Similaire
URL:https://crocoule.org/notre-evenement/ou-sont-passees-nos-petites-betes/
LOCATION:Maison des étangs du Forez\, 2285 Biterne\, Arthun\, 42130
CATEGORIES:En famille,Exterieur,Tous les événements,Tout public
END:VEVENT
BEGIN:VEVENT
DTSTART;TZID=Europe/Paris:20231031T093000
DTEND;TZID=Europe/Paris:20231031T093000
DTSTAMP:20260420T040905
CREATED:20230824T135324Z
LAST-MODIFIED:20230824T135324Z
UID:10002453-1698744600-1698744600@crocoule.org
SUMMARY:Matinée halloween
DESCRIPTION:Matinée halloween\nParticipez à l’atelier fabrication de masques pour faire frissonner vos amis. Nous aurons également l’occasion de faire découvrir aux enfants la Réserve et les oiseaux qui y séjournent. \nINFOS \nOrigine d’Halloween \nTout d’abord\, remontons dans le temps. Aux débuts de la civilisation celte\, précisément à l’époque de la fête de Samhain\, qui marque le début de la saison sombre. Ensuite\, il est important de souligner que cette fête était célébrée le 31 octobre\, marquant la transition entre l’été et l’automne. De plus\, les Celtes croyaient que pendant cette période\, le voile entre le monde des vivants et celui des esprits était particulièrement mince. Cela a conduit à des pratiques et croyances fascinantes. \nDe plus\, au fur et à mesure que le temps a passé\, l’Empire romain a conquis une grande partie de l’Europe celtique. Par conséquent\, les traditions romaines se sont entrelacées avec celles de Samhain. Par exemple\, la fête romaine de la Pomona\, dédiée à la déesse des fruits et des arbres fruitiers\, a apporté des éléments centrés sur la récolte et les festins à la célébration. \nCependant\, un tournant majeur est survenu lorsque le christianisme a commencé à se répandre. Les autorités religieuses ont cherché à christianiser les festivités païennes existantes. Ainsi\, le pape Grégoire IV a déclaré le 1er novembre comme la fête de la Toussaint\, en l’honneur des saints et des martyrs. Par conséquent\, la veille de la Toussaint\, autrement dit la nuit du 31 octobre\, est devenue la « All Hallows’ Eve »\, qui a finalement évolué en « Halloween ». \nEn outre\, en traversant l’Atlantique vers les États-Unis\, les colons irlandais et écossais ont apporté leurs traditions et coutumes d’Halloween. Au fil du temps\, de nouvelles influences culturelles se sont ajoutées\, telles que les histoires de fantômes et de sorcières provenant de différentes cultures européennes. Cela a contribué à façonner la version moderne d’Halloween\, avec des éléments tels que les costumes\, les bonbons et les décorations. \n\n\n	Similaire
URL:https://crocoule.org/notre-evenement/matinee-halloween/
LOCATION:Maison des étangs du Forez\, 2285 Biterne\, Arthun\, 42130
END:VEVENT
BEGIN:VEVENT
DTSTART;TZID=Europe/Paris:20231025T093000
DTEND;TZID=Europe/Paris:20231025T113000
DTSTAMP:20260420T040905
CREATED:20230823T095730Z
LAST-MODIFIED:20230823T095730Z
UID:10002413-1698226200-1698233400@crocoule.org
SUMMARY:Atelier oiseaux
DESCRIPTION:Atelier oiseaux\nDécouvrez l’atelier oiseaux pendant les vacances. \nLes animatrices de l’association multi-bees vous proposent d’apprendre à fabriquer des boules de nourriture pour nos oiseaux des jardins en prévision de l’hiver qui arrive. . \nINFOS \nMaison des étangs du Forez\nTout d’abord\, ma Maison des Etangs du Forez\, située en bordure de la Réserve de Biterne. Représente une exposition ludique et interactive pour toute la famille sur les étangs foréziens. En effet\, c’est également un lieu d’observation des oiseaux sauvages. \n\nDescription\nTout d’abord\, glissé dans la peau d’un journaliste. Le visiteur part enquêter en autonomie pendant une heure au sein de six pôles thématiques\, dont un observatoire avec vue plongeante sur les étangs de la réserve. En effet\, sa mission : découvrir si les étangs du Forez sont menacés. De plus\, au détour d’étonnantes rencontres (scientifique\, historien\, ornithologique\, chasseur\, pisciculteur). Il découvre le patrimoine naturel\, historique et humain de ces zones humides. \nEn plus\, un sentier pédagogique depuis le parking du site est également en accès libre toute l’année. Dans le but\, d’avoir un aperçu de la réserve par le biais de 3 observatoires. Un chemin de randonnée balisé de 9 km (avec une variante de 7 km) permet de prolonger la visite. En découvrant le patrimoine de la commune d’Arthun : étangs\, bocage\, château de Beauvoir\, maisons en pisé\, église romane. \nLa réserve de Biterne est un espace protégé de 38 hectares\, composé de trois étangs où vivent de nombreuses espèces d’oiseaux. Elle dispose de son propre centre d’interprétation intéractif : la Maison des étangs du Forez. Cette réserve de chasse et de faune sauvage est un site d’accueil et de reproduction privilégié pour de nombreuses espèces. Plus de 160 espèces d’oiseaux ont été recensées depuis la création du site\, dont 30 sont rares à l’échelle européenne\, et plus de 240 espèces végétales. \n\n\n\n	Similaire
URL:https://crocoule.org/notre-evenement/atelier-oiseaux/
LOCATION:Maison des étangs du Forez\, 2285 Biterne\, Arthun\, 42130
CATEGORIES:07 ans +,Activité du week-end
END:VEVENT
BEGIN:VEVENT
DTSTART;TZID=Europe/Paris:20230825T160000
DTEND;TZID=Europe/Paris:20230825T160000
DTSTAMP:20260420T040905
CREATED:20230512T122236Z
LAST-MODIFIED:20230512T122236Z
UID:10001284-1692979200-1692979200@crocoule.org
SUMMARY:Soirée Astronomie
DESCRIPTION:Soirée Astronomie\nAux côtés du planétarium de Roanne\, nous vous proposons une soirée pour découvrir les Astres\, météorites et les asteroïdes à travers un dôme intéractif avant d’observer nos étoiles au téléscope\, possibilité de pique-niquer sur place. \n\nLocalisation\n\nLieu : Maison des étangs\nAdresse : 2285 route de Biterne\nCommune : Arthun\n\n\nContact\n\nTéléphone : 04 77 76 23 12\nMél : maisondesetangsduforez@orange.fr\nSite web (URL) : http://www.maisondesetangsduforez.com\n\n\nLa Réserve de Biterne\nUne réserve naturelle \n\nTout d’bord\,  il s’agit d’une réserve ornithologique située sur la commune d’Arthun (42) dans le Nord-Ouest de la plaine du Forez. En effet\, fondée en 1987\, la Réserve de Biterne s’étend sur 38 hectares et est composée de trois étangs entourés de prairies et de bocage. Elle accueille donc principalement des animaux sauvages\, et surtout des oiseaux\, intimement liés à la présence d’eau. Elle est la propriété de la Fondation Nationale pour la Protection des Habitats de la Faune Sauvage : http://www.fondationdeschasseurs.com/fphfs/ . La Réserve est gérée\, c’est-à-dire entretenue et animée\, par la Fédération Départementale des Chasseurs de la Loire \nUne zone refuge pour les oiseaux migrateurs\n\nLa création de cette réserve répondait\, et répond toujours\, à une volonté de proposer une zone refuge pour les oiseaux migrateurs entre l’Europe du Nord et celle du Sud. L’objectif premier de la réserve est donc un objectif scientifique. A cet égard\, les oiseaux sont recensés\, des études sont menées sur certaines espèces faunistiques/floristiques et des aménagements du milieu naturel sont opérés afin d’optimiser la capacité d’accueil du site. Attention\, la Réserve n’est ni un zoo ni un parc. Les animaux la fréquentant sont sauvages. Ils sont donc sensibles à la présence humaine. Leur nombre peut énormément varier d’un heure à une autre\, d’un jour à l’autre\, selon les saisons et selon les conditions météo. Le silence\, le calme\, la patience et la curiosité sont les clés pour des observations réussies. \n\n\n\n\n\n	Similaire
URL:https://crocoule.org/notre-evenement/soiree-astronomie/
LOCATION:Maison des étangs du Forez\, 2285 Biterne\, Arthun\, 42130
END:VEVENT
BEGIN:VEVENT
DTSTART;TZID=Europe/Paris:20230811T193000
DTEND;TZID=Europe/Paris:20230811T220000
DTSTAMP:20260420T040905
CREATED:20230512T123751Z
LAST-MODIFIED:20230512T123751Z
UID:10001285-1691782200-1691791200@crocoule.org
SUMMARY:Cinéma sous les étoiles
DESCRIPTION:Cinéma sous les étoiles\nRegarder un film en plein air est toujours une expérience agréable. Alors prenez vos plaids\, vos coussins et joignez-vous à nous pour ce rendez-vous emblématique de nos étés . Possibilité de pique-niquer sur place. \nLocalisation\n\nLieu : Maison des étangs\nAdresse : 2285 route de Biterne\nCommune : Arthun\n\n\nContact\n\nTéléphone : 04 77 76 23 12\nMél : maisondesetangsduforez@orange.fr\nSite web (URL) : http://www.maisondesetangsduforez.com\n\n\nLa Réserve de Biterne\nUne réserve naturelle \n\nTout d’bord\,  il s’agit d’une réserve ornithologique située sur la commune d’Arthun (42) dans le Nord-Ouest de la plaine du Forez. En effet\, fondée en 1987\, la Réserve de Biterne s’étend sur 38 hectares et est composée de trois étangs entourés de prairies et de bocage. Elle accueille donc principalement des animaux sauvages\, et surtout des oiseaux\, intimement liés à la présence d’eau. Elle est la propriété de la Fondation Nationale pour la Protection des Habitats de la Faune Sauvage : http://www.fondationdeschasseurs.com/fphfs/ . La Réserve est gérée\, c’est-à-dire entretenue et animée\, par la Fédération Départementale des Chasseurs de la Loire \nUne zone refuge pour les oiseaux migrateurs\n\nLa création de cette réserve répondait\, et répond toujours\, à une volonté de proposer une zone refuge pour les oiseaux migrateurs entre l’Europe du Nord et celle du Sud. L’objectif premier de la réserve est donc un objectif scientifique. A cet égard\, les oiseaux sont recensés\, des études sont menées sur certaines espèces faunistiques/floristiques et des aménagements du milieu naturel sont opérés afin d’optimiser la capacité d’accueil du site. Attention\, la Réserve n’est ni un zoo ni un parc. Les animaux la fréquentant sont sauvages. Ils sont donc sensibles à la présence humaine. Leur nombre peut énormément varier d’un heure à une autre\, d’un jour à l’autre\, selon les saisons et selon les conditions météo. Le silence\, le calme\, la patience et la curiosité sont les clés pour des observations réussies. \n\n\n  \n\n\n	Similaire
URL:https://crocoule.org/notre-evenement/cinema-sous-les-etoiles/
LOCATION:Maison des étangs du Forez\, 2285 Biterne\, Arthun\, 42130
END:VEVENT
BEGIN:VEVENT
DTSTART;TZID=Europe/Paris:20230726T140000
DTEND;TZID=Europe/Paris:20230726T170000
DTSTAMP:20260420T040905
CREATED:20230512T131608Z
LAST-MODIFIED:20230512T131608Z
UID:10001290-1690380000-1690390800@crocoule.org
SUMMARY:Deviens un super-héros de la biodiversité !
DESCRIPTION:Deviens un super-héros de la biodiversité !\nGrâce à cette animation\, la biodiversité (faune et flore) qui nous entoure n’aura plus de secret pour toi. Observation des oiseaux des étangs et du paysage\, pêche des petites bêtes de la mare seront notamment au programme. \nLocalisation\n\nLieu : Maison des étangs\nAdresse : 2285 route de Biterne\nCommune : Arthun\n\n\nContact\n\nTéléphone : 04 77 76 23 12\nMél : maisondesetangsduforez@orange.fr\nSite web (URL) : http://www.maisondesetangsduforez.com\n\n\nLa Réserve de Biterne\nUne réserve naturelle \n\nTout d’bord\,  il s’agit d’une réserve ornithologique située sur la commune d’Arthun (42) dans le Nord-Ouest de la plaine du Forez. En effet\, fondée en 1987\, la Réserve de Biterne s’étend sur 38 hectares et est composée de trois étangs entourés de prairies et de bocage. Elle accueille donc principalement des animaux sauvages\, et surtout des oiseaux\, intimement liés à la présence d’eau. Elle est la propriété de la Fondation Nationale pour la Protection des Habitats de la Faune Sauvage : http://www.fondationdeschasseurs.com/fphfs/ . La Réserve est gérée\, c’est-à-dire entretenue et animée\, par la Fédération Départementale des Chasseurs de la Loire \nUne zone refuge pour les oiseaux migrateurs\n\nLa création de cette réserve répondait\, et répond toujours\, à une volonté de proposer une zone refuge pour les oiseaux migrateurs entre l’Europe du Nord et celle du Sud. L’objectif premier de la réserve est donc un objectif scientifique. A cet égard\, les oiseaux sont recensés\, des études sont menées sur certaines espèces faunistiques/floristiques et des aménagements du milieu naturel sont opérés afin d’optimiser la capacité d’accueil du site. Attention\, la Réserve n’est ni un zoo ni un parc. Les animaux la fréquentant sont sauvages. Ils sont donc sensibles à la présence humaine. Leur nombre peut énormément varier d’un heure à une autre\, d’un jour à l’autre\, selon les saisons et selon les conditions météo. Le silence\, le calme\, la patience et la curiosité sont les clés pour des observations réussies. \n\n\n\n\n	Similaire
URL:https://crocoule.org/notre-evenement/deviens-un-super-heros-de-la-biodiversite/
LOCATION:Maison des étangs du Forez\, 2285 Biterne\, Arthun\, 42130
CATEGORIES:08 ans +
END:VEVENT
BEGIN:VEVENT
DTSTART;TZID=Europe/Paris:20230712T093000
DTEND;TZID=Europe/Paris:20230712T113000
DTSTAMP:20260420T040905
CREATED:20230512T120627Z
LAST-MODIFIED:20230512T120627Z
UID:10001282-1689154200-1689161400@crocoule.org
SUMMARY:Pêche de la mare
DESCRIPTION:Pêche de la mare\nDécouvrez les étonnantes petites bêtes de la mare. Après cette pêche à l’épuisette des insectes et invertébrés\, cet écosystème familier n’aura plus de secret pour vous !Découvrez les étonnantes petites bêtes de la mare. Après cette pêche à l’épuisette des insectes et invertébrés\, cet écosystème familier n’aura plus de secret pour vous ! \n\n\nLocalisation\n\nLieu : Maison des étangs\nAdresse : 2285 route de Biterne\nCommune : Arthun\n\n\nContact\n\nTéléphone : 04 77 76 23 12\nMél : maisondesetangsduforez@orange.fr\nSite web (URL) : http://www.maisondesetangsduforez.com\n\n\nLa Réserve de Biterne\nUne réserve naturelle \n\nTout d’bord\,  il s’agit d’une réserve ornithologique située sur la commune d’Arthun (42) dans le Nord-Ouest de la plaine du Forez. En effet\, fondée en 1987\, la Réserve de Biterne s’étend sur 38 hectares et est composée de trois étangs entourés de prairies et de bocage. Elle accueille donc principalement des animaux sauvages\, et surtout des oiseaux\, intimement liés à la présence d’eau. Elle est la propriété de la Fondation Nationale pour la Protection des Habitats de la Faune Sauvage : http://www.fondationdeschasseurs.com/fphfs/ . La Réserve est gérée\, c’est-à-dire entretenue et animée\, par la Fédération Départementale des Chasseurs de la Loire \nUne zone refuge pour les oiseaux migrateurs\n\nLa création de cette réserve répondait\, et répond toujours\, à une volonté de proposer une zone refuge pour les oiseaux migrateurs entre l’Europe du Nord et celle du Sud. L’objectif premier de la réserve est donc un objectif scientifique. A cet égard\, les oiseaux sont recensés\, des études sont menées sur certaines espèces faunistiques/floristiques et des aménagements du milieu naturel sont opérés afin d’optimiser la capacité d’accueil du site. Attention\, la Réserve n’est ni un zoo ni un parc. Les animaux la fréquentant sont sauvages. Ils sont donc sensibles à la présence humaine. Leur nombre peut énormément varier d’un heure à une autre\, d’un jour à l’autre\, selon les saisons et selon les conditions météo. Le silence\, le calme\, la patience et la curiosité sont les clés pour des observations réussies. \n\n\n\n\n	Similaire
URL:https://crocoule.org/notre-evenement/peche-de-la-mare/
LOCATION:Maison des étangs du Forez\, 2285 Biterne\, Arthun\, 42130
CATEGORIES:05 ans +,Activité en semaine
END:VEVENT
BEGIN:VEVENT
DTSTART;TZID=Europe/Paris:20230614T093000
DTEND;TZID=Europe/Paris:20230614T113000
DTSTAMP:20260420T040905
CREATED:20230512T092136Z
LAST-MODIFIED:20230512T092136Z
UID:10001271-1686735000-1686742200@crocoule.org
SUMMARY:CHASSE AUX TRÉSORS DE NOS HAIES
DESCRIPTION:CHASSE AUX TRÉSORS DE NOS HAIES\nLa maison des étangs propose une chasse aux trésors de nos haies. \nSavez-vous que les haies champêtres peuvent être composées de plus d’une vingtaine d’essence d’arbres différentes ? Et qu’elles abritent de nombreux animaux ? Découvrez tous les dessous des haies dans une grande chasse au trésor de la réserve. \n\n\nLocalisation\n\nLieu : Maison des étangs\nAdresse : 2285 route de Biterne\nCommune : Arthun\n\n\nContact\n\nTéléphone : 04 77 76 23 12\nMél : maisondesetangsduforez@orange.fr\nSite web (URL) : http://www.maisondesetangsduforez.com\n\n\nLa Réserve de Biterne\nUne réserve naturelle \n\nTout d’bord\,  il s’agit d’une réserve ornithologique située sur la commune d’Arthun (42) dans le Nord-Ouest de la plaine du Forez. En effet\, fondée en 1987\, la Réserve de Biterne s’étend sur 38 hectares et est composée de trois étangs entourés de prairies et de bocage. Elle accueille donc principalement des animaux sauvages\, et surtout des oiseaux\, intimement liés à la présence d’eau. Elle est la propriété de la Fondation Nationale pour la Protection des Habitats de la Faune Sauvage : http://www.fondationdeschasseurs.com/fphfs/ . La Réserve est gérée\, c’est-à-dire entretenue et animée\, par la Fédération Départementale des Chasseurs de la Loire \nUne zone refuge pour les oiseaux migrateurs\n\nLa création de cette réserve répondait\, et répond toujours\, à une volonté de proposer une zone refuge pour les oiseaux migrateurs entre l’Europe du Nord et celle du Sud. L’objectif premier de la réserve est donc un objectif scientifique. A cet égard\, les oiseaux sont recensés\, des études sont menées sur certaines espèces faunistiques/floristiques et des aménagements du milieu naturel sont opérés afin d’optimiser la capacité d’accueil du site. Attention\, la Réserve n’est ni un zoo ni un parc. Les animaux la fréquentant sont sauvages. Ils sont donc sensibles à la présence humaine. Leur nombre peut énormément varier d’un heure à une autre\, d’un jour à l’autre\, selon les saisons et selon les conditions météo. Le silence\, le calme\, la patience et la curiosité sont les clés pour des observations réussies. \n  \n\n\n\n\n	Similaire
URL:https://crocoule.org/notre-evenement/chasse-aux-tresors-de-nos-haies/
LOCATION:Maison des étangs du Forez\, 2285 Biterne\, Arthun\, 42130
CATEGORIES:07 ans +,Activité du week-end
END:VEVENT
END:VCALENDAR