BEGIN:VCALENDAR
VERSION:2.0
PRODID:-//Crocoule - ECPv6.15.15//NONSGML v1.0//EN
CALSCALE:GREGORIAN
METHOD:PUBLISH
X-WR-CALNAME:Crocoule
X-ORIGINAL-URL:https://crocoule.org
X-WR-CALDESC:Évènements pour Crocoule
REFRESH-INTERVAL;VALUE=DURATION:PT1H
X-Robots-Tag:noindex
X-PUBLISHED-TTL:PT1H
BEGIN:VTIMEZONE
TZID:Europe/Paris
BEGIN:DAYLIGHT
TZOFFSETFROM:+0100
TZOFFSETTO:+0200
TZNAME:CEST
DTSTART:20220327T010000
END:DAYLIGHT
BEGIN:STANDARD
TZOFFSETFROM:+0200
TZOFFSETTO:+0100
TZNAME:CET
DTSTART:20221030T010000
END:STANDARD
BEGIN:DAYLIGHT
TZOFFSETFROM:+0100
TZOFFSETTO:+0200
TZNAME:CEST
DTSTART:20230326T010000
END:DAYLIGHT
BEGIN:STANDARD
TZOFFSETFROM:+0200
TZOFFSETTO:+0100
TZNAME:CET
DTSTART:20231029T010000
END:STANDARD
BEGIN:DAYLIGHT
TZOFFSETFROM:+0100
TZOFFSETTO:+0200
TZNAME:CEST
DTSTART:20240331T010000
END:DAYLIGHT
BEGIN:STANDARD
TZOFFSETFROM:+0200
TZOFFSETTO:+0100
TZNAME:CET
DTSTART:20241027T010000
END:STANDARD
BEGIN:DAYLIGHT
TZOFFSETFROM:+0100
TZOFFSETTO:+0200
TZNAME:CEST
DTSTART:20250330T010000
END:DAYLIGHT
BEGIN:STANDARD
TZOFFSETFROM:+0200
TZOFFSETTO:+0100
TZNAME:CET
DTSTART:20251026T010000
END:STANDARD
END:VTIMEZONE
BEGIN:VEVENT
DTSTART;TZID=Europe/Paris:20240826T103000
DTEND;TZID=Europe/Paris:20240826T120000
DTSTAMP:20260421T035430
CREATED:20240611T122804Z
LAST-MODIFIED:20240611T122824Z
UID:10007926-1724668200-1724673600@crocoule.org
SUMMARY:Contes et légendes de l'Hermitage
DESCRIPTION:Contes et légendes de l’Hermitage\nVenez découvrir les histoires légendaires liées à Notre-Dame de l’Hermitage. Le rocher de Peyrotine\, la source miraculeuse ou la cache de Robert l’Assassin vous seront révélés au cœur de la somptueuse forêt de l’Hermitage. \nTout public – Gratuit. \n  \nSi ton regard se pose sur ces mots c’est que toi aussi tu fais partie de la Haute Congrégation des Super Parents (HCSP : rien que ça !  ????) investis en quête d’idées de sorties familiales dans la Loire et la Haute-Loire pour son/ses bambin(s) ! \nTu ne me crois pas ? Si si\, promis Bienvenue et toutes mes Félicitations ! Tu es sur la bonne page … Et je vais te le prouver ! Tu es prêt ? Allez\, viens je t’emmène au fil des pages du Crocoule ! \nTout d’abord\, Le Crocoule Magazine c’est quoi ? Le Crocoule\, papier ou web\, c’est LE magazine qui porte en lui la douceur et la bienveillance dont tu as besoin en tant que parent et qui facilite tes recherches d’activités loisirs\, culturelles\, nature pour tous les budgets et tous les goûts ! Et ça c’est une promesse ? Tu veux en savoir +\, suis moi par ici ! \nEt ce n’est pas tout … Si tu as soif d’aventure Le Crocoule Express est fait pour toi !\n  \n  \n\n\n	Similaire
URL:https://crocoule.org/notre-evenement/contes-et-legendes-de-lhermitage-2/2024-08-26/
LOCATION:Mairie de Noirétable\, 1 Rue Claude Peurière\, Noirétable\, 42440
CATEGORIES:Activité du week-end,En famille,Exterieur,Tous les événements,Tout public
END:VEVENT
BEGIN:VEVENT
DTSTART;TZID=Europe/Paris:20240729T103000
DTEND;TZID=Europe/Paris:20240729T120000
DTSTAMP:20260421T035430
CREATED:20240611T122804Z
LAST-MODIFIED:20240611T122824Z
UID:10007925-1722249000-1722254400@crocoule.org
SUMMARY:Contes et légendes de l'Hermitage
DESCRIPTION:Contes et légendes de l’Hermitage\nVenez découvrir les histoires légendaires liées à Notre-Dame de l’Hermitage. Le rocher de Peyrotine\, la source miraculeuse ou la cache de Robert l’Assassin vous seront révélés au cœur de la somptueuse forêt de l’Hermitage. \nTout public – Gratuit. \n  \nSi ton regard se pose sur ces mots c’est que toi aussi tu fais partie de la Haute Congrégation des Super Parents (HCSP : rien que ça !  ????) investis en quête d’idées de sorties familiales dans la Loire et la Haute-Loire pour son/ses bambin(s) ! \nTu ne me crois pas ? Si si\, promis Bienvenue et toutes mes Félicitations ! Tu es sur la bonne page … Et je vais te le prouver ! Tu es prêt ? Allez\, viens je t’emmène au fil des pages du Crocoule ! \nTout d’abord\, Le Crocoule Magazine c’est quoi ? Le Crocoule\, papier ou web\, c’est LE magazine qui porte en lui la douceur et la bienveillance dont tu as besoin en tant que parent et qui facilite tes recherches d’activités loisirs\, culturelles\, nature pour tous les budgets et tous les goûts ! Et ça c’est une promesse ? Tu veux en savoir +\, suis moi par ici ! \nEt ce n’est pas tout … Si tu as soif d’aventure Le Crocoule Express est fait pour toi !\n  \n  \n\n\n	Similaire
URL:https://crocoule.org/notre-evenement/contes-et-legendes-de-lhermitage-2/2024-07-29/
LOCATION:Mairie de Noirétable\, 1 Rue Claude Peurière\, Noirétable\, 42440
CATEGORIES:Activité du week-end,En famille,Exterieur,Tous les événements,Tout public
END:VEVENT
BEGIN:VEVENT
DTSTART;TZID=Europe/Paris:20240525T100000
DTEND;TZID=Europe/Paris:20240525T120000
DTSTAMP:20260421T035430
CREATED:20240318T111850Z
LAST-MODIFIED:20240416T163012Z
UID:10004542-1716631200-1716638400@crocoule.org
SUMMARY:Contes et légendes de l'Hermitage
DESCRIPTION:Contes et légendes de l’Hermitage\nVenez découvrir les histoires légendaires liées à Notre-Dame de l’Hermitage. Le rocher de Peyrotine\, la source miraculeuse ou la cache de Robert l’Assassin vous seront révélés au cœur de la somptueuse forêt de l’Hermitage. Tout public – Gratuit. \n  \n  \n  \n \nSi ton regard se pose sur ces mots c’est que toi aussi tu fais partie de la Haute Congrégation des Super Parents (HCSP : rien que ça !  ????) investis en quête d’idées de sorties familiales dans la Loire et la Haute-Loire pour son/ses bambin(s) ! \nTu ne me crois pas ? Si si\, promis Bienvenue et toutes mes Félicitations ! Tu es sur la bonne page … Et je vais te le prouver ! Tu es prêt ? Allez\, viens je t’emmène au fil des pages du Crocoule ! \nTout d’abord\, Le Crocoule Magazine c’est quoi ? Le Crocoule\, papier ou web\, c’est LE magazine qui porte en lui la douceur et la bienveillance dont tu as besoin en tant que parent et qui facilite tes recherches d’activités loisirs\, culturelles\, nature pour tous les budgets et tous les goûts ! Et ça c’est une promesse ? Tu veux en savoir +\, suis moi par ici ! \nAgenda / Sorties en famille / Loire / Haute-Loire \nIci\, c’est l’agenda web Crocoule\, sur lequel tu peux retrouver idées de sorties\, ateliers\, festivals\, salons\, randonnées\, expositions et autres pépites en intérieur ou en extérieur ! C’est le genre de mine d’or pour les orpailleurs que vous êtes ou LE SUPER guide des parents à court d’idées ! Pour toujours + de sorties familiales\, d’aventures culturelles & de nature dans la Loire\, la Haute-Loire\, le Mezenc\, le Pilat … \nL’équipe du Crocoule prend plaisir à vous dénicher de chouettes instants de vie à partager en famille et s’engage à recenser et à lister pour vous toutes les pépites d’activités de nos si belles régions ! \nAttends un peu\, le Crocoule te réserve bien d’autres surprises … \nLe Crocoule Express !\nDans la rubrique événements\, tu découvriras la version ligérienne du Pékin Express avec le Crocoule Express tant apprécié de nos supers parents lecteurs ! Il s’agit d’une découverte en voiture à sillonner plusieurs endroits dûment sélectionnés rien que pour vous ! Petits & grands partez à la découverte de la Loire\, le Pays du roannais et tout bientôt du Pilat à travers différentes étapes et énigmes à résoudre pour accéder\, grâce à l’emblématique enveloppe\, au lieu suivant ! \nRigolade\, moments de partage et moments épiques assurés en famille ou entre amis ! \nNe manquez pas la programmation juste ici & ici ! \nLe Crocoule Day !\nLe Crocoule Day saura vous ravir également puisqu’il est l’occasion de partenariats avec des associations\, créateurs ou encore offices de tourisme\, pour mettre à l’honneur les trésors de notre région et vous proposer toujours plus de découvertes d’activités ou d’ateliers tout près de chez vous ! Ne manquez pas la programmation juste ici  & ici ! \nBlog / Pépites / Mise à l’honneur / Collab …\nLe Blog Crocoule\, c’est l’endroit où l’on vous présente en détails nos pépites\, nos tests d’activités pour vous en donner un visuel le plus honnête et fiable ! C’est ici où l’on met à l’honneur nos partenaires et où l’on vous transmet notre passion du partage ! N’hésitez pas à aller y faire un tour et à laisser vos retours et vos envies ???? On met du coeur à l’ouvrage et on adore vous lire ! \nLe magazine\nLe Crocoule magazine existe en dématerialisé ici mais aussi et surtout en format papier que vous pouvez retrouver dans + de 450 points de distributions à travers la Loire\, la Haute-Loire\, l’Ondaine\, Loire-Forez et le Pilat … Venez découvrir nos points de distribution juste ici (rubrique « où le trouver ») De quoi le dénicher non loin de chez vous … Et si on vous disait que vous pourriez le recevoir directement dans votre boite aux lettres\, ça vous dirait ? Et bien\, surprise ! C’est possible : ça vous tente ? Rendez vous juste ici pour le recevoir ! \nPour les curieux\, (non non ce n’est plus un vilain défaut !) une liste des 52 couvertures du magasine sont condensés juste ici (rubrique « les magasines ») ! Un grand merci à l’illustratrice : Carole Crouzet\, qui fait un travail de grande qualité pour vous régaler les yeux et vous faire rire le coeur ! \nEn bref\, tu l’auras compris\, ce magazine\, cet endroit\, c’est l’endroit qui se veut bienveillant\, ressourçant\, accompagnant dans cette grande aventure qu’est la parentalité ! Et merci d’être là pour le faire vivre et partager nos si belles missions ! \n  \n  \n\n\n	Similaire
URL:https://crocoule.org/notre-evenement/contes-et-legendes-de-lhermitage/
LOCATION:Mairie de Noirétable\, 1 Rue Claude Peurière\, Noirétable\, 42440
CATEGORIES:12 ans +,Activité du week-end,En famille,Exterieur,Tous les événements
END:VEVENT
BEGIN:VEVENT
DTSTART;TZID=Europe/Paris:20230308T140000
DTEND;TZID=Europe/Paris:20230308T150000
DTSTAMP:20260421T035430
CREATED:20230224T083321Z
LAST-MODIFIED:20230224T083321Z
UID:10000970-1678284000-1678287600@crocoule.org
SUMMARY:MON COPAIN GARGANTUA
DESCRIPTION:PRÉSENTATION MON COPAIN GARGANTUA\nMON COPAIN GARGANTUA est un spectacle clownesque et familial par Lionnel Jamon de la Compagnie Gar’Alu. \nLe clown\, c’est Pataruc.\nSa vie se passe dans un parc\, tout en haut d’un arbre.\nIl rêve d’une tempête\, pour que ses soucis et la petite Gardienne du parc s’envolent… Un rêve et des bourrasques terribles. \nEt voilà que tout valdingue… \nLe gardien\, les arbres et les feuilles. Et Pataruc aussi\, valdingue loin\, très loin…. Jusque dans un autre pays et même dans une autre époque  ! Dans cette nouvelle et étrange contrée Pataruc se balade. Inquiet\, joyeux et maladroit\, Il marche vers son nouveau copain : le gigantesque et très «horrifique» Gargantua…\nCe sera\, avec lui des repas fabuleux\, des livres énormes qu’il faut avaler comme des mille feuilles\, les jurons anciens de ce «friandeau» de Grandgousier\, les guerres hallucinantes de Picrochole et les fêtes démesurées… \n\n\n\nContact\n\n\nMairie Salle du rez-de chaussée 42440 Noirétable \n\nTéléphone : 04 77 24 77 53\n\nENVOYER UN E-MAIL\n\n\n\n\n\n\n\n\n\n \nLionel Jamon\, comédien et clown de la Cie Gaf’alu productions. \nDepuis 2001\, il vit entre la Loire et le Rhône. Avec une centaine de représentations par an\, il rencontre tous les publics aussi bien à la campagne qu’à la ville. \nBon ! Mais qu’est-ce qu’il fait ? \nIl voyage avec dans ses valises : \nLe spectacle « Dans ma maison vous viendrez d’ailleurs ce n’est pas ma maison » de Jacques Prévert.\nEt bientôt « Illusions perdues » d’après l’oeuvre de Balzac. \nMais aussi des fables clownesques familiales et poétiques : « Tombé sur un livre »\n« Un air de clown »\n« Mon copain Gargantua«  \n  \n\n\n	Similaire
URL:https://crocoule.org/notre-evenement/mon-copain-gargantua/
LOCATION:Mairie de Noirétable\, 1 Rue Claude Peurière\, Noirétable\, 42440
CATEGORIES:Activité en semaine
END:VEVENT
END:VCALENDAR