BEGIN:VCALENDAR
VERSION:2.0
PRODID:-//Crocoule - ECPv6.15.15//NONSGML v1.0//EN
CALSCALE:GREGORIAN
METHOD:PUBLISH
X-WR-CALNAME:Crocoule
X-ORIGINAL-URL:https://crocoule.org
X-WR-CALDESC:Évènements pour Crocoule
REFRESH-INTERVAL;VALUE=DURATION:PT1H
X-Robots-Tag:noindex
X-PUBLISHED-TTL:PT1H
BEGIN:VTIMEZONE
TZID:Europe/Paris
BEGIN:DAYLIGHT
TZOFFSETFROM:+0100
TZOFFSETTO:+0200
TZNAME:CEST
DTSTART:20210328T010000
END:DAYLIGHT
BEGIN:STANDARD
TZOFFSETFROM:+0200
TZOFFSETTO:+0100
TZNAME:CET
DTSTART:20211031T010000
END:STANDARD
BEGIN:DAYLIGHT
TZOFFSETFROM:+0100
TZOFFSETTO:+0200
TZNAME:CEST
DTSTART:20220327T010000
END:DAYLIGHT
BEGIN:STANDARD
TZOFFSETFROM:+0200
TZOFFSETTO:+0100
TZNAME:CET
DTSTART:20221030T010000
END:STANDARD
BEGIN:DAYLIGHT
TZOFFSETFROM:+0100
TZOFFSETTO:+0200
TZNAME:CEST
DTSTART:20230326T010000
END:DAYLIGHT
BEGIN:STANDARD
TZOFFSETFROM:+0200
TZOFFSETTO:+0100
TZNAME:CET
DTSTART:20231029T010000
END:STANDARD
BEGIN:DAYLIGHT
TZOFFSETFROM:+0100
TZOFFSETTO:+0200
TZNAME:CEST
DTSTART:20240331T010000
END:DAYLIGHT
BEGIN:STANDARD
TZOFFSETFROM:+0200
TZOFFSETTO:+0100
TZNAME:CET
DTSTART:20241027T010000
END:STANDARD
END:VTIMEZONE
BEGIN:VEVENT
DTSTART;TZID=Europe/Paris:20231104T093000
DTEND;TZID=Europe/Paris:20231104T110000
DTSTAMP:20260422T145127
CREATED:20230810T083931Z
LAST-MODIFIED:20230810T083931Z
UID:10002231-1699090200-1699095600@crocoule.org
SUMMARY:JEUX PAPOTE
DESCRIPTION:JEUX PAPOTE – INSTANTS CURIEUX\nLa ludothèque de Saint-Just-Saint-Rambert propose un atelier jeux papote dans le département de la Loire\, pour les enfants de 2 à 6 ans. \nTemps de jeu pour les enfants et temps d’échange entre les parents et Marion Masseboeuf (ludothécaire diplômée) autour de la construction de l’identité dans le jeu d’imitation et les idées reçues sur le jeu et le genre. \nLe réseau de médiathèques Copernic :\nTout d’abord\, le réseau de médiathèques Copernic est un système de bibliothèques situé dans la région Auvergne-Rhône-Alpes. En effet\, il dessert plusieurs villes et communes dans le département de la Loire. De plus\, ce réseau est géré par la communauté d’agglomération Loire Forez. \nEnsuite\, ce réseau est composé de plusieurs médiathèques\, bibliothèque et points de lectures de la région Auvergne-Rhône-Alpes. Cela permet aux usagers d’accéder plus facilement à une grande variété de documents et de services. Ce dispositif possède également un catalogue commun qui permet de réserver des documents en ligne et de les récupérer dans les bibliothèque faisant partie du réseau Copernic. \nEnfin\, le réseau Copernic organise de nombreuses activités et événements culturels au cours de l’année. Notamment\, des expositions\, des conférences\, mais aussi des ateliers pour enfants et aussi des projections de films. \nAutres dates !  \n\n\n	Similaire
URL:https://crocoule.org/notre-evenement/jeux-papote/
LOCATION:Ludothèque Loire Forez – Saint-Just Saint-Rambert\, 3 Rue du Plâtre\, Saint-Just-Saint-Rambert\, 42170
END:VEVENT
BEGIN:VEVENT
DTSTART;TZID=Europe/Paris:20230603T140000
DTEND;TZID=Europe/Paris:20230603T140000
DTSTAMP:20260422T145127
CREATED:20230512T074350Z
LAST-MODIFIED:20230512T074350Z
UID:10001263-1685800800-1685800800@crocoule.org
SUMMARY:En avant la musique à la ludothèque !
DESCRIPTION:En avant la musique à la ludothèque ! – Les histoires par les bibliothécaires\nLa Ludothèque de Saint-Just-Saint-Rambert propose l’atelier en avant la musique à la ludothèque ! Laissez vous importez par la musique le temps d’une après-midi. \nAdresse : \nLudothèque Loire Forez\n3 rue du Plâtre\n42170 Saint-Just Saint-Rambert \nLa commune de Saint-Just Saint-Rambert compte une ludothèque. Gérée par Loire Forez agglomération\, cette dernière fait partie du réseau Copernic. \nLa ludothèque est située 3 rue du Plâtre. Les usagers pourront découvrir une variété de jeux et jouets : jeux de société\, puzzles\, poupées\, jeux de bricolage\, de construction\, jeux scientifique\,… Sur place ou à emprunter\, il y en a aura pour tous les goûts. \nHoraires d’ouverture : \nParticuliers et assistants maternels : \n\nMercredi : 10h-12h et 15h-18h30\nVendredi : 15h-18h30\nSamedi : 10h-13h et 14h-17h\n\nGroupes\, collectivités et associations : \n\nMardi\, mercredi\, jeudi et vendredi (sur rendez-vous et en dehors des heures d’ouverture au public)\n\nLe réseau de médiathèques Copernic :\nTout d’abord\, le réseau de médiathèques Copernic est un système de bibliothèques situé dans la région Auvergne-Rhône-Alpes. En effet\, il dessert plusieurs villes et communes dans le département de la Loire. De plus\, ce réseau est géré par la communauté d’agglomération Loire Forez. \nEnsuite\, ce réseau est composé de plusieurs médiathèques\, bibliothèque et points de lectures de la région Auvergne-Rhône-Alpes. Cela permet aux usagers d’accéder plus facilement à une grande variété de documents et de services. Ce dispositif possède également un catalogue commun qui permet de réserver des documents en ligne et de les récupérer dans les bibliothèque faisant partie du réseau Copernic. \nEnfin\, le réseau Copernic organise de nombreuses activités et événements culturels au cours de l’année. Notamment\, des expositions\, des conférences\, mais aussi des ateliers pour enfants et aussi des projections de films. \n\n\n	Similaire
URL:https://crocoule.org/notre-evenement/en-avant-la-musique-a-la-ludotheque/
LOCATION:Ludothèque Loire Forez – Saint-Just Saint-Rambert\, 3 Rue du Plâtre\, Saint-Just-Saint-Rambert\, 42170
END:VEVENT
BEGIN:VEVENT
DTSTART;TZID=Europe/Paris:20230210T190000
DTEND;TZID=Europe/Paris:20230210T210000
DTSTAMP:20260422T145127
CREATED:20221222T120656Z
LAST-MODIFIED:20230127T114049Z
UID:10000783-1676055600-1676062800@crocoule.org
SUMMARY:APÉRO JEUX
DESCRIPTION:APÉRO JEUX – SAINT-JUST-SAINT-RAMBERT – LOIRE  \nC’est les vacances!! Venez participer à une soirée « apéro-jeux ». Ce sera une formidable opportunité pour jouer ensemble et partager un moment convivial autour d’un apéritif (sans alcool). Vous trouverez forcément un jeu qui vous convient! \n  \nOUVERTURES \nVendredi 10 février 2023 à 19h. \nVendredi 14 avril 2023 à 19h. \nLOCALISATION \n 3 rue du Plâtre 42170 Saint-Just Saint-Rambert \n\nContact \n\n\n\nLudothèque du réseau Copernic 3 rue du Plâtre 42170 Saint-Just Saint-Rambert\n\n\nTéléphone : 04 27 77 06 60\n\nLE réseau COPERNIC rassemble 3 médiathèques\, 56 bibliothèques et 3 ludothèques sur le territoire de Loire Forez agglomération. Autant de lieux accessibles à tous pour échanger\, se divertir\, apprendre et jouer. \nTU SAVAIS QUE ?  \nA partir du vendredi 21 février\, une nouvelle ludothèque vous accueillera à Saint-Just Saint-Rambert. Elle vient compléter le réseau Copernic qui rassemble déjà 2 autres ludothèques (situées à Montbrison et Saint-Bonnet-le-Château)\, ainsi que 3 médiathèques et 56 bibliothèques.\nGrâce à ces 3 ludothèques\, profitez de plus de 7 500 jeux et jouets (jeux de société\, puzzles\, poupées\, jeux de bricolage\, de construction\, jeux scientifiques\, déguisements…) à découvrir sur place ou à emprunter gratuitement. Et ne manquez pas les jeux surdimensionnés en bois\, idéals pour animer vos fêtes de famille\, kermesses et autres événements ! \n  \n\n\n\n	Similaire
URL:https://crocoule.org/notre-evenement/apero-jeux-2/
LOCATION:Ludothèque Loire Forez – Saint-Just Saint-Rambert\, 3 Rue du Plâtre\, Saint-Just-Saint-Rambert\, 42170
CATEGORIES:08 ans +
END:VEVENT
BEGIN:VEVENT
DTSTART;TZID=Europe/Paris:20221222T150000
DTEND;TZID=Europe/Paris:20221222T170000
DTSTAMP:20260422T145127
CREATED:20221128T151856Z
LAST-MODIFIED:20221128T151856Z
UID:10000552-1671721200-1671728400@crocoule.org
SUMMARY:APRÈS-MIDI JEU « GRAND FROID»
DESCRIPTION:C’est bientôt Noël ! En cadeau\, les ludothécaires vous ouvrent leurs portes un après-midi supplémentaire. L’occasion de venir tester leur de jeux «grand froid». \nInscriptions : 04 27 77 82 11 \n\n\n	Similaire
URL:https://crocoule.org/notre-evenement/apres-midi-jeu-grand-froid-2/
LOCATION:Ludothèque Loire Forez – Saint-Just Saint-Rambert\, 3 Rue du Plâtre\, Saint-Just-Saint-Rambert\, 42170
CATEGORIES:Tout public
END:VEVENT
END:VCALENDAR