BEGIN:VCALENDAR
VERSION:2.0
PRODID:-//Crocoule - ECPv6.15.15//NONSGML v1.0//EN
CALSCALE:GREGORIAN
METHOD:PUBLISH
X-ORIGINAL-URL:https://crocoule.org
X-WR-CALDESC:Évènements pour Crocoule
REFRESH-INTERVAL;VALUE=DURATION:PT1H
X-Robots-Tag:noindex
X-PUBLISHED-TTL:PT1H
BEGIN:VTIMEZONE
TZID:Europe/Paris
BEGIN:DAYLIGHT
TZOFFSETFROM:+0100
TZOFFSETTO:+0200
TZNAME:CEST
DTSTART:20220327T010000
END:DAYLIGHT
BEGIN:STANDARD
TZOFFSETFROM:+0200
TZOFFSETTO:+0100
TZNAME:CET
DTSTART:20221030T010000
END:STANDARD
BEGIN:DAYLIGHT
TZOFFSETFROM:+0100
TZOFFSETTO:+0200
TZNAME:CEST
DTSTART:20230326T010000
END:DAYLIGHT
BEGIN:STANDARD
TZOFFSETFROM:+0200
TZOFFSETTO:+0100
TZNAME:CET
DTSTART:20231029T010000
END:STANDARD
BEGIN:DAYLIGHT
TZOFFSETFROM:+0100
TZOFFSETTO:+0200
TZNAME:CEST
DTSTART:20240331T010000
END:DAYLIGHT
BEGIN:STANDARD
TZOFFSETFROM:+0200
TZOFFSETTO:+0100
TZNAME:CET
DTSTART:20241027T010000
END:STANDARD
END:VTIMEZONE
BEGIN:VEVENT
DTSTART;TZID=Europe/Paris:20230817T110000
DTEND;TZID=Europe/Paris:20230817T110000
DTSTAMP:20260421T210832
CREATED:20230801T120106Z
LAST-MODIFIED:20230801T120106Z
UID:10002179-1692270000-1692270000@crocoule.org
SUMMARY:Visite du Mont des Autruches et dégustation
DESCRIPTION:Visite du Mont des Autruches et dégustation\nParticipez à une visite du mont des autruches et dégustation. \n\n\nLe Mont des Autruches est un lieu incontournable pour les passionnés d’élevage. Tout d’abord\, vous aurez l’occasion de visionner un film explicatif sur les autruches\, d’une durée de 10 minutes\, qui vous plongera au cœur de leur univers fascinant. Ensuite\, vous pourrez échanger avec des experts passionnés qui vous dévoileront tous les secrets de ces majestueux oiseaux. \nUne démonstration captivante vous attend également\, où vous apprendrez comment ouvrir un œuf d’autruche avec soin et dextérité. Enfin\, cerise sur le gâteau\, une dégustation savoureuse vous permettra de découvrir des mets délicieux issus de ces œufs hors du commun. \nPour ne pas manquer cette expérience unique\, nous vous conseillons de réserver votre visite auprès des bureaux de l’Office de Tourisme Marches du Velay – Rochebaron. Ainsi\, vous pourrez planifier votre journée à l’avance et profiter pleinement de cette immersion passionnante au cœur de l’élevage des autruches. \nLe mont des Autruches – Sainte-Sigolène\nCHERS VISITEURS\, \nSitué au cœur de la campagne\, dans un petit hameau de Ste Sigolène\, nommé le Mont\, un élevage atypique a vu le jour en Novembre 2014. L’AUTRUCHE\, cet animal majestueux\, fait maintenant partie de notre quotidien. \nDécouvrez et partagez notre passion pour le plus grand des oiseaux. \n\n\n\n\n	Similaire
URL:https://crocoule.org/notre-evenement/visite-du-mont-des-autruches-et-degustation/
LOCATION:Logo du marchand Le Mont des Autruches – Sainte-Sigolène\, Le Mont\, Sainte-Sigolène\, 43600
CATEGORIES:02 ans +
END:VEVENT
END:VCALENDAR