BEGIN:VCALENDAR
VERSION:2.0
PRODID:-//Crocoule - ECPv6.15.15//NONSGML v1.0//EN
CALSCALE:GREGORIAN
METHOD:PUBLISH
X-ORIGINAL-URL:https://crocoule.org
X-WR-CALDESC:Évènements pour Crocoule
REFRESH-INTERVAL;VALUE=DURATION:PT1H
X-Robots-Tag:noindex
X-PUBLISHED-TTL:PT1H
BEGIN:VTIMEZONE
TZID:Europe/Paris
BEGIN:DAYLIGHT
TZOFFSETFROM:+0100
TZOFFSETTO:+0200
TZNAME:CEST
DTSTART:20220327T010000
END:DAYLIGHT
BEGIN:STANDARD
TZOFFSETFROM:+0200
TZOFFSETTO:+0100
TZNAME:CET
DTSTART:20221030T010000
END:STANDARD
BEGIN:DAYLIGHT
TZOFFSETFROM:+0100
TZOFFSETTO:+0200
TZNAME:CEST
DTSTART:20230326T010000
END:DAYLIGHT
BEGIN:STANDARD
TZOFFSETFROM:+0200
TZOFFSETTO:+0100
TZNAME:CET
DTSTART:20231029T010000
END:STANDARD
BEGIN:DAYLIGHT
TZOFFSETFROM:+0100
TZOFFSETTO:+0200
TZNAME:CEST
DTSTART:20240331T010000
END:DAYLIGHT
BEGIN:STANDARD
TZOFFSETFROM:+0200
TZOFFSETTO:+0100
TZNAME:CET
DTSTART:20241027T010000
END:STANDARD
BEGIN:DAYLIGHT
TZOFFSETFROM:+0100
TZOFFSETTO:+0200
TZNAME:CEST
DTSTART:20250330T010000
END:DAYLIGHT
BEGIN:STANDARD
TZOFFSETFROM:+0200
TZOFFSETTO:+0100
TZNAME:CET
DTSTART:20251026T010000
END:STANDARD
END:VTIMEZONE
BEGIN:VEVENT
DTSTART;VALUE=DATE:20240610
DTEND;VALUE=DATE:20240616
DTSTAMP:20260421T180601
CREATED:20240525T132544Z
LAST-MODIFIED:20240525T132544Z
UID:10005562-1717977600-1718495999@crocoule.org
SUMMARY:Chap'erlipopette
DESCRIPTION:Chap’erlipopette\n\n\n\n\n\n\n\n\n\n\n\n\nUne semaine circassienne haute en couleur ! Avec des spectacles des élèves de l’école de cirque\, une déambulation festive dans la ville\, des séances pour les scolaires\, des spectacles de cirque de qualité accessibles à tous.tes\, un cabaret réunissant tout un plateau d’artistes\, des concerts pour s’ambiancer\, et beaucoup d’autres animations et surprises circassiennes ! 04 71 66 13 0 \n\n\n\n\n\n\n \nSi ton regard se pose sur ces mots c’est que toi aussi tu fais partie de la Haute Congrégation des Super Parents (HCSP : rien que ça !  ????) investis en quête d’idées de sorties familiales dans la Loire et la Haute-Loire pour son/ses bambin(s) ! \nTu ne me crois pas ? Si si\, promis Bienvenue et toutes mes Félicitations ! Tu es sur la bonne page … Et je vais te le prouver ! Tu es prêt ? Allez\, viens je t’emmène au fil des pages du Crocoule ! \nTout d’abord\, Le Crocoule Magazine c’est quoi ? Le Crocoule\, papier ou web\, c’est LE magazine qui porte en lui la douceur et la bienveillance dont tu as besoin en tant que parent et qui facilite tes recherches d’activités loisirs\, culturelles\, nature pour tous les budgets et tous les goûts ! Et ça c’est une promesse ? Tu veux en savoir +\, suis moi par ici ! \nAgenda / Sorties en famille / Loire / Haute-Loire \nIci\, c’est l’agenda web Crocoule\, sur lequel tu peux retrouver idées de sorties\, ateliers\, festivals\, salons\, randonnées\, expositions et autres pépites en intérieur ou en extérieur ! C’est le genre de mine d’or pour les orpailleurs que vous êtes ou LE SUPER guide des parents à court d’idées ! Pour toujours + de sorties familiales\, d’aventures culturelles & de nature dans la Loire\, la Haute-Loire\, le Mezenc\, le Pilat … \nL’équipe du Crocoule prend plaisir à vous dénicher de chouettes instants de vie à partager en famille et s’engage à recenser et à lister pour vous toutes les pépites d’activités de nos si belles régions ! \nAttends un peu\, le Crocoule te réserve bien d’autres surprises … \nLe Crocoule Express !\nDans la rubrique événements\, tu découvriras la version ligérienne du Pékin Express avec le Crocoule Express tant apprécié de nos supers parents lecteurs ! Il s’agit d’une découverte en voiture à sillonner plusieurs endroits dûment sélectionnés rien que pour vous ! Petits & grands partez à la découverte de la Loire\, le Pays du roannais et tout bientôt du Pilat à travers différentes étapes et énigmes à résoudre pour accéder\, grâce à l’emblématique enveloppe\, au lieu suivant ! \nRigolade\, moments de partage et moments épiques assurés en famille ou entre amis ! \nNe manquez pas la programmation juste ici & ici ! \nLe Crocoule Day !\nLe Crocoule Day saura vous ravir également puisqu’il est l’occasion de partenariats avec des associations\, créateurs ou encore offices de tourisme\, pour mettre à l’honneur les trésors de notre région et vous proposer toujours plus de découvertes d’activités ou d’ateliers tout près de chez vous ! Ne manquez pas la programmation juste ici  & ici ! \nBlog / Pépites / Mise à l’honneur / Collab …\nLe Blog Crocoule\, c’est l’endroit où l’on vous présente en détails nos pépites\, nos tests d’activités pour vous en donner un visuel le plus honnête et fiable ! C’est ici où l’on met à l’honneur nos partenaires et où l’on vous transmet notre passion du partage ! N’hésitez pas à aller y faire un tour et à laisser vos retours et vos envies ???? On met du coeur à l’ouvrage et on adore vous lire ! \nLe magazine\nLe Crocoule magazine existe en dématerialisé ici mais aussi et surtout en format papier que vous pouvez retrouver dans + de 450 points de distributions à travers la Loire\, la Haute-Loire\, l’Ondaine\, Loire-Forez et le Pilat … Venez découvrir nos points de distribution juste ici (rubrique « où le trouver ») De quoi le dénicher non loin de chez vous … Et si on vous disait que vous pourriez le recevoir directement dans votre boite aux lettres\, ça vous dirait ? Et bien\, surprise ! C’est possible : ça vous tente ? Rendez vous juste ici pour le recevoir ! \nPour les curieux\, (non non ce n’est plus un vilain défaut !) une liste des 52 couvertures du magasine sont condensés juste ici (rubrique « les magasines ») ! Un grand merci à l’illustratrice : Carole Crouzet\, qui fait un travail de grande qualité pour vous régaler les yeux et vous faire rire le coeur ! \nEn bref\, tu l’auras compris\, ce magazine\, cet endroit\, c’est l’endroit qui se veut bienveillant\, ressourçant\, accompagnant dans cette grande aventure qu’est la parentalité ! Et merci d’être là pour le faire vivre et partager nos si belles missions ! \n\n\n\n\n\n\n\n\n\n\n\n\n  \n\n\n\n\n\n\n\n\n	Similaire
URL:https://crocoule.org/notre-evenement/chaperlipopette-2/
LOCATION:L’Hurluberlu – Saint Sigolène\, Imp. des Riouses\, Sainte-Sigolène\, 43600
CATEGORIES:Activité en semaine,En famille,Exterieur,Tous les événements,Tout public
ATTACH;FMTTYPE=image/jpeg:https://crocoule.org/wp-content/uploads/2023/05/affiche-chap3.jpg
END:VEVENT
BEGIN:VEVENT
DTSTART;VALUE=DATE:20230605
DTEND;VALUE=DATE:20230611
DTSTAMP:20260421T180601
CREATED:20230519T142819Z
LAST-MODIFIED:20230519T142819Z
UID:10001462-1685923200-1686441599@crocoule.org
SUMMARY:Chap'erlipopette
DESCRIPTION:Chap’erlipopette\nLe festival Chap’erlipopette 2023 aura lieu du 5 au 10 juin au complexe sportif de Sainte-Sigolène ! \nDécouvrez le programme que nous vous avons concocté cette année\, avec les spectacles des élèves de l’école\, un cabaret\, des concerts\, une déambulation festive\, des spectacles tout public\, des séances pour les scolaires et bien d’autres surprises ! \n\n\n\n\n\n\nLes spectacles des élèves de l’Hurluberlu !\nLes élèves de l’école de cirque auront la chance de jouer leurs spectacles sous le chapiteau du festival du lundi 5 au jeudi 8 juin 2023 ! Tel.le.s de vrais pros\, ils et elles pourront rayonner sur scène sous vos yeux ! Toutes les informations concernant les horaires de répétitions et de représentations sont dans le tableau ci-dessous. \n\n\n\n\n\n\nProgrammation 2023 pour les scolaires\n\n\n\n\n\nLes spectacles ont lieu sous chapiteau\, pour une meilleure immersion dans l’univers du cirque !cCette année\, deux spectacles sont proposés\, l’un tout public et l’autre accessibles à partir du CP.cNous avons également prévu une séance spéciale pour les collèges et lycées avec un numéro en plus en première partie et un moment d’échange avec les artistes après la représentation !\n\n\nLe chapiteau sera implanté au complexe sportif de Sainte-Sigolène. Vous aurez la possibilité de pique-niquer sur place\, ainsi que des toilettes et un parking bus à proximité. La pelouse et les arbres apporteront de la fraîcheur\, mais la température peut être forte sous le chapiteau. Prévoir une tenue adaptée pour les enfants et de l’eau ! \n\nTarif : 5€ / enfant (gratuit pour les accompagnateurs) \nLa fiche de réservation se trouve en bas de cette page ! \n\nVoici le programme  : On avait dit qu’on se touchait pas\n\n\n\n\n\n\n\n\n\n\n\n\n\nLe cirque compost\n \njeudi 8 juin et vendredi 9 juin à 10h  \nIls sont deux\, ils s’adorent\, ils sont un peu perdus mais ensemble ils avancent\, et surtout : ils ne doivent pas se toucher. Ils sont obsédés par cette idée. S’ils se touchent\, ils doivent tout recommencer.\n​Ils sont touchants mais n’ont pas le droit de se toucher.\n​Lorsque leurs corps s’expriment\, s’opère un mélange entre adresse et tendresse. Ils se nouent\, se dénouent\, se jettent\, se propulsent\, roulent\, sautent avec plaisir et douceur. Ils voyagent dans les possibles de leurs deux corps sans se toucher\, ou presque…\nÉmerge une réflexion sur le contact\, entre eux\, entre vous\, entre nous.\n​Qu’est-ce que toucher ? Qu’est-ce que ça fait ? Qu’est-ce qu’on en fait ? \n\nSpectacle de cirque tout public\n \n45 minutes \nDuo acrobatique & Jeu clownesque \nSite de la compagnie \n\n\n\nLa fin demain \n\n\n\n\n\n\n\n\n\n\nZirkus Morsa \nJeudi 8 juin (séance spéciale collège et lycée) et vendredi 9 juin à 14h30 \n  \n\nDans un monde qui risque de chavirer\, Zirkus Morsa propose une métaphore de notre vie sur cette planète.\nMunis d’une planche en bois et d’un rouleau\, deux personnages\, naufragés perdus sur la plage de leur imagination\, se rencontrent\, se connaissent\, et prennent confiance… Un jeu convivial s’installe autour d’équilibres précaires en explorant les possibilités de ce qui les entoure – trouvailles sans valeur soudainement valorisées : la planche\, le rouleau\, des morceaux de bois flotté\, une corde…\nLa complicité et la sincérité sont les ingrédients de cette entreprise passionnante et optimiste à la recherche d’un équilibre commun.\n« La fin demain » – un appel à la convivialité\, la créativité et la simplicité. \n  \nSpectacle de cirque – Tout public à partir de 6 ans\n \n40 minutes\n \nRola Bola & Portées acrobatiques\n \nSite de la compagnie \n\n\n\n\n\n\n\n\n\n\n\n\n\n\n\n\n\n	Similaire
URL:https://crocoule.org/notre-evenement/chaperlipopette/
LOCATION:L’Hurluberlu – Saint Sigolène\, Imp. des Riouses\, Sainte-Sigolène\, 43600
CATEGORIES:Activité en semaine,Tout public
ATTACH;FMTTYPE=image/jpeg:https://crocoule.org/wp-content/uploads/2023/05/affiche-chap3.jpg
END:VEVENT
END:VCALENDAR