BEGIN:VCALENDAR
VERSION:2.0
PRODID:-//Crocoule - ECPv6.15.15//NONSGML v1.0//EN
CALSCALE:GREGORIAN
METHOD:PUBLISH
X-WR-CALNAME:Crocoule
X-ORIGINAL-URL:https://crocoule.org
X-WR-CALDESC:Évènements pour Crocoule
REFRESH-INTERVAL;VALUE=DURATION:PT1H
X-Robots-Tag:noindex
X-PUBLISHED-TTL:PT1H
BEGIN:VTIMEZONE
TZID:Europe/Paris
BEGIN:DAYLIGHT
TZOFFSETFROM:+0100
TZOFFSETTO:+0200
TZNAME:CEST
DTSTART:20230326T010000
END:DAYLIGHT
BEGIN:STANDARD
TZOFFSETFROM:+0200
TZOFFSETTO:+0100
TZNAME:CET
DTSTART:20231029T010000
END:STANDARD
BEGIN:DAYLIGHT
TZOFFSETFROM:+0100
TZOFFSETTO:+0200
TZNAME:CEST
DTSTART:20240331T010000
END:DAYLIGHT
BEGIN:STANDARD
TZOFFSETFROM:+0200
TZOFFSETTO:+0100
TZNAME:CET
DTSTART:20241027T010000
END:STANDARD
BEGIN:DAYLIGHT
TZOFFSETFROM:+0100
TZOFFSETTO:+0200
TZNAME:CEST
DTSTART:20250330T010000
END:DAYLIGHT
BEGIN:STANDARD
TZOFFSETFROM:+0200
TZOFFSETTO:+0100
TZNAME:CET
DTSTART:20251026T010000
END:STANDARD
END:VTIMEZONE
BEGIN:VEVENT
DTSTART;VALUE=DATE:20241208
DTEND;VALUE=DATE:20241209
DTSTAMP:20260421T233649
CREATED:20241128T094234Z
LAST-MODIFIED:20241128T094234Z
UID:10010276-1733616000-1733702399@crocoule.org
SUMMARY:Marché de Noël de L'Étrat
DESCRIPTION:Marché de Noël de l’Étrat\nLe Sou des écoles publiques de L’Étrat organise son Marché de Noël dimanche 8 décembre 2024\, de 9H à 17H à l’Espace Gabriel Rouchon de L’Étrat. Plus de 60 exposants seront présents et vous proposeront des produits artisanaux. Huîtres\, soupe de châtaignes\, vin chaud\, frites\, crêpes… \nPlus d’information juste ici !\n  \n\n\n	Similaire
URL:https://crocoule.org/notre-evenement/marche-de-noel-de-letrat/
LOCATION:L’étrat\, 42092
CATEGORIES:En famille,Exterieur,Gratuit,Tous les événements,Tout public
END:VEVENT
END:VCALENDAR