BEGIN:VCALENDAR
VERSION:2.0
PRODID:-//Crocoule - ECPv6.15.15//NONSGML v1.0//EN
CALSCALE:GREGORIAN
METHOD:PUBLISH
X-WR-CALNAME:Crocoule
X-ORIGINAL-URL:https://crocoule.org
X-WR-CALDESC:Évènements pour Crocoule
REFRESH-INTERVAL;VALUE=DURATION:PT1H
X-Robots-Tag:noindex
X-PUBLISHED-TTL:PT1H
BEGIN:VTIMEZONE
TZID:Europe/Paris
BEGIN:DAYLIGHT
TZOFFSETFROM:+0100
TZOFFSETTO:+0200
TZNAME:CEST
DTSTART:20250330T010000
END:DAYLIGHT
BEGIN:STANDARD
TZOFFSETFROM:+0200
TZOFFSETTO:+0100
TZNAME:CET
DTSTART:20251026T010000
END:STANDARD
BEGIN:DAYLIGHT
TZOFFSETFROM:+0100
TZOFFSETTO:+0200
TZNAME:CEST
DTSTART:20260329T010000
END:DAYLIGHT
BEGIN:STANDARD
TZOFFSETFROM:+0200
TZOFFSETTO:+0100
TZNAME:CET
DTSTART:20261025T010000
END:STANDARD
BEGIN:DAYLIGHT
TZOFFSETFROM:+0100
TZOFFSETTO:+0200
TZNAME:CEST
DTSTART:20270328T010000
END:DAYLIGHT
BEGIN:STANDARD
TZOFFSETFROM:+0200
TZOFFSETTO:+0100
TZNAME:CET
DTSTART:20271031T010000
END:STANDARD
END:VTIMEZONE
BEGIN:VEVENT
DTSTART;TZID=Europe/Paris:20260422T143000
DTEND;TZID=Europe/Paris:20260422T163000
DTSTAMP:20260420T073254
CREATED:20260228T181553Z
LAST-MODIFIED:20260228T181553Z
UID:10012930-1776868200-1776875400@crocoule.org
SUMMARY:Montrond Les Bains | Prise de bec / Les oiseaux au printemps
DESCRIPTION:Tout le monde sait que les oiseaux sont munis d’un bec mais savez-vous vraiment à quoi il leur sert ? Cette après-midi sera l’occasion de vous plonger dans l’univers sonore et alimentaire des oiseaux d’eau en participant à des ateliers ludiques et sensoriels le long des bords de Loire. \n\n\n	Similaire
URL:https://crocoule.org/notre-evenement/montrond-les-bains-prise-de-bec-les-oiseaux-au-printemps/
LOCATION:Les deux becs
CATEGORIES:07 ans +,Tous les événements
ATTACH;FMTTYPE=image/jpeg:https://crocoule.org/wp-content/uploads/2026/02/th-1920x1000-actu_rdvnature.jpg-t7ohjO.jpg
END:VEVENT
END:VCALENDAR