BEGIN:VCALENDAR
VERSION:2.0
PRODID:-//Crocoule - ECPv6.15.15//NONSGML v1.0//EN
CALSCALE:GREGORIAN
METHOD:PUBLISH
X-WR-CALNAME:Crocoule
X-ORIGINAL-URL:https://crocoule.org
X-WR-CALDESC:Évènements pour Crocoule
REFRESH-INTERVAL;VALUE=DURATION:PT1H
X-Robots-Tag:noindex
X-PUBLISHED-TTL:PT1H
BEGIN:VTIMEZONE
TZID:Europe/Paris
BEGIN:DAYLIGHT
TZOFFSETFROM:+0100
TZOFFSETTO:+0200
TZNAME:CEST
DTSTART:20230326T010000
END:DAYLIGHT
BEGIN:STANDARD
TZOFFSETFROM:+0200
TZOFFSETTO:+0100
TZNAME:CET
DTSTART:20231029T010000
END:STANDARD
BEGIN:DAYLIGHT
TZOFFSETFROM:+0100
TZOFFSETTO:+0200
TZNAME:CEST
DTSTART:20240331T010000
END:DAYLIGHT
BEGIN:STANDARD
TZOFFSETFROM:+0200
TZOFFSETTO:+0100
TZNAME:CET
DTSTART:20241027T010000
END:STANDARD
BEGIN:DAYLIGHT
TZOFFSETFROM:+0100
TZOFFSETTO:+0200
TZNAME:CEST
DTSTART:20250330T010000
END:DAYLIGHT
BEGIN:STANDARD
TZOFFSETFROM:+0200
TZOFFSETTO:+0100
TZNAME:CET
DTSTART:20251026T010000
END:STANDARD
END:VTIMEZONE
BEGIN:VEVENT
DTSTART;VALUE=DATE:20240722
DTEND;VALUE=DATE:20240725
DTSTAMP:20260419T231722
CREATED:20240611T131055Z
LAST-MODIFIED:20240611T131055Z
UID:10007935-1721606400-1721865599@crocoule.org
SUMMARY:On part en vacances !
DESCRIPTION:On part en vacances !\nImaginer et réaliser des petits jeux\, des cartes postales\, des petits sacs de voyage\, à emporter dans la valise des vacances. Bricolage\, dessin\, illustration\, peinture sur tissus\, etc.| \nDe 3 à 7 ans et 8 à 12 ans – 3 jours – 93 euros.\n  \nSi ton regard se pose sur ces mots c’est que toi aussi tu fais partie de la Haute Congrégation des Super Parents (HCSP : rien que ça !  ????) investis en quête d’idées de sorties familiales dans la Loire et la Haute-Loire pour son/ses bambin(s) ! \nTu ne me crois pas ? Si si\, promis Bienvenue et toutes mes Félicitations ! Tu es sur la bonne page … Et je vais te le prouver ! Tu es prêt ? Allez\, viens je t’emmène au fil des pages du Crocoule ! \nTout d’abord\, Le Crocoule Magazine c’est quoi ? Le Crocoule\, papier ou web\, c’est LE magazine qui porte en lui la douceur et la bienveillance dont tu as besoin en tant que parent et qui facilite tes recherches d’activités loisirs\, culturelles\, nature pour tous les budgets et tous les goûts ! Et ça c’est une promesse ? Tu veux en savoir +\, suis moi par ici ! \nEt ce n’est pas tout … Si tu as soif d’aventure Le Crocoule Express est fait pour toi !\n  \n\n\n	Similaire
URL:https://crocoule.org/notre-evenement/on-part-en-vacances/
LOCATION:Les Ateliers de la Rue Raisin\, 16 Rue Raisin\, 42000 Saint-Étienne\, Saint-Étienne\, 42000
CATEGORIES:03 ans +,Activité en semaine,Activité pendant les vacances,Intérieur,Tous les événements
END:VEVENT
BEGIN:VEVENT
DTSTART;VALUE=DATE:20240718
DTEND;VALUE=DATE:20240720
DTSTAMP:20260419T231722
CREATED:20240611T130415Z
LAST-MODIFIED:20240611T130415Z
UID:10007932-1721260800-1721433599@crocoule.org
SUMMARY:Aux couleurs de l’été
DESCRIPTION:Aux couleurs de l’été\nDécouverte multi-activités artistiques. S’initier\, découvrir ou pratiquer des activités artistiques comme le modelage de l’argile\, le dessin et la peinture\, le conte… Profiter du jardin\, des copains et des vacances. \nDe 3 à 7 ans & de 8 à 12 ans – 2 jours – 63 euros.\n  \nSi ton regard se pose sur ces mots c’est que toi aussi tu fais partie de la Haute Congrégation des Super Parents (HCSP : rien que ça !  ????) investis en quête d’idées de sorties familiales dans la Loire et la Haute-Loire pour son/ses bambin(s) ! \nTu ne me crois pas ? Si si\, promis Bienvenue et toutes mes Félicitations ! Tu es sur la bonne page … Et je vais te le prouver ! Tu es prêt ? Allez\, viens je t’emmène au fil des pages du Crocoule ! \nTout d’abord\, Le Crocoule Magazine c’est quoi ? Le Crocoule\, papier ou web\, c’est LE magazine qui porte en lui la douceur et la bienveillance dont tu as besoin en tant que parent et qui facilite tes recherches d’activités loisirs\, culturelles\, nature pour tous les budgets et tous les goûts ! Et ça c’est une promesse ? Tu veux en savoir +\, suis moi par ici ! \nEt ce n’est pas tout … Si tu as soif d’aventure Le Crocoule Express est fait pour toi !\n  \n\n\n	Similaire
URL:https://crocoule.org/notre-evenement/aux-couleurs-de-lete-3/
LOCATION:Les Ateliers de la Rue Raisin\, 16 Rue Raisin\, 42000 Saint-Étienne\, Saint-Étienne\, 42000
CATEGORIES:03 ans +,Activité en semaine,Activité pendant les vacances,Intérieur,Tous les événements
END:VEVENT
BEGIN:VEVENT
DTSTART;VALUE=DATE:20240715
DTEND;VALUE=DATE:20240720
DTSTAMP:20260419T231722
CREATED:20240611T130801Z
LAST-MODIFIED:20240611T130801Z
UID:10007934-1721001600-1721433599@crocoule.org
SUMMARY:Tous en scène !
DESCRIPTION:Tous en scène ! \nExpression théâtrale\, jeu d’acteur. Découvrir le théâtre à travers différents jeux théatraux et d’improvisation. Monter un petit spectacle.| \n8-13 ans – 5 jours – 155 euros.\n  \n  \nSi ton regard se pose sur ces mots c’est que toi aussi tu fais partie de la Haute Congrégation des Super Parents (HCSP : rien que ça !  ????) investis en quête d’idées de sorties familiales dans la Loire et la Haute-Loire pour son/ses bambin(s) ! \nTu ne me crois pas ? Si si\, promis Bienvenue et toutes mes Félicitations ! Tu es sur la bonne page … Et je vais te le prouver ! Tu es prêt ? Allez\, viens je t’emmène au fil des pages du Crocoule ! \nTout d’abord\, Le Crocoule Magazine c’est quoi ? Le Crocoule\, papier ou web\, c’est LE magazine qui porte en lui la douceur et la bienveillance dont tu as besoin en tant que parent et qui facilite tes recherches d’activités loisirs\, culturelles\, nature pour tous les budgets et tous les goûts ! Et ça c’est une promesse ? Tu veux en savoir +\, suis moi par ici ! \nEt ce n’est pas tout … Si tu as soif d’aventure Le Crocoule Express est fait pour toi !\n  \n\n\n	Similaire
URL:https://crocoule.org/notre-evenement/tous-en-scene/
LOCATION:Les Ateliers de la Rue Raisin\, 16 Rue Raisin\, 42000 Saint-Étienne\, Saint-Étienne\, 42000
CATEGORIES:08 ans +,Activité en semaine,Activité pendant les vacances,Intérieur,Tous les événements
END:VEVENT
BEGIN:VEVENT
DTSTART;VALUE=DATE:20240715
DTEND;VALUE=DATE:20240718
DTSTAMP:20260419T231722
CREATED:20240611T130521Z
LAST-MODIFIED:20240611T130521Z
UID:10007933-1721001600-1721260799@crocoule.org
SUMMARY:Aux couleurs de l’été
DESCRIPTION:Aux couleurs de l’été\nDécouverte multi-activités artistiques. S’initier\, découvrir ou pratiquer des activités artistiques comme le modelage de l’argile\, le dessin et la peinture\, le conte… Profiter du jardin\, des copains et des vacances. \nDe 3 à 7 ans & de 8 à 12 ans – 3 jours – 93 euros.\n  \nSi ton regard se pose sur ces mots c’est que toi aussi tu fais partie de la Haute Congrégation des Super Parents (HCSP : rien que ça !  ????) investis en quête d’idées de sorties familiales dans la Loire et la Haute-Loire pour son/ses bambin(s) ! \nTu ne me crois pas ? Si si\, promis Bienvenue et toutes mes Félicitations ! Tu es sur la bonne page … Et je vais te le prouver ! Tu es prêt ? Allez\, viens je t’emmène au fil des pages du Crocoule ! \nTout d’abord\, Le Crocoule Magazine c’est quoi ? Le Crocoule\, papier ou web\, c’est LE magazine qui porte en lui la douceur et la bienveillance dont tu as besoin en tant que parent et qui facilite tes recherches d’activités loisirs\, culturelles\, nature pour tous les budgets et tous les goûts ! Et ça c’est une promesse ? Tu veux en savoir +\, suis moi par ici ! \nEt ce n’est pas tout … Si tu as soif d’aventure Le Crocoule Express est fait pour toi !\n  \n\n\n	Similaire
URL:https://crocoule.org/notre-evenement/aux-couleurs-de-lete-4/
LOCATION:Les Ateliers de la Rue Raisin\, 16 Rue Raisin\, 42000 Saint-Étienne\, Saint-Étienne\, 42000
CATEGORIES:03 ans +,Activité en semaine,Activité pendant les vacances,Intérieur,Tous les événements
END:VEVENT
BEGIN:VEVENT
DTSTART;VALUE=DATE:20240708
DTEND;VALUE=DATE:20240713
DTSTAMP:20260419T231722
CREATED:20240611T125325Z
LAST-MODIFIED:20240611T125325Z
UID:10007929-1720396800-1720828799@crocoule.org
SUMMARY:On tourne un film d’animation
DESCRIPTION:On tourne un film d’animation\nRéalisation d’un film d’animation. Les matins : jeux d’acteur\, maniement de la caméra et effets spéciaux\, pixilation… Réalisation complète d’un court-métrage d’animation image par image. \n8 à 13 ans – 5 jours – 163 euros.\n  \nSi ton regard se pose sur ces mots c’est que toi aussi tu fais partie de la Haute Congrégation des Super Parents (HCSP : rien que ça !  ????) investis en quête d’idées de sorties familiales dans la Loire et la Haute-Loire pour son/ses bambin(s) ! \nTu ne me crois pas ? Si si\, promis Bienvenue et toutes mes Félicitations ! Tu es sur la bonne page … Et je vais te le prouver ! Tu es prêt ? Allez\, viens je t’emmène au fil des pages du Crocoule ! \nTout d’abord\, Le Crocoule Magazine c’est quoi ? Le Crocoule\, papier ou web\, c’est LE magazine qui porte en lui la douceur et la bienveillance dont tu as besoin en tant que parent et qui facilite tes recherches d’activités loisirs\, culturelles\, nature pour tous les budgets et tous les goûts ! Et ça c’est une promesse ? Tu veux en savoir +\, suis moi par ici ! \nEt ce n’est pas tout … Si tu as soif d’aventure Le Crocoule Express est fait pour toi !\n  \n\n\n	Similaire
URL:https://crocoule.org/notre-evenement/on-tourne-un-film-danimation/
LOCATION:Les Ateliers de la Rue Raisin\, 16 Rue Raisin\, 42000 Saint-Étienne\, Saint-Étienne\, 42000
CATEGORIES:08 ans +,Activité en semaine,Activité pendant les vacances,Intérieur,Tous les événements
END:VEVENT
BEGIN:VEVENT
DTSTART;VALUE=DATE:20240708
DTEND;VALUE=DATE:20240711
DTSTAMP:20260419T231722
CREATED:20240611T130217Z
LAST-MODIFIED:20240611T130217Z
UID:10007931-1720396800-1720655999@crocoule.org
SUMMARY:Aux couleurs de l’été
DESCRIPTION:Aux couleurs de l’été\nDécouverte multi-activités artistiques. S’initier\, découvrir ou pratiquer des activités artistiques comme le modelage de l’argile\, le dessin et la peinture\, le conte… Profiter du jardin\, des copains et des vacances. \nDe 3 à 7 ans & de 8 à 12 ans – 2 jours – 63 euros.\n  \nSi ton regard se pose sur ces mots c’est que toi aussi tu fais partie de la Haute Congrégation des Super Parents (HCSP : rien que ça !  ????) investis en quête d’idées de sorties familiales dans la Loire et la Haute-Loire pour son/ses bambin(s) ! \nTu ne me crois pas ? Si si\, promis Bienvenue et toutes mes Félicitations ! Tu es sur la bonne page … Et je vais te le prouver ! Tu es prêt ? Allez\, viens je t’emmène au fil des pages du Crocoule ! \nTout d’abord\, Le Crocoule Magazine c’est quoi ? Le Crocoule\, papier ou web\, c’est LE magazine qui porte en lui la douceur et la bienveillance dont tu as besoin en tant que parent et qui facilite tes recherches d’activités loisirs\, culturelles\, nature pour tous les budgets et tous les goûts ! Et ça c’est une promesse ? Tu veux en savoir +\, suis moi par ici ! \nEt ce n’est pas tout … Si tu as soif d’aventure Le Crocoule Express est fait pour toi !\n  \n\n\n	Similaire
URL:https://crocoule.org/notre-evenement/aux-couleurs-de-lete-2/
LOCATION:Les Ateliers de la Rue Raisin\, 16 Rue Raisin\, 42000 Saint-Étienne\, Saint-Étienne\, 42000
CATEGORIES:03 ans +,Activité en semaine,Activité pendant les vacances,Intérieur,Tous les événements
END:VEVENT
BEGIN:VEVENT
DTSTART;VALUE=DATE:20240708
DTEND;VALUE=DATE:20240711
DTSTAMP:20260419T231722
CREATED:20240611T130051Z
LAST-MODIFIED:20240611T130051Z
UID:10007930-1720396800-1720655999@crocoule.org
SUMMARY:Aux couleurs de l’été
DESCRIPTION:Aux couleurs de l’été\nDécouverte multi-activités artistiques. S’initier\, découvrir ou pratiquer des activités artistiques comme le modelage de l’argile\, le dessin et la peinture\, le conte… Profiter du jardin\, des copains et des vacances. \nDe 3 à 7 ans & de 8 à 12 ans – 3 jours – 93 euros.\n  \nSi ton regard se pose sur ces mots c’est que toi aussi tu fais partie de la Haute Congrégation des Super Parents (HCSP : rien que ça !  ????) investis en quête d’idées de sorties familiales dans la Loire et la Haute-Loire pour son/ses bambin(s) ! \nTu ne me crois pas ? Si si\, promis Bienvenue et toutes mes Félicitations ! Tu es sur la bonne page … Et je vais te le prouver ! Tu es prêt ? Allez\, viens je t’emmène au fil des pages du Crocoule ! \nTout d’abord\, Le Crocoule Magazine c’est quoi ? Le Crocoule\, papier ou web\, c’est LE magazine qui porte en lui la douceur et la bienveillance dont tu as besoin en tant que parent et qui facilite tes recherches d’activités loisirs\, culturelles\, nature pour tous les budgets et tous les goûts ! Et ça c’est une promesse ? Tu veux en savoir +\, suis moi par ici ! \nEt ce n’est pas tout … Si tu as soif d’aventure Le Crocoule Express est fait pour toi !\n  \n\n\n	Similaire
URL:https://crocoule.org/notre-evenement/aux-couleurs-de-lete/
LOCATION:Les Ateliers de la Rue Raisin\, 16 Rue Raisin\, 42000 Saint-Étienne\, Saint-Étienne\, 42000
CATEGORIES:03 ans +,Activité en semaine,Activité pendant les vacances,Intérieur,Tous les événements
END:VEVENT
END:VCALENDAR