BEGIN:VCALENDAR
VERSION:2.0
PRODID:-//Crocoule - ECPv6.15.15//NONSGML v1.0//EN
CALSCALE:GREGORIAN
METHOD:PUBLISH
X-WR-CALNAME:Crocoule
X-ORIGINAL-URL:https://crocoule.org
X-WR-CALDESC:Évènements pour Crocoule
REFRESH-INTERVAL;VALUE=DURATION:PT1H
X-Robots-Tag:noindex
X-PUBLISHED-TTL:PT1H
BEGIN:VTIMEZONE
TZID:Europe/Paris
BEGIN:DAYLIGHT
TZOFFSETFROM:+0100
TZOFFSETTO:+0200
TZNAME:CEST
DTSTART:20220327T010000
END:DAYLIGHT
BEGIN:STANDARD
TZOFFSETFROM:+0200
TZOFFSETTO:+0100
TZNAME:CET
DTSTART:20221030T010000
END:STANDARD
BEGIN:DAYLIGHT
TZOFFSETFROM:+0100
TZOFFSETTO:+0200
TZNAME:CEST
DTSTART:20230326T010000
END:DAYLIGHT
BEGIN:STANDARD
TZOFFSETFROM:+0200
TZOFFSETTO:+0100
TZNAME:CET
DTSTART:20231029T010000
END:STANDARD
BEGIN:DAYLIGHT
TZOFFSETFROM:+0100
TZOFFSETTO:+0200
TZNAME:CEST
DTSTART:20240331T010000
END:DAYLIGHT
BEGIN:STANDARD
TZOFFSETFROM:+0200
TZOFFSETTO:+0100
TZNAME:CET
DTSTART:20241027T010000
END:STANDARD
END:VTIMEZONE
BEGIN:VEVENT
DTSTART;VALUE=DATE:20230906
DTEND;VALUE=DATE:20230909
DTSTAMP:20260421T144541
CREATED:20230821T081415Z
LAST-MODIFIED:20230821T081415Z
UID:10002363-1693958400-1694217599@crocoule.org
SUMMARY:Stand du Département à la Foire du Roannais
DESCRIPTION:Stand du Département à la Foire du Roannais\nRetrouvez sur le stand du Département de la Loire à la Foire du Roannais des produits et vins locaux\, des dégustations\, des ateliers culinaires\, des recettes\, des paniers gourmands à gagner et d’autres surprises. \nLa Foire du Roannais \nTout d’abord\, la Foire du Roannais offre une expérience immersive\, où chaque coin révèle des merveilles. En effet\, découvrez les tendances et nouveautés dans une quinzaine de secteurs passionnants. De la gastronomie à l’artisanat en passant par l’habitat. Mais également l’ameublement et la décoration\, la beauté et la santé\, ou encore les nouvelles technologies. Chaque domaine est représenté avec éclat. \nDans une ambiance chaleureuse et conviviale\, les visiteurs sont invités à vivre une rentrée en douceur. En effet\, ils auront l’opportunité de se plonger dans les incontournables classiques qui font le charme de la foire. Tout en ayant la chance de dévoiler les nouveautés éblouissantes qui ponctuent cette édition. Que ce soit en flânant parmi les stands aux couleurs chatoyantes ou en s’arrêtant pour une dégustation exquise\, chaque instant offre une expérience unique. \nLa Foire du Roannais se présente comme un véritable carrefour de rencontres entre passionnés et curieux. Les amateurs de belles découvertes pourront échanger des idées et des impressions avec les exposants\, créant ainsi une atmosphère vivante et interactive. Les esprits curieux pourront naviguer d’une section à l’autre\, du savoir-faire traditionnel à l’innovation dernier cri\, et ainsi satisfaire leur soif de nouveauté. \n\n\n	Similaire
URL:https://crocoule.org/notre-evenement/stand-du-departement-a-la-foire-du-roannais/
LOCATION:Le Scarabée – Riorges\, Rue du Marclet\, Riorges\, 42153
CATEGORIES:Tout public
END:VEVENT
END:VCALENDAR