BEGIN:VCALENDAR
VERSION:2.0
PRODID:-//Crocoule - ECPv6.15.15//NONSGML v1.0//EN
CALSCALE:GREGORIAN
METHOD:PUBLISH
X-ORIGINAL-URL:https://crocoule.org
X-WR-CALDESC:Évènements pour Crocoule
REFRESH-INTERVAL;VALUE=DURATION:PT1H
X-Robots-Tag:noindex
X-PUBLISHED-TTL:PT1H
BEGIN:VTIMEZONE
TZID:Europe/Paris
BEGIN:DAYLIGHT
TZOFFSETFROM:+0100
TZOFFSETTO:+0200
TZNAME:CEST
DTSTART:20250330T010000
END:DAYLIGHT
BEGIN:STANDARD
TZOFFSETFROM:+0200
TZOFFSETTO:+0100
TZNAME:CET
DTSTART:20251026T010000
END:STANDARD
BEGIN:DAYLIGHT
TZOFFSETFROM:+0100
TZOFFSETTO:+0200
TZNAME:CEST
DTSTART:20260329T010000
END:DAYLIGHT
BEGIN:STANDARD
TZOFFSETFROM:+0200
TZOFFSETTO:+0100
TZNAME:CET
DTSTART:20261025T010000
END:STANDARD
BEGIN:DAYLIGHT
TZOFFSETFROM:+0100
TZOFFSETTO:+0200
TZNAME:CEST
DTSTART:20270328T010000
END:DAYLIGHT
BEGIN:STANDARD
TZOFFSETFROM:+0200
TZOFFSETTO:+0100
TZNAME:CET
DTSTART:20271031T010000
END:STANDARD
END:VTIMEZONE
BEGIN:VEVENT
DTSTART;TZID=Europe/Paris:20260321T110000
DTEND;TZID=Europe/Paris:20260321T120000
DTSTAMP:20260420T224516
CREATED:20260302T131846Z
LAST-MODIFIED:20260305T094457Z
UID:10013248-1774090800-1774094400@crocoule.org
SUMMARY:Le Puy-en-Velay | « C’est pas moi\, c’est mes réflexes !! » Atelier parents/enfants 2/6 ans.
DESCRIPTION:Je peux déglutir sans m’étouffer ? Mettre mes mains en avant quand je tombe ? C’est grâce aux mouvements réflexes ! Mais quand je tourne ma tête et que tout mon corps suit le mouvement ? Et que je mordille tout le temps quelque chose alors que je ne suis plus un bébé ? C’est encore un coup des mouvements réflexes !\nUn atelier ludique et tout en douceur\, à base de jeux réflexes et d’outils Montessori\, pour explorer avec votre enfant ces mouvements innés et inconscients qui gèrent – ou qui gênent ! – nos apprentissages\, nos émotions\, notre corps en équilibre et en mouvement.Atelier animé par Agnès Lafouge\, éducatrice et formatrice en mouvements réflexes et pédagogie Montessori. Sur inscription\, prix libre. \n\n\n	Similaire
URL:https://crocoule.org/notre-evenement/le-puy-en-velay-cest-pas-moi-cest-mes-reflexes-atelier-parents-enfants-2-6-ans-4/
LOCATION:Le P’tit Café – Le Puy En Velay\, 25 pl du marché couvert\, Le Puy-en-Velay\, 43000\, France
CATEGORIES:02 ans +,Activité du week-end,Adultes,Intérieur,Tous les événements
END:VEVENT
BEGIN:VEVENT
DTSTART;TZID=Europe/Paris:20260321T100000
DTEND;TZID=Europe/Paris:20260321T110000
DTSTAMP:20260420T224516
CREATED:20260302T131846Z
LAST-MODIFIED:20260305T094456Z
UID:10013247-1774087200-1774090800@crocoule.org
SUMMARY:Le Puy-en-Velay | « C’est pas moi\, c’est mes réflexes !! » Atelier parents/enfants 2/6 ans.
DESCRIPTION:Je peux déglutir sans m’étouffer ? Mettre mes mains en avant quand je tombe ? C’est grâce aux mouvements réflexes ! Mais quand je tourne ma tête et que tout mon corps suit le mouvement ? Et que je mordille tout le temps quelque chose alors que je ne suis plus un bébé ? C’est encore un coup des mouvements réflexes !\nUn atelier ludique et tout en douceur\, à base de jeux réflexes et d’outils Montessori\, pour explorer avec votre enfant ces mouvements innés et inconscients qui gèrent – ou qui gênent ! – nos apprentissages\, nos émotions\, notre corps en équilibre et en mouvement.Atelier animé par Agnès Lafouge\, éducatrice et formatrice en mouvements réflexes et pédagogie Montessori. Sur inscription\, prix libre. \n\n\n	Similaire
URL:https://crocoule.org/notre-evenement/le-puy-en-velay-cest-pas-moi-cest-mes-reflexes-atelier-parents-enfants-2-6-ans-3/
LOCATION:Le P’tit Café – Le Puy En Velay\, 25 pl du marché couvert\, Le Puy-en-Velay\, 43000\, France
CATEGORIES:02 ans +,Activité du week-end,Adultes,Intérieur,Tous les événements
END:VEVENT
BEGIN:VEVENT
DTSTART;TZID=Europe/Paris:20260320T100000
DTEND;TZID=Europe/Paris:20260320T110000
DTSTAMP:20260420T224516
CREATED:20260302T131807Z
LAST-MODIFIED:20260305T094234Z
UID:10013235-1774000800-1774004400@crocoule.org
SUMMARY:Le Puy-en-Velay | Voyage au coeur des sens
DESCRIPTION:Les enfants ont un pouvoir : le pouvoir des sens ! Un atelier pour découvrir son corps en nourrissant et développant ses sens. Le p’tit Café propose aux parents et aux enfants d’expérimenter et de vivre leurs sens : le toucher\, l’ouïe\, la vue\, l’odorat\, le goût\, la proprioception\, la thermoception\, etc. Sans inscription\, prix libre. \n\n\n	Similaire
URL:https://crocoule.org/notre-evenement/le-puy-en-velay-voyage-au-coeur-des-sens-8/
LOCATION:Le P’tit Café – Le Puy En Velay\, 25 pl du marché couvert\, Le Puy-en-Velay\, 43000\, France
CATEGORIES:01 an +,Activité en semaine,En famille,Intérieur,Tous les événements
END:VEVENT
BEGIN:VEVENT
DTSTART;TZID=Europe/Paris:20260318T150000
DTEND;TZID=Europe/Paris:20260318T170000
DTSTAMP:20260420T224516
CREATED:20260302T132030Z
LAST-MODIFIED:20260305T094754Z
UID:10013296-1773846000-1773853200@crocoule.org
SUMMARY:Le Puy-en-Velay | Tricot-crochet
DESCRIPTION:Ateliers tricot-crochet avec Bernadette et ses copines ! \n\n\n	Similaire
URL:https://crocoule.org/notre-evenement/le-puy-en-velay-tricot-crochet-3/
LOCATION:Le P’tit Café – Le Puy En Velay\, 25 pl du marché couvert\, Le Puy-en-Velay\, 43000\, France
CATEGORIES:04 ans +,Activité en semaine,Adultes,En famille,Intérieur,Tous les événements
END:VEVENT
BEGIN:VEVENT
DTSTART;TZID=Europe/Paris:20260318T110000
DTEND;TZID=Europe/Paris:20260318T120000
DTSTAMP:20260420T224516
CREATED:20260302T131831Z
LAST-MODIFIED:20260305T094253Z
UID:10013246-1773831600-1773835200@crocoule.org
SUMMARY:Le Puy-en-Velay | « C’est pas moi\, c’est mes réflexes !! » Atelier parents/enfants 2/6 ans.
DESCRIPTION:Je peux déglutir sans m’étouffer ? Mettre mes mains en avant quand je tombe ? C’est grâce aux mouvements réflexes ! Mais quand je tourne ma tête et que tout mon corps suit le mouvement ? Et que je mordille tout le temps quelque chose alors que je ne suis plus un bébé ? C’est encore un coup des mouvements réflexes !\nUn atelier ludique et tout en douceur\, à base de jeux réflexes et d’outils Montessori\, pour explorer avec votre enfant ces mouvements innés et inconscients qui gèrent – ou qui gênent ! – nos apprentissages\, nos émotions\, notre corps en équilibre et en mouvement.Atelier animé par Agnès Lafouge\, éducatrice et formatrice en mouvements réflexes et pédagogie Montessori. Sur inscription\, prix libre. \n\n\n	Similaire
URL:https://crocoule.org/notre-evenement/le-puy-en-velay-cest-pas-moi-cest-mes-reflexes-atelier-parents-enfants-2-6-ans-2/
LOCATION:Le P’tit Café – Le Puy En Velay\, 25 pl du marché couvert\, Le Puy-en-Velay\, 43000\, France
CATEGORIES:02 ans +,Activité en semaine,Adultes,Intérieur,Tous les événements
END:VEVENT
BEGIN:VEVENT
DTSTART;TZID=Europe/Paris:20260318T100000
DTEND;TZID=Europe/Paris:20260318T180000
DTSTAMP:20260420T224516
CREATED:20260302T131957Z
LAST-MODIFIED:20260305T094738Z
UID:10013277-1773828000-1773856800@crocoule.org
SUMMARY:Le Puy-en-Velay | Les mercredis on joue !
DESCRIPTION:De nouveaux jeux de la Ludothèque\, à partager seul.e ou en famille\, pour grands et petits. L’occasion de découvrir ou redécouvrir le p’tit Café\, ce lieu d’accueil chaleureux pour les familles. \n\n\n	Similaire
URL:https://crocoule.org/notre-evenement/le-puy-en-velay-les-mercredis-on-joue-15/
LOCATION:Le P’tit Café – Le Puy En Velay\, 25 pl du marché couvert\, Le Puy-en-Velay\, 43000\, France
CATEGORIES:03 ans +,Activité en semaine,Adultes,En famille,Gratuit,Intérieur,Tous les événements
END:VEVENT
BEGIN:VEVENT
DTSTART;TZID=Europe/Paris:20260318T100000
DTEND;TZID=Europe/Paris:20260318T113000
DTSTAMP:20260420T224516
CREATED:20260302T131933Z
LAST-MODIFIED:20260305T094655Z
UID:10013266-1773828000-1773833400@crocoule.org
SUMMARY:Le Puy-en-Velay | Atelier Patouille
DESCRIPTION:Un atelier parents/enfants en accès libre autour d’une activité manuelle ou sensorielle \n\n\n	Similaire
URL:https://crocoule.org/notre-evenement/le-puy-en-velay-atelier-patouille-37/
LOCATION:Le P’tit Café – Le Puy En Velay\, 25 pl du marché couvert\, Le Puy-en-Velay\, 43000\, France
CATEGORIES:01 an +,Activité en semaine,En famille,Intérieur,Tous les événements
END:VEVENT
BEGIN:VEVENT
DTSTART;TZID=Europe/Paris:20260318T100000
DTEND;TZID=Europe/Paris:20260318T110000
DTSTAMP:20260420T224516
CREATED:20260302T131830Z
LAST-MODIFIED:20260305T094253Z
UID:10013245-1773828000-1773831600@crocoule.org
SUMMARY:Le Puy-en-Velay | « C’est pas moi\, c’est mes réflexes !! » Atelier parents/enfants 2/6 ans.
DESCRIPTION:Je peux déglutir sans m’étouffer ? Mettre mes mains en avant quand je tombe ? C’est grâce aux mouvements réflexes ! Mais quand je tourne ma tête et que tout mon corps suit le mouvement ? Et que je mordille tout le temps quelque chose alors que je ne suis plus un bébé ? C’est encore un coup des mouvements réflexes !\nUn atelier ludique et tout en douceur\, à base de jeux réflexes et d’outils Montessori\, pour explorer avec votre enfant ces mouvements innés et inconscients qui gèrent – ou qui gênent ! – nos apprentissages\, nos émotions\, notre corps en équilibre et en mouvement.Atelier animé par Agnès Lafouge\, éducatrice et formatrice en mouvements réflexes et pédagogie Montessori. Sur inscription\, prix libre. \n\n\n	Similaire
URL:https://crocoule.org/notre-evenement/le-puy-en-velay-cest-pas-moi-cest-mes-reflexes-atelier-parents-enfants-2-6-ans/
LOCATION:Le P’tit Café – Le Puy En Velay\, 25 pl du marché couvert\, Le Puy-en-Velay\, 43000\, France
CATEGORIES:02 ans +,Activité en semaine,Adultes,Intérieur,Tous les événements
END:VEVENT
BEGIN:VEVENT
DTSTART;TZID=Europe/Paris:20260316T100000
DTEND;TZID=Europe/Paris:20260316T120000
DTSTAMP:20260420T224516
CREATED:20260302T131905Z
LAST-MODIFIED:20260305T094647Z
UID:10013252-1773655200-1773662400@crocoule.org
SUMMARY:Le Puy-en-Velay | Temps d'accueil parents/enfants
DESCRIPTION:L’occasion de passer un moment privilégié d’échanges et de jeux avec votre enfant dans un environnement adapté et chaleureux. Ouvert à toutes et tous\, sans inscription ni réservation\, gratuit et sans condition d’âge. Animé par l’équipe du p’tit Café. Accès llibre. \n\n\n	Similaire
URL:https://crocoule.org/notre-evenement/le-puy-en-velay-temps-daccueil-parents-enfants-42/
LOCATION:Le P’tit Café – Le Puy En Velay\, 25 pl du marché couvert\, Le Puy-en-Velay\, 43000\, France
CATEGORIES:01 an +,Activité en semaine,Avec bébé dès la naissance,En famille,Intérieur,Tous les événements
END:VEVENT
BEGIN:VEVENT
DTSTART;TZID=Europe/Paris:20260314T170000
DTEND;TZID=Europe/Paris:20260314T180000
DTSTAMP:20260420T224516
CREATED:20260302T132015Z
LAST-MODIFIED:20260305T094748Z
UID:10013290-1773507600-1773511200@crocoule.org
SUMMARY:Le Puy-en-Velay | Danse parents/enfants (de la marche à 3 ans)
DESCRIPTION:Venez partager un moment complice avec votre enfant\, en mouvement\, en musique et en douceur. A travers le ludique et l’imaginaire\, vous prendrez plaisir à explorer ensemble l’espace\, le temps et le corps. Animé par Anne-Karine Castellino. Sur inscription. Prix libre. \n\n\n	Similaire
URL:https://crocoule.org/notre-evenement/le-puy-en-velay-danse-parents-enfants-de-la-marche-a-3-ans-2/
LOCATION:Le P’tit Café – Le Puy En Velay\, 25 pl du marché couvert\, Le Puy-en-Velay\, 43000\, France
CATEGORIES:01 an +,Activité du week-end,Intérieur,Tous les événements
END:VEVENT
BEGIN:VEVENT
DTSTART;TZID=Europe/Paris:20260314T154500
DTEND;TZID=Europe/Paris:20260314T164500
DTSTAMP:20260420T224516
CREATED:20260302T132015Z
LAST-MODIFIED:20260305T094748Z
UID:10013289-1773503100-1773506700@crocoule.org
SUMMARY:Le Puy-en-Velay | Danse parents/enfants (3/6 ans)
DESCRIPTION:Venez partager un moment complice avec votre enfant\, en mouvement\, en musique et en douceur. A travers le ludique et l’imaginaire\, vous prendrez plaisir à explorer ensemble l’espace\, le temps et le corps. Animé par Anne-Karine Castellino. Sur inscription. Prix libre. \n\n\n	Similaire
URL:https://crocoule.org/notre-evenement/le-puy-en-velay-danse-parents-enfants-3-6-ans-2/
LOCATION:Le P’tit Café – Le Puy En Velay\, 25 pl du marché couvert\, Le Puy-en-Velay\, 43000\, France
CATEGORIES:03 ans +,Activité du week-end,Intérieur,Tous les événements
END:VEVENT
BEGIN:VEVENT
DTSTART;TZID=Europe/Paris:20260313T100000
DTEND;TZID=Europe/Paris:20260313T110000
DTSTAMP:20260420T224516
CREATED:20260302T131806Z
LAST-MODIFIED:20260305T094234Z
UID:10013234-1773396000-1773399600@crocoule.org
SUMMARY:Le Puy-en-Velay | Voyage au coeur des sens
DESCRIPTION:Les enfants ont un pouvoir : le pouvoir des sens ! Un atelier pour découvrir son corps en nourrissant et développant ses sens. Le p’tit Café propose aux parents et aux enfants d’expérimenter et de vivre leurs sens : le toucher\, l’ouïe\, la vue\, l’odorat\, le goût\, la proprioception\, la thermoception\, etc. Sans inscription\, prix libre. \n\n\n	Similaire
URL:https://crocoule.org/notre-evenement/le-puy-en-velay-voyage-au-coeur-des-sens-7/
LOCATION:Le P’tit Café – Le Puy En Velay\, 25 pl du marché couvert\, Le Puy-en-Velay\, 43000\, France
CATEGORIES:01 an +,Activité en semaine,Avec bébé dès la naissance,En famille,Intérieur,Tous les événements
END:VEVENT
BEGIN:VEVENT
DTSTART;TZID=Europe/Paris:20260311T150000
DTEND;TZID=Europe/Paris:20260311T170000
DTSTAMP:20260420T224516
CREATED:20260302T132026Z
LAST-MODIFIED:20260305T094751Z
UID:10013295-1773241200-1773248400@crocoule.org
SUMMARY:Le Puy-en-Velay | Tricot-crochet
DESCRIPTION:Ateliers tricot-crochet avec Bernadette et ses copines ! \n\n\n	Similaire
URL:https://crocoule.org/notre-evenement/le-puy-en-velay-tricot-crochet-2/
LOCATION:Le P’tit Café – Le Puy En Velay\, 25 pl du marché couvert\, Le Puy-en-Velay\, 43000\, France
CATEGORIES:04 ans +,Activité en semaine,Adultes,En famille,Intérieur,Tous les événements
END:VEVENT
BEGIN:VEVENT
DTSTART;TZID=Europe/Paris:20260311T100000
DTEND;TZID=Europe/Paris:20260311T180000
DTSTAMP:20260420T224516
CREATED:20260302T131950Z
LAST-MODIFIED:20260305T094659Z
UID:10013276-1773223200-1773252000@crocoule.org
SUMMARY:Le Puy-en-Velay | Les mercredis on joue !
DESCRIPTION:De nouveaux jeux de la Ludothèque\, à partager seul.e ou en famille\, pour grands et petits. L’occasion de découvrir ou redécouvrir le p’tit Café\, ce lieu d’accueil chaleureux pour les familles. \n\n\n	Similaire
URL:https://crocoule.org/notre-evenement/le-puy-en-velay-les-mercredis-on-joue-14/
LOCATION:Le P’tit Café – Le Puy En Velay\, 25 pl du marché couvert\, Le Puy-en-Velay\, 43000\, France
CATEGORIES:03 ans +,Activité en semaine,Adultes,En famille,Gratuit,Intérieur,Tous les événements
END:VEVENT
BEGIN:VEVENT
DTSTART;TZID=Europe/Paris:20260311T100000
DTEND;TZID=Europe/Paris:20260311T113000
DTSTAMP:20260420T224516
CREATED:20260302T131932Z
LAST-MODIFIED:20260305T094655Z
UID:10013265-1773223200-1773228600@crocoule.org
SUMMARY:Le Puy-en-Velay | Atelier Patouille
DESCRIPTION:Un atelier parents/enfants en accès libre autour d’une activité manuelle ou sensorielle \n\n\n	Similaire
URL:https://crocoule.org/notre-evenement/le-puy-en-velay-atelier-patouille-36/
LOCATION:Le P’tit Café – Le Puy En Velay\, 25 pl du marché couvert\, Le Puy-en-Velay\, 43000\, France
CATEGORIES:01 an +,Activité en semaine,En famille,Intérieur,Tous les événements
END:VEVENT
BEGIN:VEVENT
DTSTART;TZID=Europe/Paris:20260309T100000
DTEND;TZID=Europe/Paris:20260309T120000
DTSTAMP:20260420T224516
CREATED:20260302T131847Z
LAST-MODIFIED:20260305T094457Z
UID:10013251-1773050400-1773057600@crocoule.org
SUMMARY:Le Puy-en-Velay | Temps d'accueil parents/enfants
DESCRIPTION:L’occasion de passer un moment privilégié d’échanges et de jeux avec votre enfant dans un environnement adapté et chaleureux. Ouvert à toutes et tous\, sans inscription ni réservation\, gratuit et sans condition d’âge. Animé par l’équipe du p’tit Café. Accès llibre. \n\n\n	Similaire
URL:https://crocoule.org/notre-evenement/le-puy-en-velay-temps-daccueil-parents-enfants-41/
LOCATION:Le P’tit Café – Le Puy En Velay\, 25 pl du marché couvert\, Le Puy-en-Velay\, 43000\, France
CATEGORIES:01 an +,Activité en semaine,Avec bébé dès la naissance,En famille,Intérieur,Tous les événements
END:VEVENT
BEGIN:VEVENT
DTSTART;TZID=Europe/Paris:20260307T150000
DTEND;TZID=Europe/Paris:20260307T180000
DTSTAMP:20260420T224516
CREATED:20260302T132025Z
LAST-MODIFIED:20260305T094751Z
UID:10013293-1772895600-1772906400@crocoule.org
SUMMARY:Le Puy-en-Velay |  Création d’une couronne en textile recyclé
DESCRIPTION:Venez vous initier à la couture\, tout en fabriquant votre bouquet de fleurs en textile recyclé ! Amenez seulement votre bonne humeur\, on s’occupe du reste ! A partir de 8 ans\, accompagnés d’un adulte. 10 ans en autonomie. 20 € par participants.es/gratuit pour les accompagnateurs.ices. Sur inscription. \n\n\n	Similaire
URL:https://crocoule.org/notre-evenement/le-puy-en-velay-creation-dune-couronne-en-textile-recycle/
LOCATION:Le P’tit Café – Le Puy En Velay\, 25 pl du marché couvert\, Le Puy-en-Velay\, 43000\, France
CATEGORIES:08 ans +,Activité du week-end,Adultes,En famille,Intérieur,Tous les événements
END:VEVENT
BEGIN:VEVENT
DTSTART;TZID=Europe/Paris:20260306T100000
DTEND;TZID=Europe/Paris:20260306T104500
DTSTAMP:20260420T224516
CREATED:20260302T131814Z
LAST-MODIFIED:20260305T094238Z
UID:10013242-1772791200-1772793900@crocoule.org
SUMMARY:Le Puy-en-Velay | Eveil musical parents/enfants
DESCRIPTION:Un eveil musical par Jean-Baptiste pour le plaisir des petits et des grands. Prix libre – sur inscription \n\n\n	Similaire
URL:https://crocoule.org/notre-evenement/le-puy-en-velay-eveil-musical-parents-enfants/
LOCATION:Le P’tit Café – Le Puy En Velay\, 25 pl du marché couvert\, Le Puy-en-Velay\, 43000\, France
CATEGORIES:01 an +,Activité en semaine,Avec bébé dès la naissance,En famille,Intérieur,Tous les événements
END:VEVENT
BEGIN:VEVENT
DTSTART;TZID=Europe/Paris:20260304T150000
DTEND;TZID=Europe/Paris:20260304T170000
DTSTAMP:20260420T224516
CREATED:20260302T132025Z
LAST-MODIFIED:20260305T094751Z
UID:10013294-1772636400-1772643600@crocoule.org
SUMMARY:Le Puy-en-Velay | Tricot-crochet
DESCRIPTION:Ateliers tricot-crochet avec Bernadette et ses copines ! \n\n\n	Similaire
URL:https://crocoule.org/notre-evenement/le-puy-en-velay-tricot-crochet/
LOCATION:Le P’tit Café – Le Puy En Velay\, 25 pl du marché couvert\, Le Puy-en-Velay\, 43000\, France
CATEGORIES:04 ans +,Activité en semaine,Adultes,En famille,Intérieur,Tous les événements
END:VEVENT
BEGIN:VEVENT
DTSTART;TZID=Europe/Paris:20260304T100000
DTEND;TZID=Europe/Paris:20260304T180000
DTSTAMP:20260420T224516
CREATED:20260302T131949Z
LAST-MODIFIED:20260305T094659Z
UID:10013275-1772618400-1772647200@crocoule.org
SUMMARY:Le Puy-en-Velay | Les mercredis on joue !
DESCRIPTION:De nouveaux jeux de la Ludothèque\, à partager seul.e ou en famille\, pour grands et petits. L’occasion de découvrir ou redécouvrir le p’tit Café\, ce lieu d’accueil chaleureux pour les familles. \n\n\n	Similaire
URL:https://crocoule.org/notre-evenement/le-puy-en-velay-les-mercredis-on-joue-13/
LOCATION:Le P’tit Café – Le Puy En Velay\, 25 pl du marché couvert\, Le Puy-en-Velay\, 43000\, France
CATEGORIES:03 ans +,Activité en semaine,Adultes,En famille,Gratuit,Intérieur,Tous les événements
END:VEVENT
BEGIN:VEVENT
DTSTART;TZID=Europe/Paris:20260304T100000
DTEND;TZID=Europe/Paris:20260304T113000
DTSTAMP:20260420T224516
CREATED:20260302T131932Z
LAST-MODIFIED:20260305T094655Z
UID:10013264-1772618400-1772623800@crocoule.org
SUMMARY:Le Puy-en-Velay | Atelier Patouille
DESCRIPTION:Un atelier parents/enfants en accès libre autour d’une activité manuelle ou sensorielle \n\n\n	Similaire
URL:https://crocoule.org/notre-evenement/le-puy-en-velay-atelier-patouille-35/
LOCATION:Le P’tit Café – Le Puy En Velay\, 25 pl du marché couvert\, Le Puy-en-Velay\, 43000\, France
CATEGORIES:01 an +,Activité en semaine,En famille,Intérieur,Tous les événements
END:VEVENT
BEGIN:VEVENT
DTSTART;TZID=Europe/Paris:20260302T100000
DTEND;TZID=Europe/Paris:20260302T120000
DTSTAMP:20260420T224516
CREATED:20260302T131847Z
LAST-MODIFIED:20260305T094457Z
UID:10013250-1772445600-1772452800@crocoule.org
SUMMARY:Le Puy-en-Velay | Temps d'accueil parents/enfants
DESCRIPTION:L’occasion de passer un moment privilégié d’échanges et de jeux avec votre enfant dans un environnement adapté et chaleureux. Ouvert à toutes et tous\, sans inscription ni réservation\, gratuit et sans condition d’âge. Animé par l’équipe du p’tit Café. Accès llibre. \n\n\n	Similaire
URL:https://crocoule.org/notre-evenement/le-puy-en-velay-temps-daccueil-parents-enfants-40/
LOCATION:Le P’tit Café – Le Puy En Velay\, 25 pl du marché couvert\, Le Puy-en-Velay\, 43000\, France
CATEGORIES:01 an +,Activité en semaine,Avec bébé dès la naissance,En famille,Intérieur,Tous les événements
END:VEVENT
END:VCALENDAR