BEGIN:VCALENDAR
VERSION:2.0
PRODID:-//Crocoule - ECPv6.15.15//NONSGML v1.0//EN
CALSCALE:GREGORIAN
METHOD:PUBLISH
X-WR-CALNAME:Crocoule
X-ORIGINAL-URL:https://crocoule.org
X-WR-CALDESC:Évènements pour Crocoule
REFRESH-INTERVAL;VALUE=DURATION:PT1H
X-Robots-Tag:noindex
X-PUBLISHED-TTL:PT1H
BEGIN:VTIMEZONE
TZID:Europe/Paris
BEGIN:DAYLIGHT
TZOFFSETFROM:+0100
TZOFFSETTO:+0200
TZNAME:CEST
DTSTART:20250330T010000
END:DAYLIGHT
BEGIN:STANDARD
TZOFFSETFROM:+0200
TZOFFSETTO:+0100
TZNAME:CET
DTSTART:20251026T010000
END:STANDARD
BEGIN:DAYLIGHT
TZOFFSETFROM:+0100
TZOFFSETTO:+0200
TZNAME:CEST
DTSTART:20260329T010000
END:DAYLIGHT
BEGIN:STANDARD
TZOFFSETFROM:+0200
TZOFFSETTO:+0100
TZNAME:CET
DTSTART:20261025T010000
END:STANDARD
BEGIN:DAYLIGHT
TZOFFSETFROM:+0100
TZOFFSETTO:+0200
TZNAME:CEST
DTSTART:20270328T010000
END:DAYLIGHT
BEGIN:STANDARD
TZOFFSETFROM:+0200
TZOFFSETTO:+0100
TZNAME:CET
DTSTART:20271031T010000
END:STANDARD
END:VTIMEZONE
BEGIN:VEVENT
DTSTART;TZID=Europe/Paris:20260507T100000
DTEND;TZID=Europe/Paris:20260507T104500
DTSTAMP:20260420T191700
CREATED:20260302T132014Z
LAST-MODIFIED:20260305T094748Z
UID:10013287-1778148000-1778150700@crocoule.org
SUMMARY:Le Puy-en-Velay | Eveil musical parents/enfants
DESCRIPTION:Un eveil musical par Jean-Baptiste pour le plaisir des petits et des grands. Prix libre – sur inscription \n\n\n	Similaire
URL:https://crocoule.org/notre-evenement/le-puy-en-velay-eveil-musical-parents-enfants-4/
LOCATION:Le P’tit Café – Le Puy En Velay\, 25 pl du marché couvert\, Le Puy-en-Velay\, 43000\, France
CATEGORIES:01 an +,Activité en semaine,Avec bébé dès la naissance,En famille,Intérieur,Tous les événements
END:VEVENT
BEGIN:VEVENT
DTSTART;TZID=Europe/Paris:20260507T110000
DTEND;TZID=Europe/Paris:20260507T114500
DTSTAMP:20260420T191700
CREATED:20260302T132014Z
LAST-MODIFIED:20260305T094748Z
UID:10013288-1778151600-1778154300@crocoule.org
SUMMARY:Le Puy-en-Velay | Eveil musical parents/enfants
DESCRIPTION:Un eveil musical par Jean-Baptiste pour le plaisir des petits et des grands. Prix libre – sur inscription \n\n\n	Similaire
URL:https://crocoule.org/notre-evenement/le-puy-en-velay-eveil-musical-parents-enfants-5/
LOCATION:Le P’tit Café – Le Puy En Velay\, 25 pl du marché couvert\, Le Puy-en-Velay\, 43000\, France
CATEGORIES:01 an +,Activité en semaine,Avec bébé dès la naissance,En famille,Intérieur,Tous les événements
END:VEVENT
BEGIN:VEVENT
DTSTART;TZID=Europe/Paris:20260511T100000
DTEND;TZID=Europe/Paris:20260511T120000
DTSTAMP:20260420T191700
CREATED:20260302T131922Z
LAST-MODIFIED:20260305T094651Z
UID:10013258-1778493600-1778500800@crocoule.org
SUMMARY:Le Puy-en-Velay | Temps d'accueil parents/enfants
DESCRIPTION:L’occasion de passer un moment privilégié d’échanges et de jeux avec votre enfant dans un environnement adapté et chaleureux. Ouvert à toutes et tous\, sans inscription ni réservation\, gratuit et sans condition d’âge. Animé par l’équipe du p’tit Café. Accès llibre. \n\n\n	Similaire
URL:https://crocoule.org/notre-evenement/le-puy-en-velay-temps-daccueil-parents-enfants-48/
LOCATION:Le P’tit Café – Le Puy En Velay\, 25 pl du marché couvert\, Le Puy-en-Velay\, 43000\, France
CATEGORIES:01 an +,Activité en semaine,Avec bébé dès la naissance,En famille,Intérieur,Tous les événements
END:VEVENT
BEGIN:VEVENT
DTSTART;TZID=Europe/Paris:20260513T100000
DTEND;TZID=Europe/Paris:20260513T113000
DTSTAMP:20260420T191700
CREATED:20260302T131949Z
LAST-MODIFIED:20260305T094659Z
UID:10013274-1778666400-1778671800@crocoule.org
SUMMARY:Le Puy-en-Velay | Atelier Patouille
DESCRIPTION:Un atelier parents/enfants en accès libre autour d’une activité manuelle ou sensorielle \n\n\n	Similaire
URL:https://crocoule.org/notre-evenement/le-puy-en-velay-atelier-patouille-45/
LOCATION:Le P’tit Café – Le Puy En Velay\, 25 pl du marché couvert\, Le Puy-en-Velay\, 43000\, France
CATEGORIES:01 an +,Activité en semaine,En famille,Intérieur,Tous les événements
END:VEVENT
BEGIN:VEVENT
DTSTART;TZID=Europe/Paris:20260513T100000
DTEND;TZID=Europe/Paris:20260513T180000
DTSTAMP:20260420T191700
CREATED:20260302T132008Z
LAST-MODIFIED:20260305T094745Z
UID:10013285-1778666400-1778695200@crocoule.org
SUMMARY:Le Puy-en-Velay | Les mercredis on joue !
DESCRIPTION:De nouveaux jeux de la Ludothèque\, à partager seul.e ou en famille\, pour grands et petits. L’occasion de découvrir ou redécouvrir le p’tit Café\, ce lieu d’accueil chaleureux pour les familles. \n\n\n	Similaire
URL:https://crocoule.org/notre-evenement/le-puy-en-velay-les-mercredis-on-joue-23/
LOCATION:Le P’tit Café – Le Puy En Velay\, 25 pl du marché couvert\, Le Puy-en-Velay\, 43000\, France
CATEGORIES:03 ans +,Activité en semaine,Adultes,En famille,Gratuit,Intérieur,Tous les événements
END:VEVENT
BEGIN:VEVENT
DTSTART;TZID=Europe/Paris:20260513T150000
DTEND;TZID=Europe/Paris:20260513T170000
DTSTAMP:20260420T191700
CREATED:20260302T132035Z
LAST-MODIFIED:20260305T094757Z
UID:10013304-1778684400-1778691600@crocoule.org
SUMMARY:Le Puy-en-Velay | Tricot-crochet
DESCRIPTION:Ateliers tricot-crochet avec Bernadette et ses copines ! \n\n\n	Similaire
URL:https://crocoule.org/notre-evenement/le-puy-en-velay-tricot-crochet-11/
LOCATION:Le P’tit Café – Le Puy En Velay\, 25 pl du marché couvert\, Le Puy-en-Velay\, 43000\, France
CATEGORIES:04 ans +,Activité en semaine,Adultes,En famille,Intérieur,Tous les événements
END:VEVENT
BEGIN:VEVENT
DTSTART;TZID=Europe/Paris:20260518T100000
DTEND;TZID=Europe/Paris:20260518T120000
DTSTAMP:20260420T191700
CREATED:20260302T131923Z
LAST-MODIFIED:20260305T094652Z
UID:10013259-1779098400-1779105600@crocoule.org
SUMMARY:Le Puy-en-Velay | Temps d'accueil parents/enfants
DESCRIPTION:L’occasion de passer un moment privilégié d’échanges et de jeux avec votre enfant dans un environnement adapté et chaleureux. Ouvert à toutes et tous\, sans inscription ni réservation\, gratuit et sans condition d’âge. Animé par l’équipe du p’tit Café. Accès llibre. \n\n\n	Similaire
URL:https://crocoule.org/notre-evenement/le-puy-en-velay-temps-daccueil-parents-enfants-49/
LOCATION:Le P’tit Café – Le Puy En Velay\, 25 pl du marché couvert\, Le Puy-en-Velay\, 43000\, France
CATEGORIES:01 an +,Activité en semaine,Avec bébé dès la naissance,En famille,Intérieur,Tous les événements
END:VEVENT
BEGIN:VEVENT
DTSTART;TZID=Europe/Paris:20260520T100000
DTEND;TZID=Europe/Paris:20260520T113000
DTSTAMP:20260420T191700
CREATED:20260302T131932Z
LAST-MODIFIED:20260305T094655Z
UID:10013262-1779271200-1779276600@crocoule.org
SUMMARY:Le Puy-en-Velay | Atelier Patouille
DESCRIPTION:Un atelier parents/enfants en accès libre autour d’une activité manuelle ou sensorielle \n\n\n	Similaire
URL:https://crocoule.org/notre-evenement/le-puy-en-velay-atelier-patouille-33/
LOCATION:Le P’tit Café – Le Puy En Velay\, 25 pl du marché couvert\, Le Puy-en-Velay\, 43000\, France
CATEGORIES:01 an +,Activité en semaine,En famille,Intérieur,Tous les événements
END:VEVENT
BEGIN:VEVENT
DTSTART;TZID=Europe/Paris:20260520T100000
DTEND;TZID=Europe/Paris:20260520T180000
DTSTAMP:20260420T191700
CREATED:20260302T131923Z
LAST-MODIFIED:20260305T094652Z
UID:10013260-1779271200-1779300000@crocoule.org
SUMMARY:Le Puy-en-Velay | Les mercredis on joue !
DESCRIPTION:De nouveaux jeux de la Ludothèque\, à partager seul.e ou en famille\, pour grands et petits. L’occasion de découvrir ou redécouvrir le p’tit Café\, ce lieu d’accueil chaleureux pour les familles. \n\n\n	Similaire
URL:https://crocoule.org/notre-evenement/le-puy-en-velay-les-mercredis-on-joue-11/
LOCATION:Le P’tit Café – Le Puy En Velay\, 25 pl du marché couvert\, Le Puy-en-Velay\, 43000\, France
CATEGORIES:03 ans +,Activité en semaine,Adultes,En famille,Gratuit,Intérieur,Tous les événements
END:VEVENT
BEGIN:VEVENT
DTSTART;TZID=Europe/Paris:20260520T150000
DTEND;TZID=Europe/Paris:20260520T170000
DTSTAMP:20260420T191700
CREATED:20260302T132036Z
LAST-MODIFIED:20260305T094757Z
UID:10013305-1779289200-1779296400@crocoule.org
SUMMARY:Le Puy-en-Velay | Tricot-crochet
DESCRIPTION:Ateliers tricot-crochet avec Bernadette et ses copines ! \n\n\n	Similaire
URL:https://crocoule.org/notre-evenement/le-puy-en-velay-tricot-crochet-12/
LOCATION:Le P’tit Café – Le Puy En Velay\, 25 pl du marché couvert\, Le Puy-en-Velay\, 43000\, France
CATEGORIES:04 ans +,Activité en semaine,Adultes,En famille,Intérieur,Tous les événements
END:VEVENT
BEGIN:VEVENT
DTSTART;TZID=Europe/Paris:20260522T100000
DTEND;TZID=Europe/Paris:20260522T110000
DTSTAMP:20260420T191700
CREATED:20260302T131812Z
LAST-MODIFIED:20260305T094237Z
UID:10013240-1779444000-1779447600@crocoule.org
SUMMARY:Le Puy-en-Velay | Voyage au coeur des sens
DESCRIPTION:Les enfants ont un pouvoir : le pouvoir des sens ! Un atelier pour découvrir son corps en nourrissant et développant ses sens. Le p’tit Café propose aux parents et aux enfants d’expérimenter et de vivre leurs sens : le toucher\, l’ouïe\, la vue\, l’odorat\, le goût\, la proprioception\, la thermoception\, etc. Sans inscription\, prix libre. \n\n\n	Similaire
URL:https://crocoule.org/notre-evenement/le-puy-en-velay-voyage-au-coeur-des-sens-13/
LOCATION:Le P’tit Café – Le Puy En Velay\, 25 pl du marché couvert\, Le Puy-en-Velay\, 43000\, France
CATEGORIES:01 an +,Activité en semaine,En famille,Intérieur,Tous les événements
END:VEVENT
BEGIN:VEVENT
DTSTART;TZID=Europe/Paris:20260527T100000
DTEND;TZID=Europe/Paris:20260527T113000
DTSTAMP:20260420T191700
CREATED:20260302T131932Z
LAST-MODIFIED:20260305T094655Z
UID:10013263-1779876000-1779881400@crocoule.org
SUMMARY:Le Puy-en-Velay | Atelier Patouille
DESCRIPTION:Un atelier parents/enfants en accès libre autour d’une activité manuelle ou sensorielle \n\n\n	Similaire
URL:https://crocoule.org/notre-evenement/le-puy-en-velay-atelier-patouille-34/
LOCATION:Le P’tit Café – Le Puy En Velay\, 25 pl du marché couvert\, Le Puy-en-Velay\, 43000\, France
CATEGORIES:01 an +,Activité en semaine,En famille,Intérieur,Tous les événements
END:VEVENT
BEGIN:VEVENT
DTSTART;TZID=Europe/Paris:20260527T100000
DTEND;TZID=Europe/Paris:20260527T180000
DTSTAMP:20260420T191700
CREATED:20260302T131923Z
LAST-MODIFIED:20260305T094652Z
UID:10013261-1779876000-1779904800@crocoule.org
SUMMARY:Le Puy-en-Velay | Les mercredis on joue !
DESCRIPTION:De nouveaux jeux de la Ludothèque\, à partager seul.e ou en famille\, pour grands et petits. L’occasion de découvrir ou redécouvrir le p’tit Café\, ce lieu d’accueil chaleureux pour les familles. \n\n\n	Similaire
URL:https://crocoule.org/notre-evenement/le-puy-en-velay-les-mercredis-on-joue-12/
LOCATION:Le P’tit Café – Le Puy En Velay\, 25 pl du marché couvert\, Le Puy-en-Velay\, 43000\, France
CATEGORIES:03 ans +,Activité en semaine,Adultes,En famille,Gratuit,Intérieur,Tous les événements
END:VEVENT
BEGIN:VEVENT
DTSTART;TZID=Europe/Paris:20260527T150000
DTEND;TZID=Europe/Paris:20260527T170000
DTSTAMP:20260420T191700
CREATED:20260302T132042Z
LAST-MODIFIED:20260305T094759Z
UID:10013306-1779894000-1779901200@crocoule.org
SUMMARY:Le Puy-en-Velay | Tricot-crochet
DESCRIPTION:Ateliers tricot-crochet avec Bernadette et ses copines ! \n\n\n	Similaire
URL:https://crocoule.org/notre-evenement/le-puy-en-velay-tricot-crochet-13/
LOCATION:Le P’tit Café – Le Puy En Velay\, 25 pl du marché couvert\, Le Puy-en-Velay\, 43000\, France
CATEGORIES:04 ans +,Activité en semaine,Adultes,En famille,Intérieur,Tous les événements
END:VEVENT
BEGIN:VEVENT
DTSTART;TZID=Europe/Paris:20260529T100000
DTEND;TZID=Europe/Paris:20260529T110000
DTSTAMP:20260420T191700
CREATED:20260302T131813Z
LAST-MODIFIED:20260305T094237Z
UID:10013241-1780048800-1780052400@crocoule.org
SUMMARY:Le Puy-en-Velay | Voyage au coeur des sens
DESCRIPTION:Les enfants ont un pouvoir : le pouvoir des sens ! Un atelier pour découvrir son corps en nourrissant et développant ses sens. Le p’tit Café propose aux parents et aux enfants d’expérimenter et de vivre leurs sens : le toucher\, l’ouïe\, la vue\, l’odorat\, le goût\, la proprioception\, la thermoception\, etc. Sans inscription\, prix libre. \n\n\n	Similaire
URL:https://crocoule.org/notre-evenement/le-puy-en-velay-voyage-au-coeur-des-sens-14/
LOCATION:Le P’tit Café – Le Puy En Velay\, 25 pl du marché couvert\, Le Puy-en-Velay\, 43000\, France
CATEGORIES:01 an +,Activité en semaine,En famille,Intérieur,Tous les événements
END:VEVENT
END:VCALENDAR