BEGIN:VCALENDAR
VERSION:2.0
PRODID:-//Crocoule - ECPv6.15.15//NONSGML v1.0//EN
CALSCALE:GREGORIAN
METHOD:PUBLISH
X-ORIGINAL-URL:https://crocoule.org
X-WR-CALDESC:Évènements pour Crocoule
REFRESH-INTERVAL;VALUE=DURATION:PT1H
X-Robots-Tag:noindex
X-PUBLISHED-TTL:PT1H
BEGIN:VTIMEZONE
TZID:Europe/Paris
BEGIN:DAYLIGHT
TZOFFSETFROM:+0100
TZOFFSETTO:+0200
TZNAME:CEST
DTSTART:20250330T010000
END:DAYLIGHT
BEGIN:STANDARD
TZOFFSETFROM:+0200
TZOFFSETTO:+0100
TZNAME:CET
DTSTART:20251026T010000
END:STANDARD
BEGIN:DAYLIGHT
TZOFFSETFROM:+0100
TZOFFSETTO:+0200
TZNAME:CEST
DTSTART:20260329T010000
END:DAYLIGHT
BEGIN:STANDARD
TZOFFSETFROM:+0200
TZOFFSETTO:+0100
TZNAME:CET
DTSTART:20261025T010000
END:STANDARD
BEGIN:DAYLIGHT
TZOFFSETFROM:+0100
TZOFFSETTO:+0200
TZNAME:CEST
DTSTART:20270328T010000
END:DAYLIGHT
BEGIN:STANDARD
TZOFFSETFROM:+0200
TZOFFSETTO:+0100
TZNAME:CET
DTSTART:20271031T010000
END:STANDARD
END:VTIMEZONE
BEGIN:VEVENT
DTSTART;TZID=Europe/Paris:20260420T100000
DTEND;TZID=Europe/Paris:20260420T120000
DTSTAMP:20260420T191745
CREATED:20260302T131906Z
LAST-MODIFIED:20260305T094647Z
UID:10013255-1776679200-1776686400@crocoule.org
SUMMARY:Le Puy-en-Velay | Temps d'accueil parents/enfants
DESCRIPTION:L’occasion de passer un moment privilégié d’échanges et de jeux avec votre enfant dans un environnement adapté et chaleureux. Ouvert à toutes et tous\, sans inscription ni réservation\, gratuit et sans condition d’âge. Animé par l’équipe du p’tit Café. Accès llibre. \n\n\n	Similaire
URL:https://crocoule.org/notre-evenement/le-puy-en-velay-temps-daccueil-parents-enfants-45/
LOCATION:Le P’tit Café – Le Puy En Velay\, 25 pl du marché couvert\, Le Puy-en-Velay\, 43000\, France
CATEGORIES:01 an +,Activité en semaine,Avec bébé dès la naissance,En famille,Intérieur,Tous les événements
END:VEVENT
BEGIN:VEVENT
DTSTART;TZID=Europe/Paris:20260418T160000
DTEND;TZID=Europe/Paris:20260418T180000
DTSTAMP:20260420T191745
CREATED:20260302T132025Z
LAST-MODIFIED:20260305T094751Z
UID:10013292-1776528000-1776535200@crocoule.org
SUMMARY:Le Puy-en-Velay | Atelier lacto-fermentation et macération
DESCRIPTION:Comprendre et faire ses lactofermentations\, « thé noir » sauvage\, sirops crus et vinaigres aux plantes sauvages. Un coin de livres inspirants sera mis à disposition. Par Charlie Braesch\, du Goût du sauvage. Public : adultes et enfants de + de 10 ans. Prix libre\, sur inscription. \n\n\n	Similaire
URL:https://crocoule.org/notre-evenement/le-puy-en-velay-atelier-lacto-fermentation-et-maceration/
LOCATION:Le P’tit Café – Le Puy En Velay\, 25 pl du marché couvert\, Le Puy-en-Velay\, 43000\, France
CATEGORIES:10 ans +,Activité du week-end,Activité pendant les vacances,Adultes,Intérieur,Tous les événements
END:VEVENT
BEGIN:VEVENT
DTSTART;TZID=Europe/Paris:20260417T100000
DTEND;TZID=Europe/Paris:20260417T110000
DTSTAMP:20260420T191745
CREATED:20260302T131809Z
LAST-MODIFIED:20260305T094235Z
UID:10013238-1776420000-1776423600@crocoule.org
SUMMARY:Le Puy-en-Velay | Voyage au coeur des sens
DESCRIPTION:Les enfants ont un pouvoir : le pouvoir des sens ! Un atelier pour découvrir son corps en nourrissant et développant ses sens. Le p’tit Café propose aux parents et aux enfants d’expérimenter et de vivre leurs sens : le toucher\, l’ouïe\, la vue\, l’odorat\, le goût\, la proprioception\, la thermoception\, etc. Sans inscription\, prix libre. \n\n\n	Similaire
URL:https://crocoule.org/notre-evenement/le-puy-en-velay-voyage-au-coeur-des-sens-11/
LOCATION:Le P’tit Café – Le Puy En Velay\, 25 pl du marché couvert\, Le Puy-en-Velay\, 43000\, France
CATEGORIES:01 an +,Activité en semaine,Activité pendant les vacances,En famille,Intérieur,Tous les événements
END:VEVENT
BEGIN:VEVENT
DTSTART;TZID=Europe/Paris:20260415T150000
DTEND;TZID=Europe/Paris:20260415T170000
DTSTAMP:20260420T191745
CREATED:20260302T132031Z
LAST-MODIFIED:20260305T094754Z
UID:10013300-1776265200-1776272400@crocoule.org
SUMMARY:Le Puy-en-Velay | Tricot-crochet
DESCRIPTION:Ateliers tricot-crochet avec Bernadette et ses copines ! \n\n\n	Similaire
URL:https://crocoule.org/notre-evenement/le-puy-en-velay-tricot-crochet-7/
LOCATION:Le P’tit Café – Le Puy En Velay\, 25 pl du marché couvert\, Le Puy-en-Velay\, 43000\, France
CATEGORIES:04 ans +,Activité en semaine,Adultes,En famille,Intérieur,Tous les événements
END:VEVENT
BEGIN:VEVENT
DTSTART;TZID=Europe/Paris:20260415T100000
DTEND;TZID=Europe/Paris:20260415T180000
DTSTAMP:20260420T191745
CREATED:20260302T131958Z
LAST-MODIFIED:20260305T094739Z
UID:10013281-1776247200-1776276000@crocoule.org
SUMMARY:Le Puy-en-Velay | Les mercredis on joue !
DESCRIPTION:De nouveaux jeux de la Ludothèque\, à partager seul.e ou en famille\, pour grands et petits. L’occasion de découvrir ou redécouvrir le p’tit Café\, ce lieu d’accueil chaleureux pour les familles. \n\n\n	Similaire
URL:https://crocoule.org/notre-evenement/le-puy-en-velay-les-mercredis-on-joue-19/
LOCATION:Le P’tit Café – Le Puy En Velay\, 25 pl du marché couvert\, Le Puy-en-Velay\, 43000\, France
CATEGORIES:03 ans +,Activité en semaine,Adultes,En famille,Gratuit,Intérieur,Tous les événements
END:VEVENT
BEGIN:VEVENT
DTSTART;TZID=Europe/Paris:20260415T100000
DTEND;TZID=Europe/Paris:20260415T113000
DTSTAMP:20260420T191745
CREATED:20260302T131940Z
LAST-MODIFIED:20260305T094656Z
UID:10013270-1776247200-1776252600@crocoule.org
SUMMARY:Le Puy-en-Velay | Atelier Patouille
DESCRIPTION:Un atelier parents/enfants en accès libre autour d’une activité manuelle ou sensorielle \n\n\n	Similaire
URL:https://crocoule.org/notre-evenement/le-puy-en-velay-atelier-patouille-41/
LOCATION:Le P’tit Café – Le Puy En Velay\, 25 pl du marché couvert\, Le Puy-en-Velay\, 43000\, France
CATEGORIES:01 an +,Activité en semaine,Activité pendant les vacances,En famille,Intérieur,Tous les événements
END:VEVENT
BEGIN:VEVENT
DTSTART;TZID=Europe/Paris:20260413T100000
DTEND;TZID=Europe/Paris:20260413T120000
DTSTAMP:20260420T191745
CREATED:20260302T131905Z
LAST-MODIFIED:20260305T094647Z
UID:10013254-1776074400-1776081600@crocoule.org
SUMMARY:Le Puy-en-Velay | Temps d'accueil parents/enfants
DESCRIPTION:L’occasion de passer un moment privilégié d’échanges et de jeux avec votre enfant dans un environnement adapté et chaleureux. Ouvert à toutes et tous\, sans inscription ni réservation\, gratuit et sans condition d’âge. Animé par l’équipe du p’tit Café. Accès llibre. \n\n\n	Similaire
URL:https://crocoule.org/notre-evenement/le-puy-en-velay-temps-daccueil-parents-enfants-44/
LOCATION:Le P’tit Café – Le Puy En Velay\, 25 pl du marché couvert\, Le Puy-en-Velay\, 43000\, France
CATEGORIES:01 an +,Activité en semaine,Activité pendant les vacances,Avec bébé dès la naissance,En famille,Intérieur,Tous les événements
END:VEVENT
BEGIN:VEVENT
DTSTART;TZID=Europe/Paris:20260410T100000
DTEND;TZID=Europe/Paris:20260410T110000
DTSTAMP:20260420T191745
CREATED:20260302T131808Z
LAST-MODIFIED:20260305T094234Z
UID:10013237-1775815200-1775818800@crocoule.org
SUMMARY:Le Puy-en-Velay | Voyage au coeur des sens
DESCRIPTION:Les enfants ont un pouvoir : le pouvoir des sens ! Un atelier pour découvrir son corps en nourrissant et développant ses sens. Le p’tit Café propose aux parents et aux enfants d’expérimenter et de vivre leurs sens : le toucher\, l’ouïe\, la vue\, l’odorat\, le goût\, la proprioception\, la thermoception\, etc. Sans inscription\, prix libre. \n\n\n	Similaire
URL:https://crocoule.org/notre-evenement/le-puy-en-velay-voyage-au-coeur-des-sens-10/
LOCATION:Le P’tit Café – Le Puy En Velay\, 25 pl du marché couvert\, Le Puy-en-Velay\, 43000\, France
CATEGORIES:01 an +,Activité en semaine,Activité pendant les vacances,En famille,Intérieur,Tous les événements
END:VEVENT
BEGIN:VEVENT
DTSTART;TZID=Europe/Paris:20260408T150000
DTEND;TZID=Europe/Paris:20260408T170000
DTSTAMP:20260420T191745
CREATED:20260302T132031Z
LAST-MODIFIED:20260305T094754Z
UID:10013299-1775660400-1775667600@crocoule.org
SUMMARY:Le Puy-en-Velay | Tricot-crochet
DESCRIPTION:Ateliers tricot-crochet avec Bernadette et ses copines ! \n\n\n	Similaire
URL:https://crocoule.org/notre-evenement/le-puy-en-velay-tricot-crochet-6/
LOCATION:Le P’tit Café – Le Puy En Velay\, 25 pl du marché couvert\, Le Puy-en-Velay\, 43000\, France
CATEGORIES:04 ans +,Activité en semaine,Adultes,En famille,Intérieur,Tous les événements
END:VEVENT
BEGIN:VEVENT
DTSTART;TZID=Europe/Paris:20260408T140000
DTEND;TZID=Europe/Paris:20260408T160000
DTSTAMP:20260420T191745
CREATED:20260302T132016Z
LAST-MODIFIED:20260305T094748Z
UID:10013291-1775656800-1775664000@crocoule.org
SUMMARY:Le Puy-en-Velay | Atelier Ecrire Nature
DESCRIPTION:Atelier de création d’encres inspirées des moines copistes et d’aquarelles. Jouer avec la chimie des plantes pour des expériences amusantes. Animé par Charlie Braesch\, du Goût du sauvage. Public : parents avec enfants de + de 6 ans. Enfants de + de 9 ans en autonomie.\nPrix libre\, sur inscription.  \n\n\n	Similaire
URL:https://crocoule.org/notre-evenement/le-puy-en-velay-atelier-ecrire-nature/
LOCATION:Le P’tit Café – Le Puy En Velay\, 25 pl du marché couvert\, Le Puy-en-Velay\, 43000\, France
CATEGORIES:06 ans +,Activité en semaine,Activité pendant les vacances,Adultes,Intérieur,Tous les événements
END:VEVENT
BEGIN:VEVENT
DTSTART;TZID=Europe/Paris:20260408T100000
DTEND;TZID=Europe/Paris:20260408T180000
DTSTAMP:20260420T191745
CREATED:20260302T131958Z
LAST-MODIFIED:20260305T094739Z
UID:10013280-1775642400-1775671200@crocoule.org
SUMMARY:Le Puy-en-Velay | Les mercredis on joue !
DESCRIPTION:De nouveaux jeux de la Ludothèque\, à partager seul.e ou en famille\, pour grands et petits. L’occasion de découvrir ou redécouvrir le p’tit Café\, ce lieu d’accueil chaleureux pour les familles. \n\n\n	Similaire
URL:https://crocoule.org/notre-evenement/le-puy-en-velay-les-mercredis-on-joue-18/
LOCATION:Le P’tit Café – Le Puy En Velay\, 25 pl du marché couvert\, Le Puy-en-Velay\, 43000\, France
CATEGORIES:03 ans +,Activité en semaine,Activité pendant les vacances,Adultes,En famille,Gratuit,Intérieur,Tous les événements
END:VEVENT
BEGIN:VEVENT
DTSTART;TZID=Europe/Paris:20260408T100000
DTEND;TZID=Europe/Paris:20260408T113000
DTSTAMP:20260420T191745
CREATED:20260302T131940Z
LAST-MODIFIED:20260305T094656Z
UID:10013269-1775642400-1775647800@crocoule.org
SUMMARY:Le Puy-en-Velay | Atelier Patouille
DESCRIPTION:Un atelier parents/enfants en accès libre autour d’une activité manuelle ou sensorielle \n\n\n	Similaire
URL:https://crocoule.org/notre-evenement/le-puy-en-velay-atelier-patouille-40/
LOCATION:Le P’tit Café – Le Puy En Velay\, 25 pl du marché couvert\, Le Puy-en-Velay\, 43000\, France
CATEGORIES:01 an +,Activité en semaine,Activité pendant les vacances,En famille,Intérieur,Tous les événements
END:VEVENT
BEGIN:VEVENT
DTSTART;TZID=Europe/Paris:20260404T170000
DTEND;TZID=Europe/Paris:20260404T180000
DTSTAMP:20260420T191745
CREATED:20260302T132008Z
LAST-MODIFIED:20260305T094745Z
UID:10013286-1775322000-1775325600@crocoule.org
SUMMARY:Le Puy-en-Velay | Yoga parents/enfants (3/6 ans)
DESCRIPTION:Venez passer un moment privilégié entre parent* et enfant (*ou grand-parent\, tante\, oncle\, parrain\, marraine…). Sous forme de voyage ludique\, ce temps vous invite à vous mettre à l’écoute de la relation et d’explorer votre lien à l’enfant\, aux autres\, en alternant jeux\, postures de yoga en duo. Par Carine Lerissel. \n\n\n	Similaire
URL:https://crocoule.org/notre-evenement/le-puy-en-velay-yoga-parents-enfants-3-6-ans-3/
LOCATION:Le P’tit Café – Le Puy En Velay\, 25 pl du marché couvert\, Le Puy-en-Velay\, 43000\, France
CATEGORIES:03 ans +,Activité du week-end,Activité pendant les vacances,Intérieur,Tous les événements
END:VEVENT
BEGIN:VEVENT
DTSTART;TZID=Europe/Paris:20260403T110000
DTEND;TZID=Europe/Paris:20260403T114500
DTSTAMP:20260420T191745
CREATED:20260302T131814Z
LAST-MODIFIED:20260305T094253Z
UID:10013243-1775214000-1775216700@crocoule.org
SUMMARY:Le Puy-en-Velay | Eveil musical parents/enfants
DESCRIPTION:Un eveil musical par Jean-Baptiste pour le plaisir des petits et des grands. Prix libre – sur inscription \n\n\n	Similaire
URL:https://crocoule.org/notre-evenement/le-puy-en-velay-eveil-musical-parents-enfants-2/
LOCATION:Le P’tit Café – Le Puy En Velay\, 25 pl du marché couvert\, Le Puy-en-Velay\, 43000\, France
CATEGORIES:01 an +,Activité en semaine,Avec bébé dès la naissance,En famille,Intérieur,Tous les événements
END:VEVENT
BEGIN:VEVENT
DTSTART;TZID=Europe/Paris:20260403T100000
DTEND;TZID=Europe/Paris:20260403T104500
DTSTAMP:20260420T191745
CREATED:20260302T131829Z
LAST-MODIFIED:20260305T094253Z
UID:10013244-1775210400-1775213100@crocoule.org
SUMMARY:Le Puy-en-Velay | Eveil musical parents/enfants
DESCRIPTION:Un eveil musical par Jean-Baptiste pour le plaisir des petits et des grands. Prix libre – sur inscription \n\n\n	Similaire
URL:https://crocoule.org/notre-evenement/le-puy-en-velay-eveil-musical-parents-enfants-3/
LOCATION:Le P’tit Café – Le Puy En Velay\, 25 pl du marché couvert\, Le Puy-en-Velay\, 43000\, France
CATEGORIES:01 an +,Activité en semaine,Avec bébé dès la naissance,En famille,Intérieur,Tous les événements
END:VEVENT
BEGIN:VEVENT
DTSTART;TZID=Europe/Paris:20260401T150000
DTEND;TZID=Europe/Paris:20260401T170000
DTSTAMP:20260420T191745
CREATED:20260302T132031Z
LAST-MODIFIED:20260305T094754Z
UID:10013298-1775055600-1775062800@crocoule.org
SUMMARY:Le Puy-en-Velay | Tricot-crochet
DESCRIPTION:Ateliers tricot-crochet avec Bernadette et ses copines ! \n\n\n	Similaire
URL:https://crocoule.org/notre-evenement/le-puy-en-velay-tricot-crochet-5/
LOCATION:Le P’tit Café – Le Puy En Velay\, 25 pl du marché couvert\, Le Puy-en-Velay\, 43000\, France
CATEGORIES:04 ans +,Activité en semaine,Adultes,En famille,Intérieur,Tous les événements
END:VEVENT
BEGIN:VEVENT
DTSTART;TZID=Europe/Paris:20260401T100000
DTEND;TZID=Europe/Paris:20260401T180000
DTSTAMP:20260420T191745
CREATED:20260302T131957Z
LAST-MODIFIED:20260305T094739Z
UID:10013279-1775037600-1775066400@crocoule.org
SUMMARY:Le Puy-en-Velay | Les mercredis on joue !
DESCRIPTION:De nouveaux jeux de la Ludothèque\, à partager seul.e ou en famille\, pour grands et petits. L’occasion de découvrir ou redécouvrir le p’tit Café\, ce lieu d’accueil chaleureux pour les familles. \n\n\n	Similaire
URL:https://crocoule.org/notre-evenement/le-puy-en-velay-les-mercredis-on-joue-17/
LOCATION:Le P’tit Café – Le Puy En Velay\, 25 pl du marché couvert\, Le Puy-en-Velay\, 43000\, France
CATEGORIES:03 ans +,Activité en semaine,Activité pendant les vacances,Adultes,En famille,Gratuit,Intérieur,Tous les événements
END:VEVENT
BEGIN:VEVENT
DTSTART;TZID=Europe/Paris:20260401T100000
DTEND;TZID=Europe/Paris:20260401T113000
DTSTAMP:20260420T191745
CREATED:20260302T131940Z
LAST-MODIFIED:20260305T094656Z
UID:10013268-1775037600-1775043000@crocoule.org
SUMMARY:Le Puy-en-Velay | Atelier Patouille
DESCRIPTION:Un atelier parents/enfants en accès libre autour d’une activité manuelle ou sensorielle \n\n\n	Similaire
URL:https://crocoule.org/notre-evenement/le-puy-en-velay-atelier-patouille-39/
LOCATION:Le P’tit Café – Le Puy En Velay\, 25 pl du marché couvert\, Le Puy-en-Velay\, 43000\, France
CATEGORIES:01 an +,Activité en semaine,En famille,Intérieur,Tous les événements
END:VEVENT
BEGIN:VEVENT
DTSTART;TZID=Europe/Paris:20260330T100000
DTEND;TZID=Europe/Paris:20260330T120000
DTSTAMP:20260420T191745
CREATED:20260302T131905Z
LAST-MODIFIED:20260305T094647Z
UID:10013253-1774864800-1774872000@crocoule.org
SUMMARY:Le Puy-en-Velay | Temps d'accueil parents/enfants
DESCRIPTION:L’occasion de passer un moment privilégié d’échanges et de jeux avec votre enfant dans un environnement adapté et chaleureux. Ouvert à toutes et tous\, sans inscription ni réservation\, gratuit et sans condition d’âge. Animé par l’équipe du p’tit Café. Accès llibre. \n\n\n	Similaire
URL:https://crocoule.org/notre-evenement/le-puy-en-velay-temps-daccueil-parents-enfants-43/
LOCATION:Le P’tit Café – Le Puy En Velay\, 25 pl du marché couvert\, Le Puy-en-Velay\, 43000\, France
CATEGORIES:01 an +,Activité en semaine,Avec bébé dès la naissance,En famille,Intérieur,Tous les événements
END:VEVENT
BEGIN:VEVENT
DTSTART;TZID=Europe/Paris:20260328T160000
DTEND;TZID=Europe/Paris:20260328T170000
DTSTAMP:20260420T191745
CREATED:20260302T131846Z
LAST-MODIFIED:20260305T094457Z
UID:10013249-1774713600-1774717200@crocoule.org
SUMMARY:Le Puy-en-Velay | Yoga enfant (6-9 ans)
DESCRIPTION:Viens découvrir le yoga\, les postures\, la relaxation avec Christelle Brives. Sur Inscription. prix libre. \n\n\n	Similaire
URL:https://crocoule.org/notre-evenement/le-puy-en-velay-yoga-enfant-6-9-ans/
LOCATION:Le P’tit Café – Le Puy En Velay\, 25 pl du marché couvert\, Le Puy-en-Velay\, 43000\, France
CATEGORIES:06 ans +,Activité du week-end,Intérieur,Tous les événements
END:VEVENT
BEGIN:VEVENT
DTSTART;TZID=Europe/Paris:20260327T100000
DTEND;TZID=Europe/Paris:20260327T110000
DTSTAMP:20260420T191745
CREATED:20260302T131807Z
LAST-MODIFIED:20260305T094234Z
UID:10013236-1774605600-1774609200@crocoule.org
SUMMARY:Le Puy-en-Velay | Voyage au coeur des sens
DESCRIPTION:Les enfants ont un pouvoir : le pouvoir des sens ! Un atelier pour découvrir son corps en nourrissant et développant ses sens. Le p’tit Café propose aux parents et aux enfants d’expérimenter et de vivre leurs sens : le toucher\, l’ouïe\, la vue\, l’odorat\, le goût\, la proprioception\, la thermoception\, etc. Sans inscription\, prix libre. \n\n\n	Similaire
URL:https://crocoule.org/notre-evenement/le-puy-en-velay-voyage-au-coeur-des-sens-9/
LOCATION:Le P’tit Café – Le Puy En Velay\, 25 pl du marché couvert\, Le Puy-en-Velay\, 43000\, France
CATEGORIES:01 an +,Activité en semaine,En famille,Intérieur,Tous les événements
END:VEVENT
BEGIN:VEVENT
DTSTART;TZID=Europe/Paris:20260325T150000
DTEND;TZID=Europe/Paris:20260325T170000
DTSTAMP:20260420T191745
CREATED:20260302T132031Z
LAST-MODIFIED:20260305T094754Z
UID:10013297-1774450800-1774458000@crocoule.org
SUMMARY:Le Puy-en-Velay | Tricot-crochet
DESCRIPTION:Ateliers tricot-crochet avec Bernadette et ses copines ! \n\n\n	Similaire
URL:https://crocoule.org/notre-evenement/le-puy-en-velay-tricot-crochet-4/
LOCATION:Le P’tit Café – Le Puy En Velay\, 25 pl du marché couvert\, Le Puy-en-Velay\, 43000\, France
CATEGORIES:04 ans +,Activité en semaine,Adultes,En famille,Intérieur,Tous les événements
END:VEVENT
BEGIN:VEVENT
DTSTART;TZID=Europe/Paris:20260325T100000
DTEND;TZID=Europe/Paris:20260325T180000
DTSTAMP:20260420T191745
CREATED:20260302T131957Z
LAST-MODIFIED:20260305T094738Z
UID:10013278-1774432800-1774461600@crocoule.org
SUMMARY:Le Puy-en-Velay | Les mercredis on joue !
DESCRIPTION:De nouveaux jeux de la Ludothèque\, à partager seul.e ou en famille\, pour grands et petits. L’occasion de découvrir ou redécouvrir le p’tit Café\, ce lieu d’accueil chaleureux pour les familles. \n\n\n	Similaire
URL:https://crocoule.org/notre-evenement/le-puy-en-velay-les-mercredis-on-joue-16/
LOCATION:Le P’tit Café – Le Puy En Velay\, 25 pl du marché couvert\, Le Puy-en-Velay\, 43000\, France
CATEGORIES:03 ans +,Activité en semaine,Adultes,En famille,Gratuit,Intérieur,Tous les événements
END:VEVENT
BEGIN:VEVENT
DTSTART;TZID=Europe/Paris:20260325T100000
DTEND;TZID=Europe/Paris:20260325T113000
DTSTAMP:20260420T191745
CREATED:20260302T131940Z
LAST-MODIFIED:20260305T094656Z
UID:10013267-1774432800-1774438200@crocoule.org
SUMMARY:Le Puy-en-Velay | Atelier Patouille
DESCRIPTION:Un atelier parents/enfants en accès libre autour d’une activité manuelle ou sensorielle \n\n\n	Similaire
URL:https://crocoule.org/notre-evenement/le-puy-en-velay-atelier-patouille-38/
LOCATION:Le P’tit Café – Le Puy En Velay\, 25 pl du marché couvert\, Le Puy-en-Velay\, 43000\, France
CATEGORIES:01 an +,Activité en semaine,En famille,Intérieur,Tous les événements
END:VEVENT
BEGIN:VEVENT
DTSTART;TZID=Europe/Paris:20260321T110000
DTEND;TZID=Europe/Paris:20260321T120000
DTSTAMP:20260420T191745
CREATED:20260302T131846Z
LAST-MODIFIED:20260305T094457Z
UID:10013248-1774090800-1774094400@crocoule.org
SUMMARY:Le Puy-en-Velay | « C’est pas moi\, c’est mes réflexes !! » Atelier parents/enfants 2/6 ans.
DESCRIPTION:Je peux déglutir sans m’étouffer ? Mettre mes mains en avant quand je tombe ? C’est grâce aux mouvements réflexes ! Mais quand je tourne ma tête et que tout mon corps suit le mouvement ? Et que je mordille tout le temps quelque chose alors que je ne suis plus un bébé ? C’est encore un coup des mouvements réflexes !\nUn atelier ludique et tout en douceur\, à base de jeux réflexes et d’outils Montessori\, pour explorer avec votre enfant ces mouvements innés et inconscients qui gèrent – ou qui gênent ! – nos apprentissages\, nos émotions\, notre corps en équilibre et en mouvement.Atelier animé par Agnès Lafouge\, éducatrice et formatrice en mouvements réflexes et pédagogie Montessori. Sur inscription\, prix libre. \n\n\n	Similaire
URL:https://crocoule.org/notre-evenement/le-puy-en-velay-cest-pas-moi-cest-mes-reflexes-atelier-parents-enfants-2-6-ans-4/
LOCATION:Le P’tit Café – Le Puy En Velay\, 25 pl du marché couvert\, Le Puy-en-Velay\, 43000\, France
CATEGORIES:02 ans +,Activité du week-end,Adultes,Intérieur,Tous les événements
END:VEVENT
BEGIN:VEVENT
DTSTART;TZID=Europe/Paris:20260321T100000
DTEND;TZID=Europe/Paris:20260321T110000
DTSTAMP:20260420T191745
CREATED:20260302T131846Z
LAST-MODIFIED:20260305T094456Z
UID:10013247-1774087200-1774090800@crocoule.org
SUMMARY:Le Puy-en-Velay | « C’est pas moi\, c’est mes réflexes !! » Atelier parents/enfants 2/6 ans.
DESCRIPTION:Je peux déglutir sans m’étouffer ? Mettre mes mains en avant quand je tombe ? C’est grâce aux mouvements réflexes ! Mais quand je tourne ma tête et que tout mon corps suit le mouvement ? Et que je mordille tout le temps quelque chose alors que je ne suis plus un bébé ? C’est encore un coup des mouvements réflexes !\nUn atelier ludique et tout en douceur\, à base de jeux réflexes et d’outils Montessori\, pour explorer avec votre enfant ces mouvements innés et inconscients qui gèrent – ou qui gênent ! – nos apprentissages\, nos émotions\, notre corps en équilibre et en mouvement.Atelier animé par Agnès Lafouge\, éducatrice et formatrice en mouvements réflexes et pédagogie Montessori. Sur inscription\, prix libre. \n\n\n	Similaire
URL:https://crocoule.org/notre-evenement/le-puy-en-velay-cest-pas-moi-cest-mes-reflexes-atelier-parents-enfants-2-6-ans-3/
LOCATION:Le P’tit Café – Le Puy En Velay\, 25 pl du marché couvert\, Le Puy-en-Velay\, 43000\, France
CATEGORIES:02 ans +,Activité du week-end,Adultes,Intérieur,Tous les événements
END:VEVENT
BEGIN:VEVENT
DTSTART;TZID=Europe/Paris:20260320T100000
DTEND;TZID=Europe/Paris:20260320T110000
DTSTAMP:20260420T191745
CREATED:20260302T131807Z
LAST-MODIFIED:20260305T094234Z
UID:10013235-1774000800-1774004400@crocoule.org
SUMMARY:Le Puy-en-Velay | Voyage au coeur des sens
DESCRIPTION:Les enfants ont un pouvoir : le pouvoir des sens ! Un atelier pour découvrir son corps en nourrissant et développant ses sens. Le p’tit Café propose aux parents et aux enfants d’expérimenter et de vivre leurs sens : le toucher\, l’ouïe\, la vue\, l’odorat\, le goût\, la proprioception\, la thermoception\, etc. Sans inscription\, prix libre. \n\n\n	Similaire
URL:https://crocoule.org/notre-evenement/le-puy-en-velay-voyage-au-coeur-des-sens-8/
LOCATION:Le P’tit Café – Le Puy En Velay\, 25 pl du marché couvert\, Le Puy-en-Velay\, 43000\, France
CATEGORIES:01 an +,Activité en semaine,En famille,Intérieur,Tous les événements
END:VEVENT
BEGIN:VEVENT
DTSTART;TZID=Europe/Paris:20260318T150000
DTEND;TZID=Europe/Paris:20260318T170000
DTSTAMP:20260420T191745
CREATED:20260302T132030Z
LAST-MODIFIED:20260305T094754Z
UID:10013296-1773846000-1773853200@crocoule.org
SUMMARY:Le Puy-en-Velay | Tricot-crochet
DESCRIPTION:Ateliers tricot-crochet avec Bernadette et ses copines ! \n\n\n	Similaire
URL:https://crocoule.org/notre-evenement/le-puy-en-velay-tricot-crochet-3/
LOCATION:Le P’tit Café – Le Puy En Velay\, 25 pl du marché couvert\, Le Puy-en-Velay\, 43000\, France
CATEGORIES:04 ans +,Activité en semaine,Adultes,En famille,Intérieur,Tous les événements
END:VEVENT
BEGIN:VEVENT
DTSTART;TZID=Europe/Paris:20260318T110000
DTEND;TZID=Europe/Paris:20260318T120000
DTSTAMP:20260420T191745
CREATED:20260302T131831Z
LAST-MODIFIED:20260305T094253Z
UID:10013246-1773831600-1773835200@crocoule.org
SUMMARY:Le Puy-en-Velay | « C’est pas moi\, c’est mes réflexes !! » Atelier parents/enfants 2/6 ans.
DESCRIPTION:Je peux déglutir sans m’étouffer ? Mettre mes mains en avant quand je tombe ? C’est grâce aux mouvements réflexes ! Mais quand je tourne ma tête et que tout mon corps suit le mouvement ? Et que je mordille tout le temps quelque chose alors que je ne suis plus un bébé ? C’est encore un coup des mouvements réflexes !\nUn atelier ludique et tout en douceur\, à base de jeux réflexes et d’outils Montessori\, pour explorer avec votre enfant ces mouvements innés et inconscients qui gèrent – ou qui gênent ! – nos apprentissages\, nos émotions\, notre corps en équilibre et en mouvement.Atelier animé par Agnès Lafouge\, éducatrice et formatrice en mouvements réflexes et pédagogie Montessori. Sur inscription\, prix libre. \n\n\n	Similaire
URL:https://crocoule.org/notre-evenement/le-puy-en-velay-cest-pas-moi-cest-mes-reflexes-atelier-parents-enfants-2-6-ans-2/
LOCATION:Le P’tit Café – Le Puy En Velay\, 25 pl du marché couvert\, Le Puy-en-Velay\, 43000\, France
CATEGORIES:02 ans +,Activité en semaine,Adultes,Intérieur,Tous les événements
END:VEVENT
BEGIN:VEVENT
DTSTART;TZID=Europe/Paris:20260318T100000
DTEND;TZID=Europe/Paris:20260318T180000
DTSTAMP:20260420T191745
CREATED:20260302T131957Z
LAST-MODIFIED:20260305T094738Z
UID:10013277-1773828000-1773856800@crocoule.org
SUMMARY:Le Puy-en-Velay | Les mercredis on joue !
DESCRIPTION:De nouveaux jeux de la Ludothèque\, à partager seul.e ou en famille\, pour grands et petits. L’occasion de découvrir ou redécouvrir le p’tit Café\, ce lieu d’accueil chaleureux pour les familles. \n\n\n	Similaire
URL:https://crocoule.org/notre-evenement/le-puy-en-velay-les-mercredis-on-joue-15/
LOCATION:Le P’tit Café – Le Puy En Velay\, 25 pl du marché couvert\, Le Puy-en-Velay\, 43000\, France
CATEGORIES:03 ans +,Activité en semaine,Adultes,En famille,Gratuit,Intérieur,Tous les événements
END:VEVENT
END:VCALENDAR