BEGIN:VCALENDAR
VERSION:2.0
PRODID:-//Crocoule - ECPv6.15.15//NONSGML v1.0//EN
CALSCALE:GREGORIAN
METHOD:PUBLISH
X-WR-CALNAME:Crocoule
X-ORIGINAL-URL:https://crocoule.org
X-WR-CALDESC:Évènements pour Crocoule
REFRESH-INTERVAL;VALUE=DURATION:PT1H
X-Robots-Tag:noindex
X-PUBLISHED-TTL:PT1H
BEGIN:VTIMEZONE
TZID:Europe/Paris
BEGIN:DAYLIGHT
TZOFFSETFROM:+0100
TZOFFSETTO:+0200
TZNAME:CEST
DTSTART:20240331T010000
END:DAYLIGHT
BEGIN:STANDARD
TZOFFSETFROM:+0200
TZOFFSETTO:+0100
TZNAME:CET
DTSTART:20241027T010000
END:STANDARD
BEGIN:DAYLIGHT
TZOFFSETFROM:+0100
TZOFFSETTO:+0200
TZNAME:CEST
DTSTART:20250330T010000
END:DAYLIGHT
BEGIN:STANDARD
TZOFFSETFROM:+0200
TZOFFSETTO:+0100
TZNAME:CET
DTSTART:20251026T010000
END:STANDARD
BEGIN:DAYLIGHT
TZOFFSETFROM:+0100
TZOFFSETTO:+0200
TZNAME:CEST
DTSTART:20260329T010000
END:DAYLIGHT
BEGIN:STANDARD
TZOFFSETFROM:+0200
TZOFFSETTO:+0100
TZNAME:CET
DTSTART:20261025T010000
END:STANDARD
END:VTIMEZONE
BEGIN:VEVENT
DTSTART;TZID=Europe/Paris:20250215T100000
DTEND;TZID=Europe/Paris:20250215T123000
DTSTAMP:20260420T170907
CREATED:20250311T103529Z
LAST-MODIFIED:20250311T103529Z
UID:10010322-1739613600-1739622600@crocoule.org
SUMMARY:Saint Etienne | Le Magasin en Herbe
DESCRIPTION:Au programme : échauffe-toi\, improvise joyeusement\, discute intensément\, crée librement et documente tout cela en t’amusant. Un espace pour proposer et tester des idées\, les partager avec les autres\, et voir ce qui est possible ensemble! Artiste en herbe ! Viens t’exprimer\, t’aventurer vers des domaines innatendus et découvrir de nouveaux points de vue. Une initiation à l’art contemporain sous toutes ses formes\, amusante\, sensible et riche. Conduit par Emilie Birraux\, danseuse et professeure diplômée d’Etat \n\n\n	Similaire
URL:https://crocoule.org/notre-evenement/saint-etienne-le-magasin-en-herbe/
LOCATION:Le Magasin\, 20 Rue Honoré de Balzac\, SAINT ÉTIENNE\, Rhône-Alpes\, 42000\, France
CATEGORIES:Activité du week-end,Jeune Public,Tous les événements
END:VEVENT
END:VCALENDAR