BEGIN:VCALENDAR
VERSION:2.0
PRODID:-//Crocoule - ECPv6.15.15//NONSGML v1.0//EN
CALSCALE:GREGORIAN
METHOD:PUBLISH
X-ORIGINAL-URL:https://crocoule.org
X-WR-CALDESC:Évènements pour Crocoule
REFRESH-INTERVAL;VALUE=DURATION:PT1H
X-Robots-Tag:noindex
X-PUBLISHED-TTL:PT1H
BEGIN:VTIMEZONE
TZID:Europe/Paris
BEGIN:DAYLIGHT
TZOFFSETFROM:+0100
TZOFFSETTO:+0200
TZNAME:CEST
DTSTART:20240331T010000
END:DAYLIGHT
BEGIN:STANDARD
TZOFFSETFROM:+0200
TZOFFSETTO:+0100
TZNAME:CET
DTSTART:20241027T010000
END:STANDARD
BEGIN:DAYLIGHT
TZOFFSETFROM:+0100
TZOFFSETTO:+0200
TZNAME:CEST
DTSTART:20250330T010000
END:DAYLIGHT
BEGIN:STANDARD
TZOFFSETFROM:+0200
TZOFFSETTO:+0100
TZNAME:CET
DTSTART:20251026T010000
END:STANDARD
BEGIN:DAYLIGHT
TZOFFSETFROM:+0100
TZOFFSETTO:+0200
TZNAME:CEST
DTSTART:20260329T010000
END:DAYLIGHT
BEGIN:STANDARD
TZOFFSETFROM:+0200
TZOFFSETTO:+0100
TZNAME:CET
DTSTART:20261025T010000
END:STANDARD
END:VTIMEZONE
BEGIN:VEVENT
DTSTART;TZID=Europe/Paris:20251011T100000
DTEND;TZID=Europe/Paris:20251011T170000
DTSTAMP:20260420T152421
CREATED:20250826T143030Z
LAST-MODIFIED:20250826T143030Z
UID:10011614-1760176800-1760202000@crocoule.org
SUMMARY:Saint-Étienne | ARCHILUDE au Magasin "Histoires de maisons"
DESCRIPTION:Viens écouter des histoires de maisons et fabriquer des « cabanes à lire » au Magasin\, le samedi 11 octobre de 10h00 à 17h00. 05 aires d’explorations créatives seront proposées pour inventer et habiter des cabanes à lire confortables et poétiques. Accès libre en continu sur 15 minutes où la journée selon tes envies.  \nAteliers famille à destination des 3 – 12 ans… et plus si affinités ! \n\n\n	Similaire
URL:https://crocoule.org/notre-evenement/saint-etienne-archilude-au-magasin-histoires-de-maisons-2/
LOCATION:Le Magasin\, 20 Rue Honoré de Balzac\, SAINT ÉTIENNE\, Rhône-Alpes\, 42000\, France
ORGANIZER;CN="Archilude":MAILTO:mailto:contact@archilude.fr
END:VEVENT
BEGIN:VEVENT
DTSTART;TZID=Europe/Paris:20251011T100000
DTEND;TZID=Europe/Paris:20251011T170000
DTSTAMP:20260420T152421
CREATED:20250826T143021Z
LAST-MODIFIED:20250826T143021Z
UID:10011609-1760176800-1760202000@crocoule.org
SUMMARY:Saint-Étienne | ARCHILUDE au Magasin "Histoires de maisons"
DESCRIPTION:Viens écouter des histoires de maisons et fabriquer des « cabanes à lire » au Magasin\, le samedi 11 octobre de 10h00 à 17h00. 05 aires d’explorations créatives seront proposées pour inventer et habiter des cabanes à lire confortables et poétiques. Accès libre en continu sur 15 minutes où la journée selon tes envies.  \nAteliers famille à destination des 3 – 12 ans… et plus si affinités ! \n\n\n	Similaire
URL:https://crocoule.org/notre-evenement/saint-etienne-archilude-au-magasin-histoires-de-maisons/
LOCATION:Le Magasin\, 20 Rue Honoré de Balzac\, SAINT ÉTIENNE\, Rhône-Alpes\, 42000\, France
CATEGORIES:En famille,Tous les événements
ORGANIZER;CN="Archilude":MAILTO:mailto:contact@archilude.fr
END:VEVENT
BEGIN:VEVENT
DTSTART;TZID=Europe/Paris:20250919T100000
DTEND;TZID=Europe/Paris:20250920T180000
DTSTAMP:20260420T152421
CREATED:20250826T143028Z
LAST-MODIFIED:20250826T143028Z
UID:10011613-1758276000-1758391200@crocoule.org
SUMMARY:Saint-Étienne | ARCHILUDE au Magasin JEP thématique "Patrimoine Architectural"
DESCRIPTION:Rendez-vous au Magasin\, le vendredi 19 et samedi 20 septembre dans le cadre des Journées Européennes du Patrimoine. Balades et ateliers d’expérimentations en architecture en libre accès à partir de 10h00 et jusqu’à 18h00. Le principe ? Des parcours thématiques pour observer et dessiner des architectures singulières au départ du Magasin mais aussi du matériel sur place pour des expérimentations créatives en 2d et 3d. Accès libre en continu sur 15 minutes où à la journée selon les envies. Ateliers famille à destination des 3 – 12 ans… et plus si affinités ! \n\n\n	Similaire
URL:https://crocoule.org/notre-evenement/saint-etienne-archilude-au-magasin-jep-thematique-patrimoine-architectural-2/
LOCATION:Le Magasin\, 20 Rue Honoré de Balzac\, SAINT ÉTIENNE\, Rhône-Alpes\, 42000\, France
ORGANIZER;CN="Archilude":MAILTO:mailto:contact@archilude.fr
END:VEVENT
BEGIN:VEVENT
DTSTART;TZID=Europe/Paris:20250919T100000
DTEND;TZID=Europe/Paris:20250920T180000
DTSTAMP:20260420T152421
CREATED:20250826T143020Z
LAST-MODIFIED:20250826T143020Z
UID:10011608-1758276000-1758391200@crocoule.org
SUMMARY:Saint-Étienne | ARCHILUDE au Magasin JEP thématique "Patrimoine Architectural"
DESCRIPTION:Rendez-vous au Magasin\, le vendredi 19 et samedi 20 septembre dans le cadre des Journées Européennes du Patrimoine. Balades et ateliers d’expérimentations en architecture en libre accès à partir de 10h00 et jusqu’à 18h00. Le principe ? Des parcours thématiques pour observer et dessiner des architectures singulières au départ du Magasin mais aussi du matériel sur place pour des expérimentations créatives en 2d et 3d. Accès libre en continu sur 15 minutes où à la journée selon les envies. Ateliers famille à destination des 3 – 12 ans… et plus si affinités ! \n\n\n	Similaire
URL:https://crocoule.org/notre-evenement/saint-etienne-archilude-au-magasin-jep-thematique-patrimoine-architectural/
LOCATION:Le Magasin\, 20 Rue Honoré de Balzac\, SAINT ÉTIENNE\, Rhône-Alpes\, 42000\, France
CATEGORIES:En famille,Tous les événements
ORGANIZER;CN="Archilude":MAILTO:mailto:contact@archilude.fr
END:VEVENT
BEGIN:VEVENT
DTSTART;TZID=Europe/Paris:20250625T100000
DTEND;TZID=Europe/Paris:20250625T170000
DTSTAMP:20260420T152421
CREATED:20250529T071827Z
LAST-MODIFIED:20250529T071827Z
UID:10011137-1750845600-1750870800@crocoule.org
SUMMARY:Saint-Étienne | L'ARCHITECTURE s'invite à la biennale du design...
DESCRIPTION:Voyage en Archilude s’installe au Magasin le temps d’un mercredi pour des ateliers d’expérimentations créatives. Au programme\, un écho architectural à la 13ème édition de la biennale du design « ressource(s) présager demain »\, qui se tient à Saint-Étienne jusqu’au 06 juillet 2025. 05 à 07 aires d’explorations créatives avec différentes matérialités pour « présager demain\, quels ressource(s) » en Architecture ? Accès libre en continu sur 15 minutes ou à la journée suivant les envies. Ateliers familles\, gratuit\, à destination des 3 – 12 ans… et plus si affinités. \n\n\n	Similaire
URL:https://crocoule.org/notre-evenement/saint-etienne-larchitecture-sinvite-a-la-biennale-du-design/
LOCATION:Le Magasin\, 20 Rue Honoré de Balzac\, SAINT ÉTIENNE\, Rhône-Alpes\, 42000\, France
CATEGORIES:En famille,Tous les événements
ORGANIZER;CN="Archilude":MAILTO:mailto:contact@archilude.fr
END:VEVENT
BEGIN:VEVENT
DTSTART;TZID=Europe/Paris:20250422T090000
DTEND;TZID=Europe/Paris:20250425T180000
DTSTAMP:20260420T152421
CREATED:20250130T092013Z
LAST-MODIFIED:20250310T104857Z
UID:10010329-1745312400-1745604000@crocoule.org
SUMMARY:Saint Etienne | #PETIT CORPS_LA COLO ARTISTIQUE DU MAGASIN
DESCRIPTION:  \nTu es curieux.ses\, tu veux participer à notre grande enquête sur le corps?\nRejoins-nous à la colonie du Magasin\, et deviens enquêteur/enquêtrice le temps des vacances.\nAu programme : (en cours) \n\n\n	Similaire
URL:https://crocoule.org/notre-evenement/saint-etienne-petit-corps_la-colo-artistique-du-magasin/
LOCATION:Le Magasin\, 20 Rue Honoré de Balzac\, SAINT ÉTIENNE\, Rhône-Alpes\, 42000\, France
CATEGORIES:Activité pendant les vacances,Jeune Public,Tous les événements
ATTACH;FMTTYPE=image/png:https://crocoule.org/wp-content/uploads/2025/01/colonie-le-magasin-.png
END:VEVENT
BEGIN:VEVENT
DTSTART;TZID=Europe/Paris:20250412T140000
DTEND;TZID=Europe/Paris:20250412T163000
DTSTAMP:20260420T152421
CREATED:20250130T092012Z
LAST-MODIFIED:20250130T092012Z
UID:10010328-1744466400-1744475400@crocoule.org
SUMMARY:Saint Etienne | Les Grandes Herbes
DESCRIPTION:Au programme : du temps pour sentir son corps\, s’échauffer\, se rencontrer\, danser\, improviser\, rêver! \nUne après-midi de danse\, où le corps poétique\, les mots\, le dessin\, l’imaginaire prennent le temps de se déployer. Nul besoin d’être expert\, l’atelier est une invitation à rencontrer l’Autre : ce / celui / celle que l’on ne connait pas encore\, sensiblement\, à tâtons\, ou d’un coup d’un seul\, qui sait ? \nDevenez une herbe folle\, rejoignez-nous! \nConduit par Emilie Birraux\, danseuse et professeure diplômée d’Etat \n\n\n	Similaire
URL:https://crocoule.org/notre-evenement/saint-etienne-les-grandes-herbes-3/
LOCATION:Le Magasin\, 20 Rue Honoré de Balzac\, SAINT ÉTIENNE\, Rhône-Alpes\, 42000\, France
CATEGORIES:Adultes,Tous les événements
END:VEVENT
BEGIN:VEVENT
DTSTART;TZID=Europe/Paris:20250412T100000
DTEND;TZID=Europe/Paris:20250412T123000
DTSTAMP:20260420T152421
CREATED:20250311T103533Z
LAST-MODIFIED:20250311T103533Z
UID:10010327-1744452000-1744461000@crocoule.org
SUMMARY:Saint Etienne | Le Magasin en Herbe
DESCRIPTION:Au programme : échauffe-toi\, improvise joyeusement\, discute intensément\, crée librement et documente tout cela en t’amusant. Un espace pour proposer et tester des idées\, les partager avec les autres\, et voir ce qui est possible ensemble! Artiste en herbe ! Viens t’exprimer\, t’aventurer vers des domaines innatendus et découvrir de nouveaux points de vue. Une initiation à l’art contemporain sous toutes ses formes\, amusante\, sensible et riche. Conduit par Emilie Birraux\, danseuse et professeure diplômée d’Etat \n\n\n	Similaire
URL:https://crocoule.org/notre-evenement/saint-etienne-le-magasin-en-herbe-3/
LOCATION:Le Magasin\, 20 Rue Honoré de Balzac\, SAINT ÉTIENNE\, Rhône-Alpes\, 42000\, France
CATEGORIES:Activité du week-end,Jeune Public,Tous les événements
END:VEVENT
BEGIN:VEVENT
DTSTART;TZID=Europe/Paris:20250315T140000
DTEND;TZID=Europe/Paris:20250315T163000
DTSTAMP:20260420T152421
CREATED:20250130T092006Z
LAST-MODIFIED:20250130T092006Z
UID:10010326-1742047200-1742056200@crocoule.org
SUMMARY:Saint Etienne | Les Grandes Herbes
DESCRIPTION:Au programme : du temps pour sentir son corps\, s’échauffer\, se rencontrer\, danser\, improviser\, rêver! \nUne après-midi de danse\, où le corps poétique\, les mots\, le dessin\, l’imaginaire prennent le temps de se déployer. Nul besoin d’être expert\, l’atelier est une invitation à rencontrer l’Autre : ce / celui / celle que l’on ne connait pas encore\, sensiblement\, à tâtons\, ou d’un coup d’un seul\, qui sait ? \nDevenez une herbe folle\, rejoignez-nous! \nConduit par Emilie Birraux\, danseuse et professeure diplômée d’Etat \n\n\n	Similaire
URL:https://crocoule.org/notre-evenement/saint-etienne-les-grandes-herbes-2/
LOCATION:Le Magasin\, 20 Rue Honoré de Balzac\, SAINT ÉTIENNE\, Rhône-Alpes\, 42000\, France
CATEGORIES:Adultes,Tous les événements
ATTACH;FMTTYPE=image/png:https://crocoule.org/wp-content/uploads/2025/01/Visuel-1_5-1024x1024-KPX3sa.tmp_.png
END:VEVENT
BEGIN:VEVENT
DTSTART;TZID=Europe/Paris:20250315T100000
DTEND;TZID=Europe/Paris:20250315T123000
DTSTAMP:20260420T152421
CREATED:20250311T103531Z
LAST-MODIFIED:20250311T103531Z
UID:10010325-1742032800-1742041800@crocoule.org
SUMMARY:Saint Etienne | Le Magasin en Herbe
DESCRIPTION:Au programme : échauffe-toi\, improvise joyeusement\, discute intensément\, crée librement et documente tout cela en t’amusant. Un espace pour proposer et tester des idées\, les partager avec les autres\, et voir ce qui est possible ensemble! Artiste en herbe ! Viens t’exprimer\, t’aventurer vers des domaines innatendus et découvrir de nouveaux points de vue. Une initiation à l’art contemporain sous toutes ses formes\, amusante\, sensible et riche. Conduit par Emilie Birraux\, danseuse et professeure diplômée d’Etat \n\n\n	Similaire
URL:https://crocoule.org/notre-evenement/saint-etienne-le-magasin-en-herbe-2/
LOCATION:Le Magasin\, 20 Rue Honoré de Balzac\, SAINT ÉTIENNE\, Rhône-Alpes\, 42000\, France
CATEGORIES:Activité du week-end,Jeune Public,Tous les événements
END:VEVENT
BEGIN:VEVENT
DTSTART;TZID=Europe/Paris:20250228T150000
DTEND;TZID=Europe/Paris:20250228T170000
DTSTAMP:20260420T152421
CREATED:20250130T092003Z
LAST-MODIFIED:20250227T161841Z
UID:10010324-1740754800-1740762000@crocoule.org
SUMMARY:Saint Etienne | La Boom after work
DESCRIPTION:Le tout nouveau dance floor du Magasin\,\nUne fois par trimestre\, viens te reconnecter à ton corps dès la fin du travail et libérer les tensions de la semaine jusqu’à la fête totale sur le Dance Floor du Magasin.\nÇa commence tout en douceur avec un échauffement à la boum encadré par Mathieu Heyraud \n\n\n	Similaire
URL:https://crocoule.org/notre-evenement/saint-etienne-la-boom-after-work/
LOCATION:Le Magasin\, 20 Rue Honoré de Balzac\, SAINT ÉTIENNE\, Rhône-Alpes\, 42000\, France
CATEGORIES:En famille,Tous les événements
ATTACH;FMTTYPE=image/png:https://crocoule.org/wp-content/uploads/2025/01/Visuel-3_5-1024x1024-CWx0qg.tmp_.png
END:VEVENT
BEGIN:VEVENT
DTSTART;TZID=Europe/Paris:20250215T140000
DTEND;TZID=Europe/Paris:20250215T160000
DTSTAMP:20260420T152421
CREATED:20250130T092001Z
LAST-MODIFIED:20250130T092001Z
UID:10010323-1739628000-1739635200@crocoule.org
SUMMARY:Saint Etienne | Les Grandes Herbes
DESCRIPTION:Au programme : du temps pour sentir son corps\, s’échauffer\, se rencontrer\, danser\, improviser\, rêver! \nUne après-midi de danse\, où le corps poétique\, les mots\, le dessin\, l’imaginaire prennent le temps de se déployer. Nul besoin d’être expert\, l’atelier est une invitation à rencontrer l’Autre : ce / celui / celle que l’on ne connait pas encore\, sensiblement\, à tâtons\, ou d’un coup d’un seul\, qui sait ? \nDevenez une herbe folle\, rejoignez-nous! \nConduit par Emilie Birraux\, danseuse et professeure diplômée d’Etat \n\n\n	Similaire
URL:https://crocoule.org/notre-evenement/saint-etienne-les-grandes-herbes/
LOCATION:Le Magasin\, 20 Rue Honoré de Balzac\, SAINT ÉTIENNE\, Rhône-Alpes\, 42000\, France
CATEGORIES:Adultes,Tous les événements
ATTACH;FMTTYPE=image/png:https://crocoule.org/wp-content/uploads/2025/01/Visuel-1_5-1024x1024-KPX3sa.tmp_.png
END:VEVENT
BEGIN:VEVENT
DTSTART;TZID=Europe/Paris:20250215T100000
DTEND;TZID=Europe/Paris:20250215T123000
DTSTAMP:20260420T152421
CREATED:20250311T103529Z
LAST-MODIFIED:20250311T103529Z
UID:10010322-1739613600-1739622600@crocoule.org
SUMMARY:Saint Etienne | Le Magasin en Herbe
DESCRIPTION:Au programme : échauffe-toi\, improvise joyeusement\, discute intensément\, crée librement et documente tout cela en t’amusant. Un espace pour proposer et tester des idées\, les partager avec les autres\, et voir ce qui est possible ensemble! Artiste en herbe ! Viens t’exprimer\, t’aventurer vers des domaines innatendus et découvrir de nouveaux points de vue. Une initiation à l’art contemporain sous toutes ses formes\, amusante\, sensible et riche. Conduit par Emilie Birraux\, danseuse et professeure diplômée d’Etat \n\n\n	Similaire
URL:https://crocoule.org/notre-evenement/saint-etienne-le-magasin-en-herbe/
LOCATION:Le Magasin\, 20 Rue Honoré de Balzac\, SAINT ÉTIENNE\, Rhône-Alpes\, 42000\, France
CATEGORIES:Activité du week-end,Jeune Public,Tous les événements
END:VEVENT
END:VCALENDAR