BEGIN:VCALENDAR
VERSION:2.0
PRODID:-//Crocoule - ECPv6.15.15//NONSGML v1.0//EN
CALSCALE:GREGORIAN
METHOD:PUBLISH
X-ORIGINAL-URL:https://crocoule.org
X-WR-CALDESC:Évènements pour Crocoule
REFRESH-INTERVAL;VALUE=DURATION:PT1H
X-Robots-Tag:noindex
X-PUBLISHED-TTL:PT1H
BEGIN:VTIMEZONE
TZID:Europe/Paris
BEGIN:DAYLIGHT
TZOFFSETFROM:+0100
TZOFFSETTO:+0200
TZNAME:CEST
DTSTART:20230326T010000
END:DAYLIGHT
BEGIN:STANDARD
TZOFFSETFROM:+0200
TZOFFSETTO:+0100
TZNAME:CET
DTSTART:20231029T010000
END:STANDARD
BEGIN:DAYLIGHT
TZOFFSETFROM:+0100
TZOFFSETTO:+0200
TZNAME:CEST
DTSTART:20240331T010000
END:DAYLIGHT
BEGIN:STANDARD
TZOFFSETFROM:+0200
TZOFFSETTO:+0100
TZNAME:CET
DTSTART:20241027T010000
END:STANDARD
BEGIN:DAYLIGHT
TZOFFSETFROM:+0100
TZOFFSETTO:+0200
TZNAME:CEST
DTSTART:20250330T010000
END:DAYLIGHT
BEGIN:STANDARD
TZOFFSETFROM:+0200
TZOFFSETTO:+0100
TZNAME:CET
DTSTART:20251026T010000
END:STANDARD
END:VTIMEZONE
BEGIN:VEVENT
DTSTART;TZID=Europe/Paris:20240328T170000
DTEND;TZID=Europe/Paris:20240328T190000
DTSTAMP:20260420T210900
CREATED:20240124T091800Z
LAST-MODIFIED:20240416T171059Z
UID:10003001-1711645200-1711652400@crocoule.org
SUMMARY:Atelier bande dessinée avec Sojo
DESCRIPTION:Sojo\n06·95·45·07·05\nsojopictures@proton.me\nVenez découvrir ou développer\nvotre talent pour la bande dessinée et l’illustration ! De manière ludique\, l’atelier apprend àra conter une histoire en images\net à jouer avec les codes de la narration. Il permet de stimuler son imagination et de découvrir les infinies possibilités de l’art\nde la BD !\nDeux fois par mois Atelier de 2h : 25€ (tarif réduit pour plusieurs séances ou petits budgets)\nÀ partir de 6 ans \nLieu : le 23labo créatif INFOS =)https://ua6txqbhkkt.preview.infomaniak.website/le-23-labo-creatif-nouveau-lieu-stephanois/ \n  \n\n\n	Similaire
URL:https://crocoule.org/notre-evenement/atelier-bande-dessinee-avec-sojo-5/
LOCATION:le 23 labo créatif\, 23 rue roger salengro\, Saint Étienne\, Rhône-Alpes\, 42000\, France
CATEGORIES:06 ans +,Activité en semaine,Intérieur,Tous les événements
END:VEVENT
BEGIN:VEVENT
DTSTART;TZID=Europe/Paris:20240316T140000
DTEND;TZID=Europe/Paris:20240316T170000
DTSTAMP:20260420T210900
CREATED:20240124T092725Z
LAST-MODIFIED:20240124T092725Z
UID:10003006-1710597600-1710608400@crocoule.org
SUMMARY:Travaux d'aiguille
DESCRIPTION:Daniela est très active sur les réseaux « makondofaitmain » et propose des tas d’astuces pour sublimer vos vêtements ! D’ailleurs elle est aussi un peu poète car elle décrit son atelier ainsi :  « Bien + qu’une réparation c’est une célébration de l’amour pour vos vêtements et de la conscience écologique ! » Pour les enfants\, elle propose par exemple la création d’un doudou ! Trop choupinou… \nDès 8 ans \nCoordonnées : Daniela Gandulfo  06 12 28 23 44 \nMail : makondofaitmain@gmail.com \n  \n  \n\n\n	Similaire
URL:https://crocoule.org/notre-evenement/travaux-daiguille-4/
LOCATION:le 23 labo créatif\, 23 rue roger salengro\, Saint Étienne\, Rhône-Alpes\, 42000\, France
CATEGORIES:08 ans +,Activité du week-end,Intérieur
END:VEVENT
BEGIN:VEVENT
DTSTART;TZID=Europe/Paris:20240313T140000
DTEND;TZID=Europe/Paris:20240313T170000
DTSTAMP:20260420T210900
CREATED:20240124T092400Z
LAST-MODIFIED:20240124T092400Z
UID:10003004-1710338400-1710349200@crocoule.org
SUMMARY:Travaux d'aiguille
DESCRIPTION:Daniela est très active sur les réseaux « makondofaitmain » et propose des tas d’astuces pour sublimer vos vêtements ! D’ailleurs elle est aussi un peu poète car elle décrit son atelier ainsi :  « Bien + qu’une réparation c’est une célébration de l’amour pour vos vêtements et de la conscience écologique ! » Pour les enfants\, elle propose par exemple la création d’un doudou ! Trop choupinou… \nDès 8 ans \nCoordonnées : Daniela Gandulfo  06 12 28 23 44 \nMail : makondofaitmain@gmail.com \n  \n  \n\n\n	Similaire
URL:https://crocoule.org/notre-evenement/travaux-daiguille-3/
LOCATION:le 23 labo créatif\, 23 rue roger salengro\, Saint Étienne\, Rhône-Alpes\, 42000\, France
CATEGORIES:08 ans +,Activité en semaine,Intérieur
END:VEVENT
BEGIN:VEVENT
DTSTART;TZID=Europe/Paris:20240306T170000
DTEND;TZID=Europe/Paris:20240306T190000
DTSTAMP:20260420T210900
CREATED:20240124T091631Z
LAST-MODIFIED:20240124T091631Z
UID:10003000-1709744400-1709751600@crocoule.org
SUMMARY:Atelier bande dessinée avec Sojo
DESCRIPTION:Sojo\n06·95·45·07·05\nsojopictures@proton.me\nVenez découvrir ou développer\nvotre talent pour la bande dessinée et l’illustration ! De manière ludique\, l’atelier apprend àra conter une histoire en images\net à jouer avec les codes de la narration. Il permet de stimuler son imagination et de découvrir les infinies possibilités de l’art\nde la BD !\nDeux fois par mois Atelier de 2h : 25€ (tarif réduit pour plusieurs séances ou petits budgets)\nÀ partir de 6 ans \nLieu : le 23labo créatif INFOS =)https://ua6txqbhkkt.preview.infomaniak.website/le-23-labo-creatif-nouveau-lieu-stephanois/ \n  \n\n\n	Similaire
URL:https://crocoule.org/notre-evenement/atelier-bande-dessinee-avec-sojo-4/
LOCATION:le 23 labo créatif\, 23 rue roger salengro\, Saint Étienne\, Rhône-Alpes\, 42000\, France
CATEGORIES:06 ans +,Activité en semaine,Intérieur
END:VEVENT
BEGIN:VEVENT
DTSTART;TZID=Europe/Paris:20240217T140000
DTEND;TZID=Europe/Paris:20240217T170000
DTSTAMP:20260420T210900
CREATED:20240124T092250Z
LAST-MODIFIED:20240124T092250Z
UID:10003003-1708178400-1708189200@crocoule.org
SUMMARY:Travaux d'aiguille
DESCRIPTION:Daniela est très active sur les réseaux « makondofaitmain » et propose des tas d’astuces pour sublimer vos vêtements ! D’ailleurs elle est aussi un peu poète car elle décrit son atelier ainsi :  « Bien + qu’une réparation c’est une célébration de l’amour pour vos vêtements et de la conscience écologique ! » Pour les enfants\, elle propose par exemple la création d’un doudou ! Trop choupinou… \nDès 8 ans \nCoordonnées : Daniela Gandulfo  06 12 28 23 44 \nMail : makondofaitmain@gmail.com \n  \n  \n\n\n	Similaire
URL:https://crocoule.org/notre-evenement/travaux-daiguille-2/
LOCATION:le 23 labo créatif\, 23 rue roger salengro\, Saint Étienne\, Rhône-Alpes\, 42000\, France
CATEGORIES:08 ans +,Activité du week-end,Intérieur
END:VEVENT
BEGIN:VEVENT
DTSTART;TZID=Europe/Paris:20240215T170000
DTEND;TZID=Europe/Paris:20240215T190000
DTSTAMP:20260420T210900
CREATED:20240124T091439Z
LAST-MODIFIED:20240124T091439Z
UID:10002999-1708016400-1708023600@crocoule.org
SUMMARY:Atelier bande dessinée avec Sojo
DESCRIPTION:Sojo\n06·95·45·07·05\nsojopictures@proton.me\nVenez découvrir ou développer\nvotre talent pour la bande dessinée et l’illustration ! De manière ludique\, l’atelier apprend àra conter une histoire en images\net à jouer avec les codes de la narration. Il permet de stimuler son imagination et de découvrir les infinies possibilités de l’art\nde la BD !\nDeux fois par mois Atelier de 2h : 25€ (tarif réduit pour plusieurs séances ou petits budgets)\nÀ partir de 6 ans \nLieu : le 23labo créatif \n  \n\n\n	Similaire
URL:https://crocoule.org/notre-evenement/atelier-bande-dessinee-avec-sojo-3/
LOCATION:le 23 labo créatif\, 23 rue roger salengro\, Saint Étienne\, Rhône-Alpes\, 42000\, France
CATEGORIES:06 ans +,Activité en semaine,Intérieur
END:VEVENT
BEGIN:VEVENT
DTSTART;TZID=Europe/Paris:20240214T140000
DTEND;TZID=Europe/Paris:20240214T170000
DTSTAMP:20260420T210900
CREATED:20240124T092151Z
LAST-MODIFIED:20240124T092151Z
UID:10003002-1707919200-1707930000@crocoule.org
SUMMARY:Travaux d'aiguille
DESCRIPTION:Daniela est très active sur les réseaux « makondofaitmain » et propose des tas d’astuces pour sublimer vos vêtements ! D’ailleurs elle est aussi un peu poète car elle décrit son atelier ainsi :  « Bien + qu’une réparation c’est une célébration de l’amour pour vos vêtements et de la conscience écologique ! » Pour les enfants\, elle propose par exemple la création d’un doudou ! Trop choupinou… \nDès 8 ans \nCoordonnées : Daniela Gandulfo  06 12 28 23 44 \nMail : makondofaitmain@gmail.com \n  \n  \n\n\n	Similaire
URL:https://crocoule.org/notre-evenement/travaux-daiguille/
LOCATION:le 23 labo créatif\, 23 rue roger salengro\, Saint Étienne\, Rhône-Alpes\, 42000\, France
CATEGORIES:08 ans +,Activité en semaine,Intérieur
END:VEVENT
BEGIN:VEVENT
DTSTART;TZID=Europe/Paris:20240207T170000
DTEND;TZID=Europe/Paris:20240207T190000
DTSTAMP:20260420T210900
CREATED:20240124T091242Z
LAST-MODIFIED:20240124T091335Z
UID:10002998-1707325200-1707332400@crocoule.org
SUMMARY:Atelier bande dessinée avec Sojo
DESCRIPTION:Sojo\n06·95·45·07·05\nsojopictures@proton.me\nVenez découvrir ou développer\nvotre talent pour la bande dessinée et l’illustration ! De manière ludique\, l’atelier apprend àra conter une histoire en images\net à jouer avec les codes de la narration. Il permet de stimuler son imagination et de découvrir les infinies possibilités de l’art\nde la BD !\nDeux fois par mois Atelier de 2h : 25€ (tarif réduit pour plusieurs séances ou petits budgets)\nÀ partir de 6 ans \nLieu : le 23labo créatif \n  \n\n\n	Similaire
URL:https://crocoule.org/notre-evenement/atelier-bande-dessinee-avec-sojo-2/
LOCATION:le 23 labo créatif\, 23 rue roger salengro\, Saint Étienne\, Rhône-Alpes\, 42000\, France
CATEGORIES:06 ans +,Activité en semaine,Intérieur
END:VEVENT
BEGIN:VEVENT
DTSTART;TZID=Europe/Paris:20240125T170000
DTEND;TZID=Europe/Paris:20240125T190000
DTSTAMP:20260420T210900
CREATED:20240123T153956Z
LAST-MODIFIED:20240123T154235Z
UID:10002997-1706202000-1706209200@crocoule.org
SUMMARY:Atelier bande dessinée avec Sojo
DESCRIPTION:Sojo\n06·95·45·07·05\nsojopictures@proton.me\nVenez découvrir ou développer\nvotre talent pour la bande dessinée et l’illustration ! De manière ludique\, l’atelier apprend àra conter une histoire en images\net à jouer avec les codes de la narration. Il permet de stimuler son imagination et de découvrir les infinies possibilités de l’art\nde la BD !\nDeux fois par mois Atelier de 2h : 25€ (tarif réduit pour plusieurs séances ou petits budgets)\nÀ partir de 6 ans \nLieu : le 23labo créatif \n  \n\n\n	Similaire
URL:https://crocoule.org/notre-evenement/atelier-bande-dessinee-avec-sojo/
LOCATION:le 23 labo créatif\, 23 rue roger salengro\, Saint Étienne\, Rhône-Alpes\, 42000\, France
CATEGORIES:06 ans +,Activité en semaine,Intérieur
END:VEVENT
END:VCALENDAR